BEGIN:VCALENDAR
VERSION:2.0
PRODID:-//YGAMETIME.com//YGT iCal Creator//EN
METHOD:PUBLISH
X-PUBLISHED-TTL:PT6H
REFRESH-INTERVAL;VALUE=DURATION:PT6H
CALSCALE:GREGORIAN
X-WR-CALNAME:YGAMETIME CALENDAR
BEGIN:VTIMEZONE
TZID:America/Chicago
X-LIC-LOCATION:America/Chicago
BEGIN:DAYLIGHT
TZOFFSETFROM:-0600
TZOFFSETTO:-0500
TZNAME:CDT
DTSTART:19700308T020000
RRULE:FREQ=YEARLY;BYMONTH=3;BYDAY=2SU
END:DAYLIGHT
BEGIN:STANDARD
TZOFFSETFROM:-0500
TZOFFSETTO:-0600
TZNAME:CST
DTSTART:19701101T020000
RRULE:FREQ=YEARLY;BYMONTH=11;BYDAY=1SU
END:STANDARD
END:VTIMEZONE
BEGIN:VEVENT
UID:hays-41510@ygametime.com
DTSTAMP:20160116T170000Z
DTSTART;TZID=America/Chicago:20160116T110000
DURATION:PT0H60M0S
SUMMARY:Buffaloes vs Suns
DESCRIPTION:10-12 Year Old Boys Basketball | Basketball\nHays Communities Family YMCA\n
URL;VALUE=URI:https://ygametime.com/branch/hays/sports/2016-winter-basketball/1420/?utm_medium=calendar&utm_source=team_cal&utm_content=league_url#game-41510
LOCATION:Dahlstrom Middle School (Back Gym)
BEGIN:VALARM
TRIGGER:-P2H
ACTION:DISPLAY
DESCRIPTION:Buffaloes vs Suns
END:VALARM
END:VEVENT
BEGIN:VEVENT
UID:hays-41519@ygametime.com
DTSTAMP:20160123T210000Z
DTSTART;TZID=America/Chicago:20160123T150000
DURATION:PT0H60M0S
SUMMARY:Suns vs Pistons
DESCRIPTION:10-12 Year Old Boys Basketball | Basketball\nHays Communities Family YMCA\n
URL;VALUE=URI:https://ygametime.com/branch/hays/sports/2016-winter-basketball/1420/?utm_medium=calendar&utm_source=team_cal&utm_content=league_url#game-41519
LOCATION:Dahlstrom Middle School (Back Gym)
BEGIN:VALARM
TRIGGER:-P2H
ACTION:DISPLAY
DESCRIPTION:Suns vs Pistons
END:VALARM
END:VEVENT
BEGIN:VEVENT
UID:hays-41523@ygametime.com
DTSTAMP:20160130T200000Z
DTSTART;TZID=America/Chicago:20160130T140000
DURATION:PT0H60M0S
SUMMARY:Super Sonics vs Suns
DESCRIPTION:10-12 Year Old Boys Basketball | Basketball\nHays Communities Family YMCA\n
URL;VALUE=URI:https://ygametime.com/branch/hays/sports/2016-winter-basketball/1420/?utm_medium=calendar&utm_source=team_cal&utm_content=league_url#game-41523
LOCATION:Dahlstrom Middle School (Back Gym)
BEGIN:VALARM
TRIGGER:-P2H
ACTION:DISPLAY
DESCRIPTION:Super Sonics vs Suns
END:VALARM
END:VEVENT
BEGIN:VEVENT
UID:hays-41527@ygametime.com
DTSTAMP:20160206T190000Z
DTSTART;TZID=America/Chicago:20160206T130000
DURATION:PT0H60M0S
SUMMARY:Suns vs Bulls
DESCRIPTION:10-12 Year Old Boys Basketball | Basketball\nHays Communities Family YMCA\n
URL;VALUE=URI:https://ygametime.com/branch/hays/sports/2016-winter-basketball/1420/?utm_medium=calendar&utm_source=team_cal&utm_content=league_url#game-41527
LOCATION:Dahlstrom Middle School (Back Gym)
BEGIN:VALARM
TRIGGER:-P2H
ACTION:DISPLAY
DESCRIPTION:Suns vs Bulls
END:VALARM
END:VEVENT
BEGIN:VEVENT
UID:hays-41531@ygametime.com
DTSTAMP:20160213T180000Z
DTSTART;TZID=America/Chicago:20160213T120000
DURATION:PT0H60M0S
SUMMARY:76ers vs Suns
DESCRIPTION:10-12 Year Old Boys Basketball | Basketball\nHays Communities Family YMCA\n
URL;VALUE=URI:https://ygametime.com/branch/hays/sports/2016-winter-basketball/1420/?utm_medium=calendar&utm_source=team_cal&utm_content=league_url#game-41531
LOCATION:Dahlstrom Middle School (Back Gym)
BEGIN:VALARM
TRIGGER:-P2H
ACTION:DISPLAY
DESCRIPTION:76ers vs Suns
END:VALARM
END:VEVENT
BEGIN:VEVENT
UID:hays-41535@ygametime.com
DTSTAMP:20160220T170000Z
DTSTART;TZID=America/Chicago:20160220T110000
DURATION:PT0H60M0S
SUMMARY:Suns vs Spartans
DESCRIPTION:10-12 Year Old Boys Basketball | Basketball\nHays Communities Family YMCA\n
URL;VALUE=URI:https://ygametime.com/branch/hays/sports/2016-winter-basketball/1420/?utm_medium=calendar&utm_source=team_cal&utm_content=league_url#game-41535
LOCATION:Dahlstrom Middle School (Back Gym)
BEGIN:VALARM
TRIGGER:-P2H
ACTION:DISPLAY
DESCRIPTION:Suns vs Spartans
END:VALARM
END:VEVENT
BEGIN:VEVENT
UID:hays-41544@ygametime.com
DTSTAMP:20160227T210000Z
DTSTART;TZID=America/Chicago:20160227T150000
DURATION:PT0H60M0S
SUMMARY:Blue Jays vs Suns
DESCRIPTION:10-12 Year Old Boys Basketball | Basketball\nHays Communities Family YMCA\n
URL;VALUE=URI:https://ygametime.com/branch/hays/sports/2016-winter-basketball/1420/?utm_medium=calendar&utm_source=team_cal&utm_content=league_url#game-41544
LOCATION:Dahlstrom Middle School (Back Gym)
BEGIN:VALARM
TRIGGER:-P2H
ACTION:DISPLAY
DESCRIPTION:Blue Jays vs Suns
END:VALARM
END:VEVENT
BEGIN:VEVENT
UID:hays-41548@ygametime.com
DTSTAMP:20160305T200000Z
DTSTART;TZID=America/Chicago:20160305T140000
DURATION:PT0H60M0S
SUMMARY:Suns vs Badgers
DESCRIPTION:10-12 Year Old Boys Basketball | Basketball\nHays Communities Family YMCA\n
URL;VALUE=URI:https://ygametime.com/branch/hays/sports/2016-winter-basketball/1420/?utm_medium=calendar&utm_source=team_cal&utm_content=league_url#game-41548
LOCATION:Dahlstrom Middle School (Back Gym)
BEGIN:VALARM
TRIGGER:-P2H
ACTION:DISPLAY
DESCRIPTION:Suns vs Badgers
END:VALARM
END:VEVENT
END:VCALENDAR

