BEGIN:VCALENDAR
VERSION:2.0
PRODID:-//YGAMETIME.com//YGT iCal Creator//EN
METHOD:PUBLISH
X-PUBLISHED-TTL:PT6H
REFRESH-INTERVAL;VALUE=DURATION:PT6H
CALSCALE:GREGORIAN
X-WR-CALNAME:YGAMETIME CALENDAR
BEGIN:VTIMEZONE
TZID:America/Chicago
X-LIC-LOCATION:America/Chicago
BEGIN:DAYLIGHT
TZOFFSETFROM:-0600
TZOFFSETTO:-0500
TZNAME:CDT
DTSTART:19700308T020000
RRULE:FREQ=YEARLY;BYMONTH=3;BYDAY=2SU
END:DAYLIGHT
BEGIN:STANDARD
TZOFFSETFROM:-0500
TZOFFSETTO:-0600
TZNAME:CST
DTSTART:19701101T020000
RRULE:FREQ=YEARLY;BYMONTH=11;BYDAY=1SU
END:STANDARD
END:VTIMEZONE
BEGIN:VEVENT
UID:hays-41513@ygametime.com
DTSTAMP:20160116T200000Z
DTSTART;TZID=America/Chicago:20160116T140000
DURATION:PT0H60M0S
SUMMARY:Bulls vs Blue Jays
DESCRIPTION:10-12 Year Old Boys Basketball | Basketball\nHays Communities Family YMCA\n
URL;VALUE=URI:https://ygametime.com/branch/hays/sports/2016-winter-basketball/1420/?utm_medium=calendar&utm_source=team_cal&utm_content=league_url#game-41513
LOCATION:Dahlstrom Middle School (Back Gym)
BEGIN:VALARM
TRIGGER:-P2H
ACTION:DISPLAY
DESCRIPTION:Bulls vs Blue Jays
END:VALARM
END:VEVENT
BEGIN:VEVENT
UID:hays-41518@ygametime.com
DTSTAMP:20160123T200000Z
DTSTART;TZID=America/Chicago:20160123T140000
DURATION:PT0H60M0S
SUMMARY:Blue Jays vs Spartans
DESCRIPTION:10-12 Year Old Boys Basketball | Basketball\nHays Communities Family YMCA\n
URL;VALUE=URI:https://ygametime.com/branch/hays/sports/2016-winter-basketball/1420/?utm_medium=calendar&utm_source=team_cal&utm_content=league_url#game-41518
LOCATION:Dahlstrom Middle School (Back Gym)
BEGIN:VALARM
TRIGGER:-P2H
ACTION:DISPLAY
DESCRIPTION:Blue Jays vs Spartans
END:VALARM
END:VEVENT
BEGIN:VEVENT
UID:hays-41522@ygametime.com
DTSTAMP:20160130T190000Z
DTSTART;TZID=America/Chicago:20160130T130000
DURATION:PT0H60M0S
SUMMARY:Badgers vs Blue Jays
DESCRIPTION:10-12 Year Old Boys Basketball | Basketball\nHays Communities Family YMCA\n
URL;VALUE=URI:https://ygametime.com/branch/hays/sports/2016-winter-basketball/1420/?utm_medium=calendar&utm_source=team_cal&utm_content=league_url#game-41522
LOCATION:Dahlstrom Middle School (Back Gym)
BEGIN:VALARM
TRIGGER:-P2H
ACTION:DISPLAY
DESCRIPTION:Badgers vs Blue Jays
END:VALARM
END:VEVENT
BEGIN:VEVENT
UID:hays-41525@ygametime.com
DTSTAMP:20160206T170000Z
DTSTART;TZID=America/Chicago:20160206T110000
DURATION:PT0H60M0S
SUMMARY:Blue Jays vs Buffaloes
DESCRIPTION:10-12 Year Old Boys Basketball | Basketball\nHays Communities Family YMCA\n
URL;VALUE=URI:https://ygametime.com/branch/hays/sports/2016-winter-basketball/1420/?utm_medium=calendar&utm_source=team_cal&utm_content=league_url#game-41525
LOCATION:Dahlstrom Middle School (Back Gym)
BEGIN:VALARM
TRIGGER:-P2H
ACTION:DISPLAY
DESCRIPTION:Blue Jays vs Buffaloes
END:VALARM
END:VEVENT
BEGIN:VEVENT
UID:hays-41533@ygametime.com
DTSTAMP:20160213T200000Z
DTSTART;TZID=America/Chicago:20160213T140000
DURATION:PT0H60M0S
SUMMARY:Super Sonics vs Blue Jays
DESCRIPTION:10-12 Year Old Boys Basketball | Basketball\nHays Communities Family YMCA\n
URL;VALUE=URI:https://ygametime.com/branch/hays/sports/2016-winter-basketball/1420/?utm_medium=calendar&utm_source=team_cal&utm_content=league_url#game-41533
LOCATION:Dahlstrom Middle School (Back Gym)
BEGIN:VALARM
TRIGGER:-P2H
ACTION:DISPLAY
DESCRIPTION:Super Sonics vs Blue Jays
END:VALARM
END:VEVENT
BEGIN:VEVENT
UID:hays-41536@ygametime.com
DTSTAMP:20160220T180000Z
DTSTART;TZID=America/Chicago:20160220T120000
DURATION:PT0H60M0S
SUMMARY:Blue Jays vs 76ers
DESCRIPTION:10-12 Year Old Boys Basketball | Basketball\nHays Communities Family YMCA\n
URL;VALUE=URI:https://ygametime.com/branch/hays/sports/2016-winter-basketball/1420/?utm_medium=calendar&utm_source=team_cal&utm_content=league_url#game-41536
LOCATION:Dahlstrom Middle School (Back Gym)
BEGIN:VALARM
TRIGGER:-P2H
ACTION:DISPLAY
DESCRIPTION:Blue Jays vs 76ers
END:VALARM
END:VEVENT
BEGIN:VEVENT
UID:hays-41544@ygametime.com
DTSTAMP:20160227T210000Z
DTSTART;TZID=America/Chicago:20160227T150000
DURATION:PT0H60M0S
SUMMARY:Blue Jays vs Suns
DESCRIPTION:10-12 Year Old Boys Basketball | Basketball\nHays Communities Family YMCA\n
URL;VALUE=URI:https://ygametime.com/branch/hays/sports/2016-winter-basketball/1420/?utm_medium=calendar&utm_source=team_cal&utm_content=league_url#game-41544
LOCATION:Dahlstrom Middle School (Back Gym)
BEGIN:VALARM
TRIGGER:-P2H
ACTION:DISPLAY
DESCRIPTION:Blue Jays vs Suns
END:VALARM
END:VEVENT
BEGIN:VEVENT
UID:hays-41549@ygametime.com
DTSTAMP:20160305T210000Z
DTSTART;TZID=America/Chicago:20160305T150000
DURATION:PT0H60M0S
SUMMARY:Kings vs Blue Jays
DESCRIPTION:10-12 Year Old Boys Basketball | Basketball\nHays Communities Family YMCA\n
URL;VALUE=URI:https://ygametime.com/branch/hays/sports/2016-winter-basketball/1420/?utm_medium=calendar&utm_source=team_cal&utm_content=league_url#game-41549
LOCATION:Dahlstrom Middle School (Back Gym)
BEGIN:VALARM
TRIGGER:-P2H
ACTION:DISPLAY
DESCRIPTION:Kings vs Blue Jays
END:VALARM
END:VEVENT
END:VCALENDAR

