BEGIN:VCALENDAR
VERSION:2.0
PRODID:-//YGAMETIME.com//YGT iCal Creator//EN
METHOD:PUBLISH
X-PUBLISHED-TTL:PT6H
REFRESH-INTERVAL;VALUE=DURATION:PT6H
CALSCALE:GREGORIAN
X-WR-CALNAME:YGAMETIME CALENDAR
BEGIN:VTIMEZONE
TZID:America/Chicago
X-LIC-LOCATION:America/Chicago
BEGIN:DAYLIGHT
TZOFFSETFROM:-0600
TZOFFSETTO:-0500
TZNAME:CDT
DTSTART:19700308T020000
RRULE:FREQ=YEARLY;BYMONTH=3;BYDAY=2SU
END:DAYLIGHT
BEGIN:STANDARD
TZOFFSETFROM:-0500
TZOFFSETTO:-0600
TZNAME:CST
DTSTART:19701101T020000
RRULE:FREQ=YEARLY;BYMONTH=11;BYDAY=1SU
END:STANDARD
END:VTIMEZONE
BEGIN:VEVENT
UID:hays-41550@ygametime.com
DTSTAMP:20160116T150000Z
DTSTART;TZID=America/Chicago:20160116T090000
DURATION:PT0H60M0S
SUMMARY:Mercury vs Comets
DESCRIPTION:10-12 Year Old Girls Basketball | Basketball\nHays Communities Family YMCA\n
URL;VALUE=URI:https://ygametime.com/branch/hays/sports/2016-winter-basketball/1421/?utm_medium=calendar&utm_source=team_cal&utm_content=league_url#game-41550
LOCATION:Dahlstrom Middle School (Back Gym)
BEGIN:VALARM
TRIGGER:-P2H
ACTION:DISPLAY
DESCRIPTION:Mercury vs Comets
END:VALARM
END:VEVENT
BEGIN:VEVENT
UID:hays-41552@ygametime.com
DTSTAMP:20160123T150000Z
DTSTART;TZID=America/Chicago:20160123T090000
DURATION:PT0H60M0S
SUMMARY:Sky vs Mercury
DESCRIPTION:10-12 Year Old Girls Basketball | Basketball\nHays Communities Family YMCA\n
URL;VALUE=URI:https://ygametime.com/branch/hays/sports/2016-winter-basketball/1421/?utm_medium=calendar&utm_source=team_cal&utm_content=league_url#game-41552
LOCATION:Dahlstrom Middle School (Back Gym)
BEGIN:VALARM
TRIGGER:-P2H
ACTION:DISPLAY
DESCRIPTION:Sky vs Mercury
END:VALARM
END:VEVENT
BEGIN:VEVENT
UID:hays-41555@ygametime.com
DTSTAMP:20160130T160000Z
DTSTART;TZID=America/Chicago:20160130T100000
DURATION:PT0H60M0S
SUMMARY:Mercury vs Lynx
DESCRIPTION:10-12 Year Old Girls Basketball | Basketball\nHays Communities Family YMCA\n
URL;VALUE=URI:https://ygametime.com/branch/hays/sports/2016-winter-basketball/1421/?utm_medium=calendar&utm_source=team_cal&utm_content=league_url#game-41555
LOCATION:Dahlstrom Middle School (Back Gym)
BEGIN:VALARM
TRIGGER:-P2H
ACTION:DISPLAY
DESCRIPTION:Mercury vs Lynx
END:VALARM
END:VEVENT
BEGIN:VEVENT
UID:hays-41557@ygametime.com
DTSTAMP:20160206T160000Z
DTSTART;TZID=America/Chicago:20160206T100000
DURATION:PT0H60M0S
SUMMARY:Mercury vs Comets
DESCRIPTION:10-12 Year Old Girls Basketball | Basketball\nHays Communities Family YMCA\n
URL;VALUE=URI:https://ygametime.com/branch/hays/sports/2016-winter-basketball/1421/?utm_medium=calendar&utm_source=team_cal&utm_content=league_url#game-41557
LOCATION:Dahlstrom Middle School (Back Gym)
BEGIN:VALARM
TRIGGER:-P2H
ACTION:DISPLAY
DESCRIPTION:Mercury vs Comets
END:VALARM
END:VEVENT
BEGIN:VEVENT
UID:hays-41559@ygametime.com
DTSTAMP:20160213T160000Z
DTSTART;TZID=America/Chicago:20160213T100000
DURATION:PT0H60M0S
SUMMARY:Sky vs Mercury
DESCRIPTION:10-12 Year Old Girls Basketball | Basketball\nHays Communities Family YMCA\n
URL;VALUE=URI:https://ygametime.com/branch/hays/sports/2016-winter-basketball/1421/?utm_medium=calendar&utm_source=team_cal&utm_content=league_url#game-41559
LOCATION:Dahlstrom Middle School (Back Gym)
BEGIN:VALARM
TRIGGER:-P2H
ACTION:DISPLAY
DESCRIPTION:Sky vs Mercury
END:VALARM
END:VEVENT
BEGIN:VEVENT
UID:hays-41560@ygametime.com
DTSTAMP:20160220T150000Z
DTSTART;TZID=America/Chicago:20160220T090000
DURATION:PT0H60M0S
SUMMARY:Mercury vs Lynx
DESCRIPTION:10-12 Year Old Girls Basketball | Basketball\nHays Communities Family YMCA\n
URL;VALUE=URI:https://ygametime.com/branch/hays/sports/2016-winter-basketball/1421/?utm_medium=calendar&utm_source=team_cal&utm_content=league_url#game-41560
LOCATION:Dahlstrom Middle School (Back Gym)
BEGIN:VALARM
TRIGGER:-P2H
ACTION:DISPLAY
DESCRIPTION:Mercury vs Lynx
END:VALARM
END:VEVENT
BEGIN:VEVENT
UID:hays-41562@ygametime.com
DTSTAMP:20160227T150000Z
DTSTART;TZID=America/Chicago:20160227T090000
DURATION:PT0H60M0S
SUMMARY:Mercury vs Comets
DESCRIPTION:10-12 Year Old Girls Basketball | Basketball\nHays Communities Family YMCA\n
URL;VALUE=URI:https://ygametime.com/branch/hays/sports/2016-winter-basketball/1421/?utm_medium=calendar&utm_source=team_cal&utm_content=league_url#game-41562
LOCATION:Dahlstrom Middle School (Back Gym)
BEGIN:VALARM
TRIGGER:-P2H
ACTION:DISPLAY
DESCRIPTION:Mercury vs Comets
END:VALARM
END:VEVENT
BEGIN:VEVENT
UID:hays-41564@ygametime.com
DTSTAMP:20160305T150000Z
DTSTART;TZID=America/Chicago:20160305T090000
DURATION:PT0H60M0S
SUMMARY:Sky vs Mercury
DESCRIPTION:10-12 Year Old Girls Basketball | Basketball\nHays Communities Family YMCA\n
URL;VALUE=URI:https://ygametime.com/branch/hays/sports/2016-winter-basketball/1421/?utm_medium=calendar&utm_source=team_cal&utm_content=league_url#game-41564
LOCATION:Dahlstrom Middle School (Back Gym)
BEGIN:VALARM
TRIGGER:-P2H
ACTION:DISPLAY
DESCRIPTION:Sky vs Mercury
END:VALARM
END:VEVENT
END:VCALENDAR

