BEGIN:VCALENDAR
VERSION:2.0
PRODID:-//YGAMETIME.com//YGT iCal Creator//EN
METHOD:PUBLISH
X-PUBLISHED-TTL:PT6H
REFRESH-INTERVAL;VALUE=DURATION:PT6H
CALSCALE:GREGORIAN
X-WR-CALNAME:YGAMETIME CALENDAR
BEGIN:VTIMEZONE
TZID:America/Chicago
X-LIC-LOCATION:America/Chicago
BEGIN:DAYLIGHT
TZOFFSETFROM:-0600
TZOFFSETTO:-0500
TZNAME:CDT
DTSTART:19700308T020000
RRULE:FREQ=YEARLY;BYMONTH=3;BYDAY=2SU
END:DAYLIGHT
BEGIN:STANDARD
TZOFFSETFROM:-0500
TZOFFSETTO:-0600
TZNAME:CST
DTSTART:19701101T020000
RRULE:FREQ=YEARLY;BYMONTH=11;BYDAY=1SU
END:STANDARD
END:VTIMEZONE
BEGIN:VEVENT
UID:hays-41511@ygametime.com
DTSTAMP:20160116T180000Z
DTSTART;TZID=America/Chicago:20160116T120000
DURATION:PT0H60M0S
SUMMARY:Pistons vs Kings
DESCRIPTION:10-12 Year Old Boys Basketball | Basketball\nHays Communities Family YMCA\n
URL;VALUE=URI:https://ygametime.com/branch/hays/sports/2016-winter-basketball/1420/?utm_medium=calendar&utm_source=team_cal&utm_content=league_url#game-41511
LOCATION:Dahlstrom Middle School (Back Gym)
BEGIN:VALARM
TRIGGER:-P2H
ACTION:DISPLAY
DESCRIPTION:Pistons vs Kings
END:VALARM
END:VEVENT
BEGIN:VEVENT
UID:hays-41519@ygametime.com
DTSTAMP:20160123T210000Z
DTSTART;TZID=America/Chicago:20160123T150000
DURATION:PT0H60M0S
SUMMARY:Suns vs Pistons
DESCRIPTION:10-12 Year Old Boys Basketball | Basketball\nHays Communities Family YMCA\n
URL;VALUE=URI:https://ygametime.com/branch/hays/sports/2016-winter-basketball/1420/?utm_medium=calendar&utm_source=team_cal&utm_content=league_url#game-41519
LOCATION:Dahlstrom Middle School (Back Gym)
BEGIN:VALARM
TRIGGER:-P2H
ACTION:DISPLAY
DESCRIPTION:Suns vs Pistons
END:VALARM
END:VEVENT
BEGIN:VEVENT
UID:hays-41524@ygametime.com
DTSTAMP:20160130T210000Z
DTSTART;TZID=America/Chicago:20160130T150000
DURATION:PT0H60M0S
SUMMARY:Bulls vs Pistons
DESCRIPTION:10-12 Year Old Boys Basketball | Basketball\nHays Communities Family YMCA\n
URL;VALUE=URI:https://ygametime.com/branch/hays/sports/2016-winter-basketball/1420/?utm_medium=calendar&utm_source=team_cal&utm_content=league_url#game-41524
LOCATION:Dahlstrom Middle School (Back Gym)
BEGIN:VALARM
TRIGGER:-P2H
ACTION:DISPLAY
DESCRIPTION:Bulls vs Pistons
END:VALARM
END:VEVENT
BEGIN:VEVENT
UID:hays-41529@ygametime.com
DTSTAMP:20160206T210000Z
DTSTART;TZID=America/Chicago:20160206T150000
DURATION:PT0H60M0S
SUMMARY:Pistons vs Spartans
DESCRIPTION:10-12 Year Old Boys Basketball | Basketball\nHays Communities Family YMCA\n
URL;VALUE=URI:https://ygametime.com/branch/hays/sports/2016-winter-basketball/1420/?utm_medium=calendar&utm_source=team_cal&utm_content=league_url#game-41529
LOCATION:Dahlstrom Middle School (Back Gym)
BEGIN:VALARM
TRIGGER:-P2H
ACTION:DISPLAY
DESCRIPTION:Pistons vs Spartans
END:VALARM
END:VEVENT
BEGIN:VEVENT
UID:hays-41534@ygametime.com
DTSTAMP:20160213T210000Z
DTSTART;TZID=America/Chicago:20160213T150000
DURATION:PT0H60M0S
SUMMARY:Badgers vs Pistons
DESCRIPTION:10-12 Year Old Boys Basketball | Basketball\nHays Communities Family YMCA\n
URL;VALUE=URI:https://ygametime.com/branch/hays/sports/2016-winter-basketball/1420/?utm_medium=calendar&utm_source=team_cal&utm_content=league_url#game-41534
LOCATION:Dahlstrom Middle School (Back Gym)
BEGIN:VALARM
TRIGGER:-P2H
ACTION:DISPLAY
DESCRIPTION:Badgers vs Pistons
END:VALARM
END:VEVENT
BEGIN:VEVENT
UID:hays-41539@ygametime.com
DTSTAMP:20160220T210000Z
DTSTART;TZID=America/Chicago:20160220T150000
DURATION:PT0H60M0S
SUMMARY:Pistons vs Buffaloes
DESCRIPTION:10-12 Year Old Boys Basketball | Basketball\nHays Communities Family YMCA\n
URL;VALUE=URI:https://ygametime.com/branch/hays/sports/2016-winter-basketball/1420/?utm_medium=calendar&utm_source=team_cal&utm_content=league_url#game-41539
LOCATION:Dahlstrom Middle School (Back Gym)
BEGIN:VALARM
TRIGGER:-P2H
ACTION:DISPLAY
DESCRIPTION:Pistons vs Buffaloes
END:VALARM
END:VEVENT
BEGIN:VEVENT
UID:hays-41543@ygametime.com
DTSTAMP:20160227T200000Z
DTSTART;TZID=America/Chicago:20160227T140000
DURATION:PT0H60M0S
SUMMARY:Super Sonics vs Pistons
DESCRIPTION:10-12 Year Old Boys Basketball | Basketball\nHays Communities Family YMCA\n
URL;VALUE=URI:https://ygametime.com/branch/hays/sports/2016-winter-basketball/1420/?utm_medium=calendar&utm_source=team_cal&utm_content=league_url#game-41543
LOCATION:Dahlstrom Middle School (Back Gym)
BEGIN:VALARM
TRIGGER:-P2H
ACTION:DISPLAY
DESCRIPTION:Super Sonics vs Pistons
END:VALARM
END:VEVENT
BEGIN:VEVENT
UID:hays-41546@ygametime.com
DTSTAMP:20160305T180000Z
DTSTART;TZID=America/Chicago:20160305T120000
DURATION:PT0H60M0S
SUMMARY:Pistons vs 76ers
DESCRIPTION:10-12 Year Old Boys Basketball | Basketball\nHays Communities Family YMCA\n
URL;VALUE=URI:https://ygametime.com/branch/hays/sports/2016-winter-basketball/1420/?utm_medium=calendar&utm_source=team_cal&utm_content=league_url#game-41546
LOCATION:Dahlstrom Middle School (Back Gym)
BEGIN:VALARM
TRIGGER:-P2H
ACTION:DISPLAY
DESCRIPTION:Pistons vs 76ers
END:VALARM
END:VEVENT
END:VCALENDAR

