BEGIN:VCALENDAR
VERSION:2.0
PRODID:-//YGAMETIME.com//YGT iCal Creator//EN
METHOD:PUBLISH
X-PUBLISHED-TTL:PT6H
REFRESH-INTERVAL;VALUE=DURATION:PT6H
CALSCALE:GREGORIAN
X-WR-CALNAME:YGAMETIME CALENDAR
BEGIN:VTIMEZONE
TZID:America/Chicago
X-LIC-LOCATION:America/Chicago
BEGIN:DAYLIGHT
TZOFFSETFROM:-0600
TZOFFSETTO:-0500
TZNAME:CDT
DTSTART:19700308T020000
RRULE:FREQ=YEARLY;BYMONTH=3;BYDAY=2SU
END:DAYLIGHT
BEGIN:STANDARD
TZOFFSETFROM:-0500
TZOFFSETTO:-0600
TZNAME:CST
DTSTART:19701101T020000
RRULE:FREQ=YEARLY;BYMONTH=11;BYDAY=1SU
END:STANDARD
END:VTIMEZONE
BEGIN:VEVENT
UID:hays-41512@ygametime.com
DTSTAMP:20160116T190000Z
DTSTART;TZID=America/Chicago:20160116T130000
DURATION:PT0H60M0S
SUMMARY:Badgers vs Super Sonics
DESCRIPTION:10-12 Year Old Boys Basketball | Basketball\nHays Communities Family YMCA\n
URL;VALUE=URI:https://ygametime.com/branch/hays/sports/2016-winter-basketball/1420/?utm_medium=calendar&utm_source=team_cal&utm_content=league_url#game-41512
LOCATION:Dahlstrom Middle School (Back Gym)
BEGIN:VALARM
TRIGGER:-P2H
ACTION:DISPLAY
DESCRIPTION:Badgers vs Super Sonics
END:VALARM
END:VEVENT
BEGIN:VEVENT
UID:hays-41515@ygametime.com
DTSTAMP:20160123T170000Z
DTSTART;TZID=America/Chicago:20160123T110000
DURATION:PT0H60M0S
SUMMARY:Super Sonics vs Buffaloes
DESCRIPTION:10-12 Year Old Boys Basketball | Basketball\nHays Communities Family YMCA\n
URL;VALUE=URI:https://ygametime.com/branch/hays/sports/2016-winter-basketball/1420/?utm_medium=calendar&utm_source=team_cal&utm_content=league_url#game-41515
LOCATION:Dahlstrom Middle School (Back Gym)
BEGIN:VALARM
TRIGGER:-P2H
ACTION:DISPLAY
DESCRIPTION:Super Sonics vs Buffaloes
END:VALARM
END:VEVENT
BEGIN:VEVENT
UID:hays-41523@ygametime.com
DTSTAMP:20160130T200000Z
DTSTART;TZID=America/Chicago:20160130T140000
DURATION:PT0H60M0S
SUMMARY:Super Sonics vs Suns
DESCRIPTION:10-12 Year Old Boys Basketball | Basketball\nHays Communities Family YMCA\n
URL;VALUE=URI:https://ygametime.com/branch/hays/sports/2016-winter-basketball/1420/?utm_medium=calendar&utm_source=team_cal&utm_content=league_url#game-41523
LOCATION:Dahlstrom Middle School (Back Gym)
BEGIN:VALARM
TRIGGER:-P2H
ACTION:DISPLAY
DESCRIPTION:Super Sonics vs Suns
END:VALARM
END:VEVENT
BEGIN:VEVENT
UID:hays-41528@ygametime.com
DTSTAMP:20160206T200000Z
DTSTART;TZID=America/Chicago:20160206T140000
DURATION:PT0H60M0S
SUMMARY:76ers vs Super Sonics
DESCRIPTION:10-12 Year Old Boys Basketball | Basketball\nHays Communities Family YMCA\n
URL;VALUE=URI:https://ygametime.com/branch/hays/sports/2016-winter-basketball/1420/?utm_medium=calendar&utm_source=team_cal&utm_content=league_url#game-41528
LOCATION:Dahlstrom Middle School (Back Gym)
BEGIN:VALARM
TRIGGER:-P2H
ACTION:DISPLAY
DESCRIPTION:76ers vs Super Sonics
END:VALARM
END:VEVENT
BEGIN:VEVENT
UID:hays-41533@ygametime.com
DTSTAMP:20160213T200000Z
DTSTART;TZID=America/Chicago:20160213T140000
DURATION:PT0H60M0S
SUMMARY:Super Sonics vs Blue Jays
DESCRIPTION:10-12 Year Old Boys Basketball | Basketball\nHays Communities Family YMCA\n
URL;VALUE=URI:https://ygametime.com/branch/hays/sports/2016-winter-basketball/1420/?utm_medium=calendar&utm_source=team_cal&utm_content=league_url#game-41533
LOCATION:Dahlstrom Middle School (Back Gym)
BEGIN:VALARM
TRIGGER:-P2H
ACTION:DISPLAY
DESCRIPTION:Super Sonics vs Blue Jays
END:VALARM
END:VEVENT
BEGIN:VEVENT
UID:hays-41538@ygametime.com
DTSTAMP:20160220T200000Z
DTSTART;TZID=America/Chicago:20160220T140000
DURATION:PT0H60M0S
SUMMARY:Kings vs Super Sonics
DESCRIPTION:10-12 Year Old Boys Basketball | Basketball\nHays Communities Family YMCA\n
URL;VALUE=URI:https://ygametime.com/branch/hays/sports/2016-winter-basketball/1420/?utm_medium=calendar&utm_source=team_cal&utm_content=league_url#game-41538
LOCATION:Dahlstrom Middle School (Back Gym)
BEGIN:VALARM
TRIGGER:-P2H
ACTION:DISPLAY
DESCRIPTION:Kings vs Super Sonics
END:VALARM
END:VEVENT
BEGIN:VEVENT
UID:hays-41543@ygametime.com
DTSTAMP:20160227T200000Z
DTSTART;TZID=America/Chicago:20160227T140000
DURATION:PT0H60M0S
SUMMARY:Super Sonics vs Pistons
DESCRIPTION:10-12 Year Old Boys Basketball | Basketball\nHays Communities Family YMCA\n
URL;VALUE=URI:https://ygametime.com/branch/hays/sports/2016-winter-basketball/1420/?utm_medium=calendar&utm_source=team_cal&utm_content=league_url#game-41543
LOCATION:Dahlstrom Middle School (Back Gym)
BEGIN:VALARM
TRIGGER:-P2H
ACTION:DISPLAY
DESCRIPTION:Super Sonics vs Pistons
END:VALARM
END:VEVENT
BEGIN:VEVENT
UID:hays-41547@ygametime.com
DTSTAMP:20160305T190000Z
DTSTART;TZID=America/Chicago:20160305T130000
DURATION:PT0H60M0S
SUMMARY:Bulls vs Super Sonics
DESCRIPTION:10-12 Year Old Boys Basketball | Basketball\nHays Communities Family YMCA\n
URL;VALUE=URI:https://ygametime.com/branch/hays/sports/2016-winter-basketball/1420/?utm_medium=calendar&utm_source=team_cal&utm_content=league_url#game-41547
LOCATION:Dahlstrom Middle School (Back Gym)
BEGIN:VALARM
TRIGGER:-P2H
ACTION:DISPLAY
DESCRIPTION:Bulls vs Super Sonics
END:VALARM
END:VEVENT
END:VCALENDAR

