BEGIN:VCALENDAR
VERSION:2.0
PRODID:-//YGAMETIME.com//YGT iCal Creator//EN
METHOD:PUBLISH
X-PUBLISHED-TTL:PT6H
REFRESH-INTERVAL;VALUE=DURATION:PT6H
CALSCALE:GREGORIAN
X-WR-CALNAME:YGAMETIME CALENDAR
BEGIN:VTIMEZONE
TZID:America/Chicago
X-LIC-LOCATION:America/Chicago
BEGIN:DAYLIGHT
TZOFFSETFROM:-0600
TZOFFSETTO:-0500
TZNAME:CDT
DTSTART:19700308T020000
RRULE:FREQ=YEARLY;BYMONTH=3;BYDAY=2SU
END:DAYLIGHT
BEGIN:STANDARD
TZOFFSETFROM:-0500
TZOFFSETTO:-0600
TZNAME:CST
DTSTART:19701101T020000
RRULE:FREQ=YEARLY;BYMONTH=11;BYDAY=1SU
END:STANDARD
END:VTIMEZONE
BEGIN:VEVENT
UID:hays-41466@ygametime.com
DTSTAMP:20160116T190000Z
DTSTART;TZID=America/Chicago:20160116T130000
DURATION:PT0H60M0S
SUMMARY:Thunder vs Bucks
DESCRIPTION:8-9 Year Old Basketball | Basketball\nHays Communities Family YMCA\n
URL;VALUE=URI:https://ygametime.com/branch/hays/sports/2016-winter-basketball/1419/?utm_medium=calendar&utm_source=team_cal&utm_content=league_url#game-41466
LOCATION:Buda Elementary School
BEGIN:VALARM
TRIGGER:-P2H
ACTION:DISPLAY
DESCRIPTION:Thunder vs Bucks
END:VALARM
END:VEVENT
BEGIN:VEVENT
UID:hays-41470@ygametime.com
DTSTAMP:20160123T170000Z
DTSTART;TZID=America/Chicago:20160123T110000
DURATION:PT0H60M0S
SUMMARY:Bucks vs Tigers
DESCRIPTION:8-9 Year Old Basketball | Basketball\nHays Communities Family YMCA\n
URL;VALUE=URI:https://ygametime.com/branch/hays/sports/2016-winter-basketball/1419/?utm_medium=calendar&utm_source=team_cal&utm_content=league_url#game-41470
LOCATION:Buda Elementary School
BEGIN:VALARM
TRIGGER:-P2H
ACTION:DISPLAY
DESCRIPTION:Bucks vs Tigers
END:VALARM
END:VEVENT
BEGIN:VEVENT
UID:hays-41474@ygametime.com
DTSTAMP:20160130T150000Z
DTSTART;TZID=America/Chicago:20160130T090000
DURATION:PT0H60M0S
SUMMARY:Huskies vs Bucks
DESCRIPTION:8-9 Year Old Basketball | Basketball\nHays Communities Family YMCA\n
URL;VALUE=URI:https://ygametime.com/branch/hays/sports/2016-winter-basketball/1419/?utm_medium=calendar&utm_source=team_cal&utm_content=league_url#game-41474
LOCATION:Buda Elementary School
BEGIN:VALARM
TRIGGER:-P2H
ACTION:DISPLAY
DESCRIPTION:Huskies vs Bucks
END:VALARM
END:VEVENT
BEGIN:VEVENT
UID:hays-41484@ygametime.com
DTSTAMP:20160206T190000Z
DTSTART;TZID=America/Chicago:20160206T130000
DURATION:PT0H60M0S
SUMMARY:Bucks vs Jayhawks
DESCRIPTION:8-9 Year Old Basketball | Basketball\nHays Communities Family YMCA\n
URL;VALUE=URI:https://ygametime.com/branch/hays/sports/2016-winter-basketball/1419/?utm_medium=calendar&utm_source=team_cal&utm_content=league_url#game-41484
LOCATION:Buda Elementary School
BEGIN:VALARM
TRIGGER:-P2H
ACTION:DISPLAY
DESCRIPTION:Bucks vs Jayhawks
END:VALARM
END:VEVENT
BEGIN:VEVENT
UID:hays-41488@ygametime.com
DTSTAMP:20160213T170000Z
DTSTART;TZID=America/Chicago:20160213T110000
DURATION:PT0H60M0S
SUMMARY:Bucks vs Gators
DESCRIPTION:8-9 Year Old Basketball | Basketball\nHays Communities Family YMCA\n
URL;VALUE=URI:https://ygametime.com/branch/hays/sports/2016-winter-basketball/1419/?utm_medium=calendar&utm_source=team_cal&utm_content=league_url#game-41488
LOCATION:Buda Elementary School
BEGIN:VALARM
TRIGGER:-P2H
ACTION:DISPLAY
DESCRIPTION:Bucks vs Gators
END:VALARM
END:VEVENT
BEGIN:VEVENT
UID:hays-41494@ygametime.com
DTSTAMP:20160220T170000Z
DTSTART;TZID=America/Chicago:20160220T110000
DURATION:PT0H60M0S
SUMMARY:Wizards vs Bucks
DESCRIPTION:8-9 Year Old Basketball | Basketball\nHays Communities Family YMCA\n
URL;VALUE=URI:https://ygametime.com/branch/hays/sports/2016-winter-basketball/1419/?utm_medium=calendar&utm_source=team_cal&utm_content=league_url#game-41494
LOCATION:Buda Elementary School
BEGIN:VALARM
TRIGGER:-P2H
ACTION:DISPLAY
DESCRIPTION:Wizards vs Bucks
END:VALARM
END:VEVENT
BEGIN:VEVENT
UID:hays-41500@ygametime.com
DTSTAMP:20160227T170000Z
DTSTART;TZID=America/Chicago:20160227T110000
DURATION:PT0H60M0S
SUMMARY:Bucks vs Cavaliers
DESCRIPTION:8-9 Year Old Basketball | Basketball\nHays Communities Family YMCA\n
URL;VALUE=URI:https://ygametime.com/branch/hays/sports/2016-winter-basketball/1419/?utm_medium=calendar&utm_source=team_cal&utm_content=league_url#game-41500
LOCATION:Buda Elementary School
BEGIN:VALARM
TRIGGER:-P2H
ACTION:DISPLAY
DESCRIPTION:Bucks vs Cavaliers
END:VALARM
END:VEVENT
BEGIN:VEVENT
UID:hays-41506@ygametime.com
DTSTAMP:20160305T170000Z
DTSTART;TZID=America/Chicago:20160305T110000
DURATION:PT0H60M0S
SUMMARY:Bulldogs vs Bucks
DESCRIPTION:8-9 Year Old Basketball | Basketball\nHays Communities Family YMCA\n
URL;VALUE=URI:https://ygametime.com/branch/hays/sports/2016-winter-basketball/1419/?utm_medium=calendar&utm_source=team_cal&utm_content=league_url#game-41506
LOCATION:Buda Elementary School
BEGIN:VALARM
TRIGGER:-P2H
ACTION:DISPLAY
DESCRIPTION:Bulldogs vs Bucks
END:VALARM
END:VEVENT
END:VCALENDAR

