BEGIN:VCALENDAR
VERSION:2.0
PRODID:-//YGAMETIME.com//YGT iCal Creator//EN
METHOD:PUBLISH
X-PUBLISHED-TTL:PT6H
REFRESH-INTERVAL;VALUE=DURATION:PT6H
CALSCALE:GREGORIAN
X-WR-CALNAME:YGAMETIME CALENDAR
BEGIN:VTIMEZONE
TZID:America/Chicago
X-LIC-LOCATION:America/Chicago
BEGIN:DAYLIGHT
TZOFFSETFROM:-0600
TZOFFSETTO:-0500
TZNAME:CDT
DTSTART:19700308T020000
RRULE:FREQ=YEARLY;BYMONTH=3;BYDAY=2SU
END:DAYLIGHT
BEGIN:STANDARD
TZOFFSETFROM:-0500
TZOFFSETTO:-0600
TZNAME:CST
DTSTART:19701101T020000
RRULE:FREQ=YEARLY;BYMONTH=11;BYDAY=1SU
END:STANDARD
END:VTIMEZONE
BEGIN:VEVENT
UID:hays-41467@ygametime.com
DTSTAMP:20160116T200000Z
DTSTART;TZID=America/Chicago:20160116T140000
DURATION:PT0H60M0S
SUMMARY:Sharks vs Wizards
DESCRIPTION:8-9 Year Old Basketball | Basketball\nHays Communities Family YMCA\n
URL;VALUE=URI:https://ygametime.com/branch/hays/sports/2016-winter-basketball/1419/?utm_medium=calendar&utm_source=team_cal&utm_content=league_url#game-41467
LOCATION:Buda Elementary School
BEGIN:VALARM
TRIGGER:-P2H
ACTION:DISPLAY
DESCRIPTION:Sharks vs Wizards
END:VALARM
END:VEVENT
BEGIN:VEVENT
UID:hays-41471@ygametime.com
DTSTAMP:20160123T180000Z
DTSTART;TZID=America/Chicago:20160123T120000
DURATION:PT0H60M0S
SUMMARY:Cavaliers vs Sharks
DESCRIPTION:8-9 Year Old Basketball | Basketball\nHays Communities Family YMCA\n
URL;VALUE=URI:https://ygametime.com/branch/hays/sports/2016-winter-basketball/1419/?utm_medium=calendar&utm_source=team_cal&utm_content=league_url#game-41471
LOCATION:Buda Elementary School
BEGIN:VALARM
TRIGGER:-P2H
ACTION:DISPLAY
DESCRIPTION:Cavaliers vs Sharks
END:VALARM
END:VEVENT
BEGIN:VEVENT
UID:hays-41475@ygametime.com
DTSTAMP:20160130T160000Z
DTSTART;TZID=America/Chicago:20160130T100000
DURATION:PT0H60M0S
SUMMARY:Sharks vs Bulldogs
DESCRIPTION:8-9 Year Old Basketball | Basketball\nHays Communities Family YMCA\n
URL;VALUE=URI:https://ygametime.com/branch/hays/sports/2016-winter-basketball/1419/?utm_medium=calendar&utm_source=team_cal&utm_content=league_url#game-41475
LOCATION:Buda Elementary School
BEGIN:VALARM
TRIGGER:-P2H
ACTION:DISPLAY
DESCRIPTION:Sharks vs Bulldogs
END:VALARM
END:VEVENT
BEGIN:VEVENT
UID:hays-41485@ygametime.com
DTSTAMP:20160206T200000Z
DTSTART;TZID=America/Chicago:20160206T140000
DURATION:PT0H60M0S
SUMMARY:Tarheels vs Sharks
DESCRIPTION:8-9 Year Old Basketball | Basketball\nHays Communities Family YMCA\n
URL;VALUE=URI:https://ygametime.com/branch/hays/sports/2016-winter-basketball/1419/?utm_medium=calendar&utm_source=team_cal&utm_content=league_url#game-41485
LOCATION:Buda Elementary School
BEGIN:VALARM
TRIGGER:-P2H
ACTION:DISPLAY
DESCRIPTION:Tarheels vs Sharks
END:VALARM
END:VEVENT
BEGIN:VEVENT
UID:hays-41489@ygametime.com
DTSTAMP:20160213T180000Z
DTSTART;TZID=America/Chicago:20160213T120000
DURATION:PT0H60M0S
SUMMARY:Sharks vs Spurs
DESCRIPTION:8-9 Year Old Basketball | Basketball\nHays Communities Family YMCA\n
URL;VALUE=URI:https://ygametime.com/branch/hays/sports/2016-winter-basketball/1419/?utm_medium=calendar&utm_source=team_cal&utm_content=league_url#game-41489
LOCATION:Buda Elementary School
BEGIN:VALARM
TRIGGER:-P2H
ACTION:DISPLAY
DESCRIPTION:Sharks vs Spurs
END:VALARM
END:VEVENT
BEGIN:VEVENT
UID:hays-41493@ygametime.com
DTSTAMP:20160220T160000Z
DTSTART;TZID=America/Chicago:20160220T100000
DURATION:PT0H60M0S
SUMMARY:Gators vs Sharks
DESCRIPTION:8-9 Year Old Basketball | Basketball\nHays Communities Family YMCA\n
URL;VALUE=URI:https://ygametime.com/branch/hays/sports/2016-winter-basketball/1419/?utm_medium=calendar&utm_source=team_cal&utm_content=league_url#game-41493
LOCATION:Buda Elementary School
BEGIN:VALARM
TRIGGER:-P2H
ACTION:DISPLAY
DESCRIPTION:Gators vs Sharks
END:VALARM
END:VEVENT
BEGIN:VEVENT
UID:hays-41499@ygametime.com
DTSTAMP:20160227T160000Z
DTSTART;TZID=America/Chicago:20160227T100000
DURATION:PT0H60M0S
SUMMARY:Thunder vs Sharks
DESCRIPTION:8-9 Year Old Basketball | Basketball\nHays Communities Family YMCA\n
URL;VALUE=URI:https://ygametime.com/branch/hays/sports/2016-winter-basketball/1419/?utm_medium=calendar&utm_source=team_cal&utm_content=league_url#game-41499
LOCATION:Buda Elementary School
BEGIN:VALARM
TRIGGER:-P2H
ACTION:DISPLAY
DESCRIPTION:Thunder vs Sharks
END:VALARM
END:VEVENT
BEGIN:VEVENT
UID:hays-41505@ygametime.com
DTSTAMP:20160305T160000Z
DTSTART;TZID=America/Chicago:20160305T100000
DURATION:PT0H60M0S
SUMMARY:Sharks vs Tigers
DESCRIPTION:8-9 Year Old Basketball | Basketball\nHays Communities Family YMCA\n
URL;VALUE=URI:https://ygametime.com/branch/hays/sports/2016-winter-basketball/1419/?utm_medium=calendar&utm_source=team_cal&utm_content=league_url#game-41505
LOCATION:Buda Elementary School
BEGIN:VALARM
TRIGGER:-P2H
ACTION:DISPLAY
DESCRIPTION:Sharks vs Tigers
END:VALARM
END:VEVENT
END:VCALENDAR

