BEGIN:VCALENDAR
VERSION:2.0
PRODID:-//YGAMETIME.com//YGT iCal Creator//EN
METHOD:PUBLISH
X-PUBLISHED-TTL:PT6H
REFRESH-INTERVAL;VALUE=DURATION:PT6H
CALSCALE:GREGORIAN
X-WR-CALNAME:YGAMETIME CALENDAR
BEGIN:VEVENT
UID:helena-602969@ygametime.com
DTSTAMP:20260423T000000Z
DTSTART;TZID=America/Denver:20260422T180000
DURATION:PT0H60M0S
SUMMARY:Tornadoes vs Avalanche
DESCRIPTION:3rd/4th Grade | Volleyball\nHelena Family YMCA\n
URL;VALUE=URI:https://ygametime.com/branch/helena/sports/2026-spring-volleyball/25306/?utm_medium=calendar&utm_source=team_cal&utm_content=league_url#game-602969
LOCATION:YMCA North
BEGIN:VALARM
TRIGGER:-P2H
ACTION:DISPLAY
DESCRIPTION:Tornadoes vs Avalanche
END:VALARM
END:VEVENT
BEGIN:VEVENT
UID:helena-602971@ygametime.com
DTSTAMP:20260430T010000Z
DTSTART;TZID=America/Denver:20260429T190000
DURATION:PT0H60M0S
SUMMARY:Hurricanes vs Tornadoes
DESCRIPTION:3rd/4th Grade | Volleyball\nHelena Family YMCA\n
URL;VALUE=URI:https://ygametime.com/branch/helena/sports/2026-spring-volleyball/25306/?utm_medium=calendar&utm_source=team_cal&utm_content=league_url#game-602971
LOCATION:YMCA North
BEGIN:VALARM
TRIGGER:-P2H
ACTION:DISPLAY
DESCRIPTION:Hurricanes vs Tornadoes
END:VALARM
END:VEVENT
BEGIN:VEVENT
UID:helena-602975@ygametime.com
DTSTAMP:20260507T010000Z
DTSTART;TZID=America/Denver:20260506T190000
DURATION:PT0H60M0S
SUMMARY:Tornadoes vs Volcano
DESCRIPTION:3rd/4th Grade | Volleyball\nHelena Family YMCA\n
URL;VALUE=URI:https://ygametime.com/branch/helena/sports/2026-spring-volleyball/25306/?utm_medium=calendar&utm_source=team_cal&utm_content=league_url#game-602975
LOCATION:YMCA North
BEGIN:VALARM
TRIGGER:-P2H
ACTION:DISPLAY
DESCRIPTION:Tornadoes vs Volcano
END:VALARM
END:VEVENT
BEGIN:VEVENT
UID:helena-602976@ygametime.com
DTSTAMP:20260513T230000Z
DTSTART;TZID=America/Denver:20260513T170000
DURATION:PT0H60M0S
SUMMARY:Storm vs Tornadoes
DESCRIPTION:3rd/4th Grade | Volleyball\nHelena Family YMCA\n
URL;VALUE=URI:https://ygametime.com/branch/helena/sports/2026-spring-volleyball/25306/?utm_medium=calendar&utm_source=team_cal&utm_content=league_url#game-602976
LOCATION:YMCA North
BEGIN:VALARM
TRIGGER:-P2H
ACTION:DISPLAY
DESCRIPTION:Storm vs Tornadoes
END:VALARM
END:VEVENT
BEGIN:VEVENT
UID:helena-602977@ygametime.com
DTSTAMP:20260514T000000Z
DTSTART;TZID=America/Denver:20260513T180000
DURATION:PT0H60M0S
SUMMARY:Hurricanes vs Tornadoes
DESCRIPTION:3rd/4th Grade | Volleyball\nHelena Family YMCA\n
URL;VALUE=URI:https://ygametime.com/branch/helena/sports/2026-spring-volleyball/25306/?utm_medium=calendar&utm_source=team_cal&utm_content=league_url#game-602977
LOCATION:YMCA North
BEGIN:VALARM
TRIGGER:-P2H
ACTION:DISPLAY
DESCRIPTION:Hurricanes vs Tornadoes
END:VALARM
END:VEVENT
BEGIN:VEVENT
UID:helena-602979@ygametime.com
DTSTAMP:20260520T230000Z
DTSTART;TZID=America/Denver:20260520T170000
DURATION:PT0H60M0S
SUMMARY:Avalanche vs Tornadoes
DESCRIPTION:3rd/4th Grade | Volleyball\nHelena Family YMCA\n
URL;VALUE=URI:https://ygametime.com/branch/helena/sports/2026-spring-volleyball/25306/?utm_medium=calendar&utm_source=team_cal&utm_content=league_url#game-602979
LOCATION:YMCA North
BEGIN:VALARM
TRIGGER:-P2H
ACTION:DISPLAY
DESCRIPTION:Avalanche vs Tornadoes
END:VALARM
END:VEVENT
BEGIN:VEVENT
UID:helena-602982@ygametime.com
DTSTAMP:20260527T230000Z
DTSTART;TZID=America/Denver:20260527T170000
DURATION:PT0H60M0S
SUMMARY:Tornadoes vs Avalanche
DESCRIPTION:3rd/4th Grade | Volleyball\nHelena Family YMCA\n
URL;VALUE=URI:https://ygametime.com/branch/helena/sports/2026-spring-volleyball/25306/?utm_medium=calendar&utm_source=team_cal&utm_content=league_url#game-602982
LOCATION:YMCA North
BEGIN:VALARM
TRIGGER:-P2H
ACTION:DISPLAY
DESCRIPTION:Tornadoes vs Avalanche
END:VALARM
END:VEVENT
END:VCALENDAR

