BEGIN:VCALENDAR
VERSION:2.0
PRODID:-//YGAMETIME.com//YGT iCal Creator//EN
METHOD:PUBLISH
X-PUBLISHED-TTL:PT6H
REFRESH-INTERVAL;VALUE=DURATION:PT6H
CALSCALE:GREGORIAN
X-WR-CALNAME:YGAMETIME CALENDAR
BEGIN:VEVENT
UID:helena-602968@ygametime.com
DTSTAMP:20260423T010000Z
DTSTART;TZID=America/Denver:20260422T190000
DURATION:PT0H60M0S
SUMMARY:Volcano vs Hurricanes
DESCRIPTION:3rd/4th Grade | Volleyball\nHelena Family YMCA\n
URL;VALUE=URI:https://ygametime.com/branch/helena/sports/2026-spring-volleyball/25306/?utm_medium=calendar&utm_source=team_cal&utm_content=league_url#game-602968
LOCATION:YMCA North
BEGIN:VALARM
TRIGGER:-P2H
ACTION:DISPLAY
DESCRIPTION:Volcano vs Hurricanes
END:VALARM
END:VEVENT
BEGIN:VEVENT
UID:helena-602970@ygametime.com
DTSTAMP:20260429T230000Z
DTSTART;TZID=America/Denver:20260429T170000
DURATION:PT0H60M0S
SUMMARY:Volcano vs Avalanche
DESCRIPTION:3rd/4th Grade | Volleyball\nHelena Family YMCA\n
URL;VALUE=URI:https://ygametime.com/branch/helena/sports/2026-spring-volleyball/25306/?utm_medium=calendar&utm_source=team_cal&utm_content=league_url#game-602970
LOCATION:YMCA North
BEGIN:VALARM
TRIGGER:-P2H
ACTION:DISPLAY
DESCRIPTION:Volcano vs Avalanche
END:VALARM
END:VEVENT
BEGIN:VEVENT
UID:helena-602972@ygametime.com
DTSTAMP:20260430T000000Z
DTSTART;TZID=America/Denver:20260429T180000
DURATION:PT0H60M0S
SUMMARY:Storm vs Volcano
DESCRIPTION:3rd/4th Grade | Volleyball\nHelena Family YMCA\n
URL;VALUE=URI:https://ygametime.com/branch/helena/sports/2026-spring-volleyball/25306/?utm_medium=calendar&utm_source=team_cal&utm_content=league_url#game-602972
LOCATION:YMCA North
BEGIN:VALARM
TRIGGER:-P2H
ACTION:DISPLAY
DESCRIPTION:Storm vs Volcano
END:VALARM
END:VEVENT
BEGIN:VEVENT
UID:helena-602975@ygametime.com
DTSTAMP:20260507T010000Z
DTSTART;TZID=America/Denver:20260506T190000
DURATION:PT0H60M0S
SUMMARY:Tornadoes vs Volcano
DESCRIPTION:3rd/4th Grade | Volleyball\nHelena Family YMCA\n
URL;VALUE=URI:https://ygametime.com/branch/helena/sports/2026-spring-volleyball/25306/?utm_medium=calendar&utm_source=team_cal&utm_content=league_url#game-602975
LOCATION:YMCA North
BEGIN:VALARM
TRIGGER:-P2H
ACTION:DISPLAY
DESCRIPTION:Tornadoes vs Volcano
END:VALARM
END:VEVENT
BEGIN:VEVENT
UID:helena-602978@ygametime.com
DTSTAMP:20260514T010000Z
DTSTART;TZID=America/Denver:20260513T190000
DURATION:PT0H60M0S
SUMMARY:Volcano vs Avalanche
DESCRIPTION:3rd/4th Grade | Volleyball\nHelena Family YMCA\n
URL;VALUE=URI:https://ygametime.com/branch/helena/sports/2026-spring-volleyball/25306/?utm_medium=calendar&utm_source=team_cal&utm_content=league_url#game-602978
LOCATION:YMCA North
BEGIN:VALARM
TRIGGER:-P2H
ACTION:DISPLAY
DESCRIPTION:Volcano vs Avalanche
END:VALARM
END:VEVENT
BEGIN:VEVENT
UID:helena-602980@ygametime.com
DTSTAMP:20260521T000000Z
DTSTART;TZID=America/Denver:20260520T180000
DURATION:PT0H60M0S
SUMMARY:Storm vs Volcano
DESCRIPTION:3rd/4th Grade | Volleyball\nHelena Family YMCA\n
URL;VALUE=URI:https://ygametime.com/branch/helena/sports/2026-spring-volleyball/25306/?utm_medium=calendar&utm_source=team_cal&utm_content=league_url#game-602980
LOCATION:YMCA North
BEGIN:VALARM
TRIGGER:-P2H
ACTION:DISPLAY
DESCRIPTION:Storm vs Volcano
END:VALARM
END:VEVENT
BEGIN:VEVENT
UID:helena-602984@ygametime.com
DTSTAMP:20260528T010000Z
DTSTART;TZID=America/Denver:20260527T190000
DURATION:PT0H60M0S
SUMMARY:Volcano vs Hurricanes
DESCRIPTION:3rd/4th Grade | Volleyball\nHelena Family YMCA\n
URL;VALUE=URI:https://ygametime.com/branch/helena/sports/2026-spring-volleyball/25306/?utm_medium=calendar&utm_source=team_cal&utm_content=league_url#game-602984
LOCATION:YMCA North
BEGIN:VALARM
TRIGGER:-P2H
ACTION:DISPLAY
DESCRIPTION:Volcano vs Hurricanes
END:VALARM
END:VEVENT
END:VCALENDAR

