BEGIN:VCALENDAR
VERSION:2.0
PRODID:-//YGAMETIME.com//YGT iCal Creator//EN
METHOD:PUBLISH
X-PUBLISHED-TTL:PT6H
REFRESH-INTERVAL;VALUE=DURATION:PT6H
CALSCALE:GREGORIAN
X-WR-CALNAME:YGAMETIME CALENDAR
BEGIN:VEVENT
UID:helena-602938@ygametime.com
DTSTAMP:20260424T010000Z
DTSTART;TZID=America/Denver:20260423T190000
DURATION:PT0H60M0S
SUMMARY:Stingray vs Starfish 
DESCRIPTION:5th/6th Grade | Volleyball\nHelena Family YMCA\n
URL;VALUE=URI:https://ygametime.com/branch/helena/sports/2026-spring-volleyball/25307/?utm_medium=calendar&utm_source=team_cal&utm_content=league_url#game-602938
LOCATION:YMCA South
BEGIN:VALARM
TRIGGER:-P2H
ACTION:DISPLAY
DESCRIPTION:Stingray vs Starfish 
END:VALARM
END:VEVENT
BEGIN:VEVENT
UID:helena-602939@ygametime.com
DTSTAMP:20260501T000000Z
DTSTART;TZID=America/Denver:20260430T180000
DURATION:PT0H60M0S
SUMMARY:Starfish  vs Turtles
DESCRIPTION:5th/6th Grade | Volleyball\nHelena Family YMCA\n
URL;VALUE=URI:https://ygametime.com/branch/helena/sports/2026-spring-volleyball/25307/?utm_medium=calendar&utm_source=team_cal&utm_content=league_url#game-602939
LOCATION:YMCA South
BEGIN:VALARM
TRIGGER:-P2H
ACTION:DISPLAY
DESCRIPTION:Starfish  vs Turtles
END:VALARM
END:VEVENT
BEGIN:VEVENT
UID:helena-602941@ygametime.com
DTSTAMP:20260508T000000Z
DTSTART;TZID=America/Denver:20260507T180000
DURATION:PT0H60M0S
SUMMARY:Starfish  vs Dolphins
DESCRIPTION:5th/6th Grade | Volleyball\nHelena Family YMCA\n
URL;VALUE=URI:https://ygametime.com/branch/helena/sports/2026-spring-volleyball/25307/?utm_medium=calendar&utm_source=team_cal&utm_content=league_url#game-602941
LOCATION:YMCA South
BEGIN:VALARM
TRIGGER:-P2H
ACTION:DISPLAY
DESCRIPTION:Starfish  vs Dolphins
END:VALARM
END:VEVENT
BEGIN:VEVENT
UID:helena-602943@ygametime.com
DTSTAMP:20260515T000000Z
DTSTART;TZID=America/Denver:20260514T180000
DURATION:PT0H60M0S
SUMMARY:Stingray vs Starfish 
DESCRIPTION:5th/6th Grade | Volleyball\nHelena Family YMCA\n
URL;VALUE=URI:https://ygametime.com/branch/helena/sports/2026-spring-volleyball/25307/?utm_medium=calendar&utm_source=team_cal&utm_content=league_url#game-602943
LOCATION:YMCA South
BEGIN:VALARM
TRIGGER:-P2H
ACTION:DISPLAY
DESCRIPTION:Stingray vs Starfish 
END:VALARM
END:VEVENT
BEGIN:VEVENT
UID:helena-602946@ygametime.com
DTSTAMP:20260522T010000Z
DTSTART;TZID=America/Denver:20260521T190000
DURATION:PT0H60M0S
SUMMARY:Starfish  vs Turtles
DESCRIPTION:5th/6th Grade | Volleyball\nHelena Family YMCA\n
URL;VALUE=URI:https://ygametime.com/branch/helena/sports/2026-spring-volleyball/25307/?utm_medium=calendar&utm_source=team_cal&utm_content=league_url#game-602946
LOCATION:YMCA South
BEGIN:VALARM
TRIGGER:-P2H
ACTION:DISPLAY
DESCRIPTION:Starfish  vs Turtles
END:VALARM
END:VEVENT
BEGIN:VEVENT
UID:helena-602948@ygametime.com
DTSTAMP:20260529T010000Z
DTSTART;TZID=America/Denver:20260528T190000
DURATION:PT0H60M0S
SUMMARY:Starfish  vs Dolphins
DESCRIPTION:5th/6th Grade | Volleyball\nHelena Family YMCA\n
URL;VALUE=URI:https://ygametime.com/branch/helena/sports/2026-spring-volleyball/25307/?utm_medium=calendar&utm_source=team_cal&utm_content=league_url#game-602948
LOCATION:YMCA South
BEGIN:VALARM
TRIGGER:-P2H
ACTION:DISPLAY
DESCRIPTION:Starfish  vs Dolphins
END:VALARM
END:VEVENT
END:VCALENDAR

