BEGIN:VCALENDAR
VERSION:2.0
PRODID:-//YGAMETIME.com//YGT iCal Creator//EN
METHOD:PUBLISH
X-PUBLISHED-TTL:PT6H
REFRESH-INTERVAL;VALUE=DURATION:PT6H
CALSCALE:GREGORIAN
X-WR-CALNAME:YGAMETIME CALENDAR
BEGIN:VEVENT
UID:helena-602938@ygametime.com
DTSTAMP:20260424T010000Z
DTSTART;TZID=America/Denver:20260423T190000
DURATION:PT0H60M0S
SUMMARY:Stingray vs Starfish 
DESCRIPTION:5th/6th Grade | Volleyball\nHelena Family YMCA\n
URL;VALUE=URI:https://ygametime.com/branch/helena/sports/2026-spring-volleyball/25307/?utm_medium=calendar&utm_source=team_cal&utm_content=league_url#game-602938
LOCATION:YMCA South
BEGIN:VALARM
TRIGGER:-P2H
ACTION:DISPLAY
DESCRIPTION:Stingray vs Starfish 
END:VALARM
END:VEVENT
BEGIN:VEVENT
UID:helena-602940@ygametime.com
DTSTAMP:20260501T010000Z
DTSTART;TZID=America/Denver:20260430T190000
DURATION:PT0H60M0S
SUMMARY:Dolphins vs Stingray
DESCRIPTION:5th/6th Grade | Volleyball\nHelena Family YMCA\n
URL;VALUE=URI:https://ygametime.com/branch/helena/sports/2026-spring-volleyball/25307/?utm_medium=calendar&utm_source=team_cal&utm_content=league_url#game-602940
LOCATION:YMCA South
BEGIN:VALARM
TRIGGER:-P2H
ACTION:DISPLAY
DESCRIPTION:Dolphins vs Stingray
END:VALARM
END:VEVENT
BEGIN:VEVENT
UID:helena-602942@ygametime.com
DTSTAMP:20260508T010000Z
DTSTART;TZID=America/Denver:20260507T190000
DURATION:PT0H60M0S
SUMMARY:Turtles vs Stingray
DESCRIPTION:5th/6th Grade | Volleyball\nHelena Family YMCA\n
URL;VALUE=URI:https://ygametime.com/branch/helena/sports/2026-spring-volleyball/25307/?utm_medium=calendar&utm_source=team_cal&utm_content=league_url#game-602942
LOCATION:YMCA South
BEGIN:VALARM
TRIGGER:-P2H
ACTION:DISPLAY
DESCRIPTION:Turtles vs Stingray
END:VALARM
END:VEVENT
BEGIN:VEVENT
UID:helena-602943@ygametime.com
DTSTAMP:20260515T000000Z
DTSTART;TZID=America/Denver:20260514T180000
DURATION:PT0H60M0S
SUMMARY:Stingray vs Starfish 
DESCRIPTION:5th/6th Grade | Volleyball\nHelena Family YMCA\n
URL;VALUE=URI:https://ygametime.com/branch/helena/sports/2026-spring-volleyball/25307/?utm_medium=calendar&utm_source=team_cal&utm_content=league_url#game-602943
LOCATION:YMCA South
BEGIN:VALARM
TRIGGER:-P2H
ACTION:DISPLAY
DESCRIPTION:Stingray vs Starfish 
END:VALARM
END:VEVENT
BEGIN:VEVENT
UID:helena-602945@ygametime.com
DTSTAMP:20260522T000000Z
DTSTART;TZID=America/Denver:20260521T180000
DURATION:PT0H60M0S
SUMMARY:Dolphins vs Stingray
DESCRIPTION:5th/6th Grade | Volleyball\nHelena Family YMCA\n
URL;VALUE=URI:https://ygametime.com/branch/helena/sports/2026-spring-volleyball/25307/?utm_medium=calendar&utm_source=team_cal&utm_content=league_url#game-602945
LOCATION:YMCA South
BEGIN:VALARM
TRIGGER:-P2H
ACTION:DISPLAY
DESCRIPTION:Dolphins vs Stingray
END:VALARM
END:VEVENT
BEGIN:VEVENT
UID:helena-602947@ygametime.com
DTSTAMP:20260529T000000Z
DTSTART;TZID=America/Denver:20260528T180000
DURATION:PT0H60M0S
SUMMARY:Turtles vs Stingray
DESCRIPTION:5th/6th Grade | Volleyball\nHelena Family YMCA\n
URL;VALUE=URI:https://ygametime.com/branch/helena/sports/2026-spring-volleyball/25307/?utm_medium=calendar&utm_source=team_cal&utm_content=league_url#game-602947
LOCATION:YMCA South
BEGIN:VALARM
TRIGGER:-P2H
ACTION:DISPLAY
DESCRIPTION:Turtles vs Stingray
END:VALARM
END:VEVENT
END:VCALENDAR

