BEGIN:VCALENDAR
VERSION:2.0
PRODID:-//YGAMETIME.com//YGT iCal Creator//EN
METHOD:PUBLISH
X-PUBLISHED-TTL:PT6H
REFRESH-INTERVAL;VALUE=DURATION:PT6H
CALSCALE:GREGORIAN
X-WR-CALNAME:YGAMETIME CALENDAR
BEGIN:VEVENT
UID:helena-584312@ygametime.com
DTSTAMP:20260411T170000Z
DTSTART;TZID=America/Denver:20260411T110000
DURATION:PT0H60M0S
SUMMARY:Sea Turtles vs Seals
DESCRIPTION:1st Grade | Soccer\nHelena Family YMCA\n
URL;VALUE=URI:https://ygametime.com/branch/helena/sports/2026-spring-soccer/25308/?utm_medium=calendar&utm_source=team_cal&utm_content=league_url#game-584312
LOCATION:B1 Centennial Field
BEGIN:VALARM
TRIGGER:-P2H
ACTION:DISPLAY
DESCRIPTION:Sea Turtles vs Seals
END:VALARM
END:VEVENT
BEGIN:VEVENT
UID:helena-584316@ygametime.com
DTSTAMP:20260418T170000Z
DTSTART;TZID=America/Denver:20260418T110000
DURATION:PT0H60M0S
SUMMARY:Seals vs Starfish
DESCRIPTION:1st Grade | Soccer\nHelena Family YMCA\n
URL;VALUE=URI:https://ygametime.com/branch/helena/sports/2026-spring-soccer/25308/?utm_medium=calendar&utm_source=team_cal&utm_content=league_url#game-584316
LOCATION:B1 Centennial Field
BEGIN:VALARM
TRIGGER:-P2H
ACTION:DISPLAY
DESCRIPTION:Seals vs Starfish
END:VALARM
END:VEVENT
BEGIN:VEVENT
UID:helena-584320@ygametime.com
DTSTAMP:20260425T170000Z
DTSTART;TZID=America/Denver:20260425T110000
DURATION:PT0H60M0S
SUMMARY:Sharks vs Seals
DESCRIPTION:1st Grade | Soccer\nHelena Family YMCA\n
URL;VALUE=URI:https://ygametime.com/branch/helena/sports/2026-spring-soccer/25308/?utm_medium=calendar&utm_source=team_cal&utm_content=league_url#game-584320
LOCATION:B1 Centennial Field
BEGIN:VALARM
TRIGGER:-P2H
ACTION:DISPLAY
DESCRIPTION:Sharks vs Seals
END:VALARM
END:VEVENT
BEGIN:VEVENT
UID:helena-584323@ygametime.com
DTSTAMP:20260502T160000Z
DTSTART;TZID=America/Denver:20260502T100000
DURATION:PT0H60M0S
SUMMARY:Seals vs Sea Lions
DESCRIPTION:1st Grade | Soccer\nHelena Family YMCA\n
URL;VALUE=URI:https://ygametime.com/branch/helena/sports/2026-spring-soccer/25308/?utm_medium=calendar&utm_source=team_cal&utm_content=league_url#game-584323
LOCATION:B1 Centennial Field
BEGIN:VALARM
TRIGGER:-P2H
ACTION:DISPLAY
DESCRIPTION:Seals vs Sea Lions
END:VALARM
END:VEVENT
BEGIN:VEVENT
UID:helena-584329@ygametime.com
DTSTAMP:20260509T180000Z
DTSTART;TZID=America/Denver:20260509T120000
DURATION:PT0H60M0S
SUMMARY:Penguins vs Seals
DESCRIPTION:1st Grade | Soccer\nHelena Family YMCA\n
URL;VALUE=URI:https://ygametime.com/branch/helena/sports/2026-spring-soccer/25308/?utm_medium=calendar&utm_source=team_cal&utm_content=league_url#game-584329
LOCATION:B1 Centennial Field
BEGIN:VALARM
TRIGGER:-P2H
ACTION:DISPLAY
DESCRIPTION:Penguins vs Seals
END:VALARM
END:VEVENT
BEGIN:VEVENT
UID:helena-584331@ygametime.com
DTSTAMP:20260516T160000Z
DTSTART;TZID=America/Denver:20260516T100000
DURATION:PT0H60M0S
SUMMARY:Seals vs Jellyfish
DESCRIPTION:1st Grade | Soccer\nHelena Family YMCA\n
URL;VALUE=URI:https://ygametime.com/branch/helena/sports/2026-spring-soccer/25308/?utm_medium=calendar&utm_source=team_cal&utm_content=league_url#game-584331
LOCATION:B1 Centennial Field
BEGIN:VALARM
TRIGGER:-P2H
ACTION:DISPLAY
DESCRIPTION:Seals vs Jellyfish
END:VALARM
END:VEVENT
END:VCALENDAR

