BEGIN:VCALENDAR
VERSION:2.0
PRODID:-//YGAMETIME.com//YGT iCal Creator//EN
METHOD:PUBLISH
X-PUBLISHED-TTL:PT6H
REFRESH-INTERVAL;VALUE=DURATION:PT6H
CALSCALE:GREGORIAN
X-WR-CALNAME:YGAMETIME CALENDAR
BEGIN:VEVENT
UID:helena-584314@ygametime.com
DTSTAMP:20260411T190000Z
DTSTART;TZID=America/Denver:20260411T130000
DURATION:PT0H60M0S
SUMMARY:Starfish vs Jellyfish
DESCRIPTION:1st Grade | Soccer\nHelena Family YMCA\n
URL;VALUE=URI:https://ygametime.com/branch/helena/sports/2026-spring-soccer/25308/?utm_medium=calendar&utm_source=team_cal&utm_content=league_url#game-584314
LOCATION:B1 Centennial Field
BEGIN:VALARM
TRIGGER:-P2H
ACTION:DISPLAY
DESCRIPTION:Starfish vs Jellyfish
END:VALARM
END:VEVENT
BEGIN:VEVENT
UID:helena-584317@ygametime.com
DTSTAMP:20260418T180000Z
DTSTART;TZID=America/Denver:20260418T120000
DURATION:PT0H60M0S
SUMMARY:Jellyfish vs Sharks
DESCRIPTION:1st Grade | Soccer\nHelena Family YMCA\n
URL;VALUE=URI:https://ygametime.com/branch/helena/sports/2026-spring-soccer/25308/?utm_medium=calendar&utm_source=team_cal&utm_content=league_url#game-584317
LOCATION:B1 Centennial Field
BEGIN:VALARM
TRIGGER:-P2H
ACTION:DISPLAY
DESCRIPTION:Jellyfish vs Sharks
END:VALARM
END:VEVENT
BEGIN:VEVENT
UID:helena-584319@ygametime.com
DTSTAMP:20260425T160000Z
DTSTART;TZID=America/Denver:20260425T100000
DURATION:PT0H60M0S
SUMMARY:Sea Lions vs Jellyfish
DESCRIPTION:1st Grade | Soccer\nHelena Family YMCA\n
URL;VALUE=URI:https://ygametime.com/branch/helena/sports/2026-spring-soccer/25308/?utm_medium=calendar&utm_source=team_cal&utm_content=league_url#game-584319
LOCATION:B1 Centennial Field
BEGIN:VALARM
TRIGGER:-P2H
ACTION:DISPLAY
DESCRIPTION:Sea Lions vs Jellyfish
END:VALARM
END:VEVENT
BEGIN:VEVENT
UID:helena-584325@ygametime.com
DTSTAMP:20260502T180000Z
DTSTART;TZID=America/Denver:20260502T120000
DURATION:PT0H60M0S
SUMMARY:Jellyfish vs Penguins
DESCRIPTION:1st Grade | Soccer\nHelena Family YMCA\n
URL;VALUE=URI:https://ygametime.com/branch/helena/sports/2026-spring-soccer/25308/?utm_medium=calendar&utm_source=team_cal&utm_content=league_url#game-584325
LOCATION:B1 Centennial Field
BEGIN:VALARM
TRIGGER:-P2H
ACTION:DISPLAY
DESCRIPTION:Jellyfish vs Penguins
END:VALARM
END:VEVENT
BEGIN:VEVENT
UID:helena-584327@ygametime.com
DTSTAMP:20260509T160000Z
DTSTART;TZID=America/Denver:20260509T100000
DURATION:PT0H60M0S
SUMMARY:Jellyfish vs Otters
DESCRIPTION:1st Grade | Soccer\nHelena Family YMCA\n
URL;VALUE=URI:https://ygametime.com/branch/helena/sports/2026-spring-soccer/25308/?utm_medium=calendar&utm_source=team_cal&utm_content=league_url#game-584327
LOCATION:B1 Centennial Field
BEGIN:VALARM
TRIGGER:-P2H
ACTION:DISPLAY
DESCRIPTION:Jellyfish vs Otters
END:VALARM
END:VEVENT
BEGIN:VEVENT
UID:helena-584331@ygametime.com
DTSTAMP:20260516T160000Z
DTSTART;TZID=America/Denver:20260516T100000
DURATION:PT0H60M0S
SUMMARY:Seals vs Jellyfish
DESCRIPTION:1st Grade | Soccer\nHelena Family YMCA\n
URL;VALUE=URI:https://ygametime.com/branch/helena/sports/2026-spring-soccer/25308/?utm_medium=calendar&utm_source=team_cal&utm_content=league_url#game-584331
LOCATION:B1 Centennial Field
BEGIN:VALARM
TRIGGER:-P2H
ACTION:DISPLAY
DESCRIPTION:Seals vs Jellyfish
END:VALARM
END:VEVENT
END:VCALENDAR

