BEGIN:VCALENDAR
VERSION:2.0
PRODID:-//YGAMETIME.com//YGT iCal Creator//EN
METHOD:PUBLISH
X-PUBLISHED-TTL:PT6H
REFRESH-INTERVAL;VALUE=DURATION:PT6H
CALSCALE:GREGORIAN
X-WR-CALNAME:YGAMETIME CALENDAR
BEGIN:VEVENT
UID:helena-584312@ygametime.com
DTSTAMP:20260411T170000Z
DTSTART;TZID=America/Denver:20260411T110000
DURATION:PT0H60M0S
SUMMARY:Sea Turtles vs Seals
DESCRIPTION:1st Grade | Soccer\nHelena Family YMCA\n
URL;VALUE=URI:https://ygametime.com/branch/helena/sports/2026-spring-soccer/25308/?utm_medium=calendar&utm_source=team_cal&utm_content=league_url#game-584312
LOCATION:B1 Centennial Field
BEGIN:VALARM
TRIGGER:-P2H
ACTION:DISPLAY
DESCRIPTION:Sea Turtles vs Seals
END:VALARM
END:VEVENT
BEGIN:VEVENT
UID:helena-584318@ygametime.com
DTSTAMP:20260418T190000Z
DTSTART;TZID=America/Denver:20260418T130000
DURATION:PT0H60M0S
SUMMARY:Otters vs Sea Turtles
DESCRIPTION:1st Grade | Soccer\nHelena Family YMCA\n
URL;VALUE=URI:https://ygametime.com/branch/helena/sports/2026-spring-soccer/25308/?utm_medium=calendar&utm_source=team_cal&utm_content=league_url#game-584318
LOCATION:B1 Centennial Field
BEGIN:VALARM
TRIGGER:-P2H
ACTION:DISPLAY
DESCRIPTION:Otters vs Sea Turtles
END:VALARM
END:VEVENT
BEGIN:VEVENT
UID:helena-584322@ygametime.com
DTSTAMP:20260425T190000Z
DTSTART;TZID=America/Denver:20260425T130000
DURATION:PT0H60M0S
SUMMARY:Starfish vs Sea Turtles
DESCRIPTION:1st Grade | Soccer\nHelena Family YMCA\n
URL;VALUE=URI:https://ygametime.com/branch/helena/sports/2026-spring-soccer/25308/?utm_medium=calendar&utm_source=team_cal&utm_content=league_url#game-584322
LOCATION:B1 Centennial Field
BEGIN:VALARM
TRIGGER:-P2H
ACTION:DISPLAY
DESCRIPTION:Starfish vs Sea Turtles
END:VALARM
END:VEVENT
BEGIN:VEVENT
UID:helena-584326@ygametime.com
DTSTAMP:20260502T190000Z
DTSTART;TZID=America/Denver:20260502T130000
DURATION:PT0H60M0S
SUMMARY:Sea Turtles vs Sharks
DESCRIPTION:1st Grade | Soccer\nHelena Family YMCA\n
URL;VALUE=URI:https://ygametime.com/branch/helena/sports/2026-spring-soccer/25308/?utm_medium=calendar&utm_source=team_cal&utm_content=league_url#game-584326
LOCATION:B1 Centennial Field
BEGIN:VALARM
TRIGGER:-P2H
ACTION:DISPLAY
DESCRIPTION:Sea Turtles vs Sharks
END:VALARM
END:VEVENT
BEGIN:VEVENT
UID:helena-584330@ygametime.com
DTSTAMP:20260509T190000Z
DTSTART;TZID=America/Denver:20260509T130000
DURATION:PT0H60M0S
SUMMARY:Sea Lions vs Sea Turtles
DESCRIPTION:1st Grade | Soccer\nHelena Family YMCA\n
URL;VALUE=URI:https://ygametime.com/branch/helena/sports/2026-spring-soccer/25308/?utm_medium=calendar&utm_source=team_cal&utm_content=league_url#game-584330
LOCATION:B1 Centennial Field
BEGIN:VALARM
TRIGGER:-P2H
ACTION:DISPLAY
DESCRIPTION:Sea Lions vs Sea Turtles
END:VALARM
END:VEVENT
BEGIN:VEVENT
UID:helena-584333@ygametime.com
DTSTAMP:20260516T180000Z
DTSTART;TZID=America/Denver:20260516T120000
DURATION:PT0H60M0S
SUMMARY:Sea Turtles vs Penguins
DESCRIPTION:1st Grade | Soccer\nHelena Family YMCA\n
URL;VALUE=URI:https://ygametime.com/branch/helena/sports/2026-spring-soccer/25308/?utm_medium=calendar&utm_source=team_cal&utm_content=league_url#game-584333
LOCATION:B1 Centennial Field
BEGIN:VALARM
TRIGGER:-P2H
ACTION:DISPLAY
DESCRIPTION:Sea Turtles vs Penguins
END:VALARM
END:VEVENT
END:VCALENDAR

