BEGIN:VCALENDAR
VERSION:2.0
PRODID:-//YGAMETIME.com//YGT iCal Creator//EN
METHOD:PUBLISH
X-PUBLISHED-TTL:PT6H
REFRESH-INTERVAL;VALUE=DURATION:PT6H
CALSCALE:GREGORIAN
X-WR-CALNAME:YGAMETIME CALENDAR
BEGIN:VEVENT
UID:helena-584336@ygametime.com
DTSTAMP:20260411T170000Z
DTSTART;TZID=America/Denver:20260411T110000
DURATION:PT0H60M0S
SUMMARY:Zebras vs Elephants
DESCRIPTION:2nd/3rd Grade | Soccer\nHelena Family YMCA\n
URL;VALUE=URI:https://ygametime.com/branch/helena/sports/2026-spring-soccer/25309/?utm_medium=calendar&utm_source=team_cal&utm_content=league_url#game-584336
LOCATION:C1 Centennial Field 
BEGIN:VALARM
TRIGGER:-P2H
ACTION:DISPLAY
DESCRIPTION:Zebras vs Elephants
END:VALARM
END:VEVENT
BEGIN:VEVENT
UID:helena-584339@ygametime.com
DTSTAMP:20260418T170000Z
DTSTART;TZID=America/Denver:20260418T110000
DURATION:PT0H60M0S
SUMMARY:Elephants vs Lions
DESCRIPTION:2nd/3rd Grade | Soccer\nHelena Family YMCA\n
URL;VALUE=URI:https://ygametime.com/branch/helena/sports/2026-spring-soccer/25309/?utm_medium=calendar&utm_source=team_cal&utm_content=league_url#game-584339
LOCATION:C1 Centennial Field 
BEGIN:VALARM
TRIGGER:-P2H
ACTION:DISPLAY
DESCRIPTION:Elephants vs Lions
END:VALARM
END:VEVENT
BEGIN:VEVENT
UID:helena-584341@ygametime.com
DTSTAMP:20260425T160000Z
DTSTART;TZID=America/Denver:20260425T100000
DURATION:PT0H60M0S
SUMMARY:Tigers vs Elephants
DESCRIPTION:2nd/3rd Grade | Soccer\nHelena Family YMCA\n
URL;VALUE=URI:https://ygametime.com/branch/helena/sports/2026-spring-soccer/25309/?utm_medium=calendar&utm_source=team_cal&utm_content=league_url#game-584341
LOCATION:C1 Centennial Field 
BEGIN:VALARM
TRIGGER:-P2H
ACTION:DISPLAY
DESCRIPTION:Tigers vs Elephants
END:VALARM
END:VEVENT
BEGIN:VEVENT
UID:helena-584345@ygametime.com
DTSTAMP:20260502T170000Z
DTSTART;TZID=America/Denver:20260502T110000
DURATION:PT0H60M0S
SUMMARY:Elephants vs Leopards
DESCRIPTION:2nd/3rd Grade | Soccer\nHelena Family YMCA\n
URL;VALUE=URI:https://ygametime.com/branch/helena/sports/2026-spring-soccer/25309/?utm_medium=calendar&utm_source=team_cal&utm_content=league_url#game-584345
LOCATION:C1 Centennial Field 
BEGIN:VALARM
TRIGGER:-P2H
ACTION:DISPLAY
DESCRIPTION:Elephants vs Leopards
END:VALARM
END:VEVENT
BEGIN:VEVENT
UID:helena-584349@ygametime.com
DTSTAMP:20260509T180000Z
DTSTART;TZID=America/Denver:20260509T120000
DURATION:PT0H60M0S
SUMMARY:Elephants vs Cheetahs
DESCRIPTION:2nd/3rd Grade | Soccer\nHelena Family YMCA\n
URL;VALUE=URI:https://ygametime.com/branch/helena/sports/2026-spring-soccer/25309/?utm_medium=calendar&utm_source=team_cal&utm_content=league_url#game-584349
LOCATION:C1 Centennial Field 
BEGIN:VALARM
TRIGGER:-P2H
ACTION:DISPLAY
DESCRIPTION:Elephants vs Cheetahs
END:VALARM
END:VEVENT
BEGIN:VEVENT
UID:helena-584352@ygametime.com
DTSTAMP:20260516T180000Z
DTSTART;TZID=America/Denver:20260516T120000
DURATION:PT0H60M0S
SUMMARY:Zebras vs Elephants
DESCRIPTION:2nd/3rd Grade | Soccer\nHelena Family YMCA\n
URL;VALUE=URI:https://ygametime.com/branch/helena/sports/2026-spring-soccer/25309/?utm_medium=calendar&utm_source=team_cal&utm_content=league_url#game-584352
LOCATION:C1 Centennial Field 
BEGIN:VALARM
TRIGGER:-P2H
ACTION:DISPLAY
DESCRIPTION:Zebras vs Elephants
END:VALARM
END:VEVENT
END:VCALENDAR

