BEGIN:VCALENDAR
VERSION:2.0
PRODID:-//YGAMETIME.com//YGT iCal Creator//EN
METHOD:PUBLISH
X-PUBLISHED-TTL:PT6H
REFRESH-INTERVAL;VALUE=DURATION:PT6H
CALSCALE:GREGORIAN
X-WR-CALNAME:YGAMETIME CALENDAR
BEGIN:VEVENT
UID:helena-584336@ygametime.com
DTSTAMP:20260411T170000Z
DTSTART;TZID=America/Denver:20260411T110000
DURATION:PT0H60M0S
SUMMARY:Zebras vs Elephants
DESCRIPTION:2nd/3rd Grade | Soccer\nHelena Family YMCA\n
URL;VALUE=URI:https://ygametime.com/branch/helena/sports/2026-spring-soccer/25309/?utm_medium=calendar&utm_source=team_cal&utm_content=league_url#game-584336
LOCATION:C1 Centennial Field 
BEGIN:VALARM
TRIGGER:-P2H
ACTION:DISPLAY
DESCRIPTION:Zebras vs Elephants
END:VALARM
END:VEVENT
BEGIN:VEVENT
UID:helena-584340@ygametime.com
DTSTAMP:20260418T180000Z
DTSTART;TZID=America/Denver:20260418T120000
DURATION:PT0H60M0S
SUMMARY:Cheetahs vs Zebras
DESCRIPTION:2nd/3rd Grade | Soccer\nHelena Family YMCA\n
URL;VALUE=URI:https://ygametime.com/branch/helena/sports/2026-spring-soccer/25309/?utm_medium=calendar&utm_source=team_cal&utm_content=league_url#game-584340
LOCATION:C1 Centennial Field 
BEGIN:VALARM
TRIGGER:-P2H
ACTION:DISPLAY
DESCRIPTION:Cheetahs vs Zebras
END:VALARM
END:VEVENT
BEGIN:VEVENT
UID:helena-584343@ygametime.com
DTSTAMP:20260425T180000Z
DTSTART;TZID=America/Denver:20260425T120000
DURATION:PT0H60M0S
SUMMARY:Lions vs Zebras
DESCRIPTION:2nd/3rd Grade | Soccer\nHelena Family YMCA\n
URL;VALUE=URI:https://ygametime.com/branch/helena/sports/2026-spring-soccer/25309/?utm_medium=calendar&utm_source=team_cal&utm_content=league_url#game-584343
LOCATION:C1 Centennial Field 
BEGIN:VALARM
TRIGGER:-P2H
ACTION:DISPLAY
DESCRIPTION:Lions vs Zebras
END:VALARM
END:VEVENT
BEGIN:VEVENT
UID:helena-584346@ygametime.com
DTSTAMP:20260502T180000Z
DTSTART;TZID=America/Denver:20260502T120000
DURATION:PT0H60M0S
SUMMARY:Zebras vs Tigers
DESCRIPTION:2nd/3rd Grade | Soccer\nHelena Family YMCA\n
URL;VALUE=URI:https://ygametime.com/branch/helena/sports/2026-spring-soccer/25309/?utm_medium=calendar&utm_source=team_cal&utm_content=league_url#game-584346
LOCATION:C1 Centennial Field 
BEGIN:VALARM
TRIGGER:-P2H
ACTION:DISPLAY
DESCRIPTION:Zebras vs Tigers
END:VALARM
END:VEVENT
BEGIN:VEVENT
UID:helena-584348@ygametime.com
DTSTAMP:20260509T170000Z
DTSTART;TZID=America/Denver:20260509T110000
DURATION:PT0H60M0S
SUMMARY:Leopards vs Zebras
DESCRIPTION:2nd/3rd Grade | Soccer\nHelena Family YMCA\n
URL;VALUE=URI:https://ygametime.com/branch/helena/sports/2026-spring-soccer/25309/?utm_medium=calendar&utm_source=team_cal&utm_content=league_url#game-584348
LOCATION:C1 Centennial Field 
BEGIN:VALARM
TRIGGER:-P2H
ACTION:DISPLAY
DESCRIPTION:Leopards vs Zebras
END:VALARM
END:VEVENT
BEGIN:VEVENT
UID:helena-584352@ygametime.com
DTSTAMP:20260516T180000Z
DTSTART;TZID=America/Denver:20260516T120000
DURATION:PT0H60M0S
SUMMARY:Zebras vs Elephants
DESCRIPTION:2nd/3rd Grade | Soccer\nHelena Family YMCA\n
URL;VALUE=URI:https://ygametime.com/branch/helena/sports/2026-spring-soccer/25309/?utm_medium=calendar&utm_source=team_cal&utm_content=league_url#game-584352
LOCATION:C1 Centennial Field 
BEGIN:VALARM
TRIGGER:-P2H
ACTION:DISPLAY
DESCRIPTION:Zebras vs Elephants
END:VALARM
END:VEVENT
END:VCALENDAR

