BEGIN:VCALENDAR
VERSION:2.0
PRODID:-//YGAMETIME.com//YGT iCal Creator//EN
METHOD:PUBLISH
X-PUBLISHED-TTL:PT6H
REFRESH-INTERVAL;VALUE=DURATION:PT6H
CALSCALE:GREGORIAN
X-WR-CALNAME:YGAMETIME CALENDAR
BEGIN:VEVENT
UID:helena-584337@ygametime.com
DTSTAMP:20260411T180000Z
DTSTART;TZID=America/Denver:20260411T120000
DURATION:PT0H60M0S
SUMMARY:Lions vs Leopards
DESCRIPTION:2nd/3rd Grade | Soccer\nHelena Family YMCA\n
URL;VALUE=URI:https://ygametime.com/branch/helena/sports/2026-spring-soccer/25309/?utm_medium=calendar&utm_source=team_cal&utm_content=league_url#game-584337
LOCATION:C1 Centennial Field 
BEGIN:VALARM
TRIGGER:-P2H
ACTION:DISPLAY
DESCRIPTION:Lions vs Leopards
END:VALARM
END:VEVENT
BEGIN:VEVENT
UID:helena-584338@ygametime.com
DTSTAMP:20260418T160000Z
DTSTART;TZID=America/Denver:20260418T100000
DURATION:PT0H60M0S
SUMMARY:Leopards vs Tigers
DESCRIPTION:2nd/3rd Grade | Soccer\nHelena Family YMCA\n
URL;VALUE=URI:https://ygametime.com/branch/helena/sports/2026-spring-soccer/25309/?utm_medium=calendar&utm_source=team_cal&utm_content=league_url#game-584338
LOCATION:C1 Centennial Field 
BEGIN:VALARM
TRIGGER:-P2H
ACTION:DISPLAY
DESCRIPTION:Leopards vs Tigers
END:VALARM
END:VEVENT
BEGIN:VEVENT
UID:helena-584342@ygametime.com
DTSTAMP:20260425T170000Z
DTSTART;TZID=America/Denver:20260425T110000
DURATION:PT0H60M0S
SUMMARY:Leopards vs Cheetahs
DESCRIPTION:2nd/3rd Grade | Soccer\nHelena Family YMCA\n
URL;VALUE=URI:https://ygametime.com/branch/helena/sports/2026-spring-soccer/25309/?utm_medium=calendar&utm_source=team_cal&utm_content=league_url#game-584342
LOCATION:C1 Centennial Field 
BEGIN:VALARM
TRIGGER:-P2H
ACTION:DISPLAY
DESCRIPTION:Leopards vs Cheetahs
END:VALARM
END:VEVENT
BEGIN:VEVENT
UID:helena-584345@ygametime.com
DTSTAMP:20260502T170000Z
DTSTART;TZID=America/Denver:20260502T110000
DURATION:PT0H60M0S
SUMMARY:Elephants vs Leopards
DESCRIPTION:2nd/3rd Grade | Soccer\nHelena Family YMCA\n
URL;VALUE=URI:https://ygametime.com/branch/helena/sports/2026-spring-soccer/25309/?utm_medium=calendar&utm_source=team_cal&utm_content=league_url#game-584345
LOCATION:C1 Centennial Field 
BEGIN:VALARM
TRIGGER:-P2H
ACTION:DISPLAY
DESCRIPTION:Elephants vs Leopards
END:VALARM
END:VEVENT
BEGIN:VEVENT
UID:helena-584348@ygametime.com
DTSTAMP:20260509T170000Z
DTSTART;TZID=America/Denver:20260509T110000
DURATION:PT0H60M0S
SUMMARY:Leopards vs Zebras
DESCRIPTION:2nd/3rd Grade | Soccer\nHelena Family YMCA\n
URL;VALUE=URI:https://ygametime.com/branch/helena/sports/2026-spring-soccer/25309/?utm_medium=calendar&utm_source=team_cal&utm_content=league_url#game-584348
LOCATION:C1 Centennial Field 
BEGIN:VALARM
TRIGGER:-P2H
ACTION:DISPLAY
DESCRIPTION:Leopards vs Zebras
END:VALARM
END:VEVENT
BEGIN:VEVENT
UID:helena-584350@ygametime.com
DTSTAMP:20260516T160000Z
DTSTART;TZID=America/Denver:20260516T100000
DURATION:PT0H60M0S
SUMMARY:Lions vs Leopards
DESCRIPTION:2nd/3rd Grade | Soccer\nHelena Family YMCA\n
URL;VALUE=URI:https://ygametime.com/branch/helena/sports/2026-spring-soccer/25309/?utm_medium=calendar&utm_source=team_cal&utm_content=league_url#game-584350
LOCATION:C1 Centennial Field 
BEGIN:VALARM
TRIGGER:-P2H
ACTION:DISPLAY
DESCRIPTION:Lions vs Leopards
END:VALARM
END:VEVENT
END:VCALENDAR

