BEGIN:VCALENDAR
VERSION:2.0
PRODID:-//YGAMETIME.com//YGT iCal Creator//EN
METHOD:PUBLISH
X-PUBLISHED-TTL:PT6H
REFRESH-INTERVAL;VALUE=DURATION:PT6H
CALSCALE:GREGORIAN
X-WR-CALNAME:YGAMETIME CALENDAR
BEGIN:VEVENT
UID:helena-584353@ygametime.com
DTSTAMP:20260411T160000Z
DTSTART;TZID=America/Denver:20260411T100000
DURATION:PT0H60M0S
SUMMARY:Vigilantes vs Bengals
DESCRIPTION:4th/5th Grade | Soccer\nHelena Family YMCA\n
URL;VALUE=URI:https://ygametime.com/branch/helena/sports/2026-spring-soccer/25310/?utm_medium=calendar&utm_source=team_cal&utm_content=league_url#game-584353
LOCATION:C2 Centennial Field 
BEGIN:VALARM
TRIGGER:-P2H
ACTION:DISPLAY
DESCRIPTION:Vigilantes vs Bengals
END:VALARM
END:VEVENT
BEGIN:VEVENT
UID:helena-584354@ygametime.com
DTSTAMP:20260411T170000Z
DTSTART;TZID=America/Denver:20260411T110000
DURATION:PT0H60M0S
SUMMARY:Vigilantes vs Bruins
DESCRIPTION:4th/5th Grade | Soccer\nHelena Family YMCA\n
URL;VALUE=URI:https://ygametime.com/branch/helena/sports/2026-spring-soccer/25310/?utm_medium=calendar&utm_source=team_cal&utm_content=league_url#game-584354
LOCATION:C2 Centennial Field 
BEGIN:VALARM
TRIGGER:-P2H
ACTION:DISPLAY
DESCRIPTION:Vigilantes vs Bruins
END:VALARM
END:VEVENT
BEGIN:VEVENT
UID:helena-584355@ygametime.com
DTSTAMP:20260418T160000Z
DTSTART;TZID=America/Denver:20260418T100000
DURATION:PT0H60M0S
SUMMARY:Bruins vs Vigilantes
DESCRIPTION:4th/5th Grade | Soccer\nHelena Family YMCA\n
URL;VALUE=URI:https://ygametime.com/branch/helena/sports/2026-spring-soccer/25310/?utm_medium=calendar&utm_source=team_cal&utm_content=league_url#game-584355
LOCATION:C2 Centennial Field 
BEGIN:VALARM
TRIGGER:-P2H
ACTION:DISPLAY
DESCRIPTION:Bruins vs Vigilantes
END:VALARM
END:VEVENT
BEGIN:VEVENT
UID:helena-584358@ygametime.com
DTSTAMP:20260425T170000Z
DTSTART;TZID=America/Denver:20260425T110000
DURATION:PT0H60M0S
SUMMARY:Vigilantes vs Bengals
DESCRIPTION:4th/5th Grade | Soccer\nHelena Family YMCA\n
URL;VALUE=URI:https://ygametime.com/branch/helena/sports/2026-spring-soccer/25310/?utm_medium=calendar&utm_source=team_cal&utm_content=league_url#game-584358
LOCATION:C2 Centennial Field 
BEGIN:VALARM
TRIGGER:-P2H
ACTION:DISPLAY
DESCRIPTION:Vigilantes vs Bengals
END:VALARM
END:VEVENT
BEGIN:VEVENT
UID:helena-584359@ygametime.com
DTSTAMP:20260502T160000Z
DTSTART;TZID=America/Denver:20260502T100000
DURATION:PT0H60M0S
SUMMARY:Vigilantes vs Bruins
DESCRIPTION:4th/5th Grade | Soccer\nHelena Family YMCA\n
URL;VALUE=URI:https://ygametime.com/branch/helena/sports/2026-spring-soccer/25310/?utm_medium=calendar&utm_source=team_cal&utm_content=league_url#game-584359
LOCATION:C2 Centennial Field 
BEGIN:VALARM
TRIGGER:-P2H
ACTION:DISPLAY
DESCRIPTION:Vigilantes vs Bruins
END:VALARM
END:VEVENT
BEGIN:VEVENT
UID:helena-584360@ygametime.com
DTSTAMP:20260502T170000Z
DTSTART;TZID=America/Denver:20260502T110000
DURATION:PT0H60M0S
SUMMARY:Vigilantes vs Bengals
DESCRIPTION:4th/5th Grade | Soccer\nHelena Family YMCA\n
URL;VALUE=URI:https://ygametime.com/branch/helena/sports/2026-spring-soccer/25310/?utm_medium=calendar&utm_source=team_cal&utm_content=league_url#game-584360
LOCATION:C2 Centennial Field 
BEGIN:VALARM
TRIGGER:-P2H
ACTION:DISPLAY
DESCRIPTION:Vigilantes vs Bengals
END:VALARM
END:VEVENT
BEGIN:VEVENT
UID:helena-584362@ygametime.com
DTSTAMP:20260509T170000Z
DTSTART;TZID=America/Denver:20260509T110000
DURATION:PT0H60M0S
SUMMARY:Bruins vs Vigilantes
DESCRIPTION:4th/5th Grade | Soccer\nHelena Family YMCA\n
URL;VALUE=URI:https://ygametime.com/branch/helena/sports/2026-spring-soccer/25310/?utm_medium=calendar&utm_source=team_cal&utm_content=league_url#game-584362
LOCATION:C2 Centennial Field 
BEGIN:VALARM
TRIGGER:-P2H
ACTION:DISPLAY
DESCRIPTION:Bruins vs Vigilantes
END:VALARM
END:VEVENT
BEGIN:VEVENT
UID:helena-584363@ygametime.com
DTSTAMP:20260516T160000Z
DTSTART;TZID=America/Denver:20260516T100000
DURATION:PT0H60M0S
SUMMARY:Vigilantes vs Bengals
DESCRIPTION:4th/5th Grade | Soccer\nHelena Family YMCA\n
URL;VALUE=URI:https://ygametime.com/branch/helena/sports/2026-spring-soccer/25310/?utm_medium=calendar&utm_source=team_cal&utm_content=league_url#game-584363
LOCATION:C2 Centennial Field 
BEGIN:VALARM
TRIGGER:-P2H
ACTION:DISPLAY
DESCRIPTION:Vigilantes vs Bengals
END:VALARM
END:VEVENT
END:VCALENDAR

