BEGIN:VCALENDAR
VERSION:2.0
PRODID:-//YGAMETIME.com//YGT iCal Creator//EN
METHOD:PUBLISH
X-PUBLISHED-TTL:PT6H
REFRESH-INTERVAL;VALUE=DURATION:PT6H
CALSCALE:GREGORIAN
X-WR-CALNAME:YGAMETIME CALENDAR
BEGIN:VEVENT
UID:helena-584364@ygametime.com
DTSTAMP:20260411T160000Z
DTSTART;TZID=America/Denver:20260411T100000
DURATION:PT0H60M0S
SUMMARY:Owls vs Bluebirds
DESCRIPTION:Itty Bitty: 3 years old | Soccer\nHelena Family YMCA\n
URL;VALUE=URI:https://ygametime.com/branch/helena/sports/2026-spring-soccer/25311/?utm_medium=calendar&utm_source=team_cal&utm_content=league_url#game-584364
LOCATION:B2 Centennial Field 
BEGIN:VALARM
TRIGGER:-P2H
ACTION:DISPLAY
DESCRIPTION:Owls vs Bluebirds
END:VALARM
END:VEVENT
BEGIN:VEVENT
UID:helena-584371@ygametime.com
DTSTAMP:20260418T190000Z
DTSTART;TZID=America/Denver:20260418T130000
DURATION:PT0H60M0S
SUMMARY:Bluebirds vs Robins
DESCRIPTION:Itty Bitty: 3 years old | Soccer\nHelena Family YMCA\n
URL;VALUE=URI:https://ygametime.com/branch/helena/sports/2026-spring-soccer/25311/?utm_medium=calendar&utm_source=team_cal&utm_content=league_url#game-584371
LOCATION:B2 Centennial Field 
BEGIN:VALARM
TRIGGER:-P2H
ACTION:DISPLAY
DESCRIPTION:Bluebirds vs Robins
END:VALARM
END:VEVENT
BEGIN:VEVENT
UID:helena-584374@ygametime.com
DTSTAMP:20260425T180000Z
DTSTART;TZID=America/Denver:20260425T120000
DURATION:PT0H60M0S
SUMMARY:Sparrows vs Bluebirds
DESCRIPTION:Itty Bitty: 3 years old | Soccer\nHelena Family YMCA\n
URL;VALUE=URI:https://ygametime.com/branch/helena/sports/2026-spring-soccer/25311/?utm_medium=calendar&utm_source=team_cal&utm_content=league_url#game-584374
LOCATION:B2 Centennial Field 
BEGIN:VALARM
TRIGGER:-P2H
ACTION:DISPLAY
DESCRIPTION:Sparrows vs Bluebirds
END:VALARM
END:VEVENT
BEGIN:VEVENT
UID:helena-584377@ygametime.com
DTSTAMP:20260502T170000Z
DTSTART;TZID=America/Denver:20260502T110000
DURATION:PT0H60M0S
SUMMARY:Bluebirds vs Toucans
DESCRIPTION:Itty Bitty: 3 years old | Soccer\nHelena Family YMCA\n
URL;VALUE=URI:https://ygametime.com/branch/helena/sports/2026-spring-soccer/25311/?utm_medium=calendar&utm_source=team_cal&utm_content=league_url#game-584377
LOCATION:B2 Centennial Field 
BEGIN:VALARM
TRIGGER:-P2H
ACTION:DISPLAY
DESCRIPTION:Bluebirds vs Toucans
END:VALARM
END:VEVENT
BEGIN:VEVENT
UID:helena-584380@ygametime.com
DTSTAMP:20260509T160000Z
DTSTART;TZID=America/Denver:20260509T100000
DURATION:PT0H60M0S
SUMMARY:Hummingbirds vs Bluebirds
DESCRIPTION:Itty Bitty: 3 years old | Soccer\nHelena Family YMCA\n
URL;VALUE=URI:https://ygametime.com/branch/helena/sports/2026-spring-soccer/25311/?utm_medium=calendar&utm_source=team_cal&utm_content=league_url#game-584380
LOCATION:B2 Centennial Field 
BEGIN:VALARM
TRIGGER:-P2H
ACTION:DISPLAY
DESCRIPTION:Hummingbirds vs Bluebirds
END:VALARM
END:VEVENT
BEGIN:VEVENT
UID:helena-584387@ygametime.com
DTSTAMP:20260516T190000Z
DTSTART;TZID=America/Denver:20260516T130000
DURATION:PT0H60M0S
SUMMARY:Bluebirds vs Eagles
DESCRIPTION:Itty Bitty: 3 years old | Soccer\nHelena Family YMCA\n
URL;VALUE=URI:https://ygametime.com/branch/helena/sports/2026-spring-soccer/25311/?utm_medium=calendar&utm_source=team_cal&utm_content=league_url#game-584387
LOCATION:B2 Centennial Field 
BEGIN:VALARM
TRIGGER:-P2H
ACTION:DISPLAY
DESCRIPTION:Bluebirds vs Eagles
END:VALARM
END:VEVENT
END:VCALENDAR

