BEGIN:VCALENDAR
VERSION:2.0
PRODID:-//YGAMETIME.com//YGT iCal Creator//EN
METHOD:PUBLISH
X-PUBLISHED-TTL:PT6H
REFRESH-INTERVAL;VALUE=DURATION:PT6H
CALSCALE:GREGORIAN
X-WR-CALNAME:YGAMETIME CALENDAR
BEGIN:VEVENT
UID:helena-584364@ygametime.com
DTSTAMP:20260411T160000Z
DTSTART;TZID=America/Denver:20260411T100000
DURATION:PT0H60M0S
SUMMARY:Owls vs Bluebirds
DESCRIPTION:Itty Bitty: 3 years old | Soccer\nHelena Family YMCA\n
URL;VALUE=URI:https://ygametime.com/branch/helena/sports/2026-spring-soccer/25311/?utm_medium=calendar&utm_source=team_cal&utm_content=league_url#game-584364
LOCATION:B2 Centennial Field 
BEGIN:VALARM
TRIGGER:-P2H
ACTION:DISPLAY
DESCRIPTION:Owls vs Bluebirds
END:VALARM
END:VEVENT
BEGIN:VEVENT
UID:helena-584368@ygametime.com
DTSTAMP:20260418T160000Z
DTSTART;TZID=America/Denver:20260418T100000
DURATION:PT0H60M0S
SUMMARY:Sparrows vs Owls
DESCRIPTION:Itty Bitty: 3 years old | Soccer\nHelena Family YMCA\n
URL;VALUE=URI:https://ygametime.com/branch/helena/sports/2026-spring-soccer/25311/?utm_medium=calendar&utm_source=team_cal&utm_content=league_url#game-584368
LOCATION:B2 Centennial Field 
BEGIN:VALARM
TRIGGER:-P2H
ACTION:DISPLAY
DESCRIPTION:Sparrows vs Owls
END:VALARM
END:VEVENT
BEGIN:VEVENT
UID:helena-584372@ygametime.com
DTSTAMP:20260425T160000Z
DTSTART;TZID=America/Denver:20260425T100000
DURATION:PT0H60M0S
SUMMARY:Owls vs Hummingbirds
DESCRIPTION:Itty Bitty: 3 years old | Soccer\nHelena Family YMCA\n
URL;VALUE=URI:https://ygametime.com/branch/helena/sports/2026-spring-soccer/25311/?utm_medium=calendar&utm_source=team_cal&utm_content=league_url#game-584372
LOCATION:B2 Centennial Field 
BEGIN:VALARM
TRIGGER:-P2H
ACTION:DISPLAY
DESCRIPTION:Owls vs Hummingbirds
END:VALARM
END:VEVENT
BEGIN:VEVENT
UID:helena-584376@ygametime.com
DTSTAMP:20260502T160000Z
DTSTART;TZID=America/Denver:20260502T100000
DURATION:PT0H60M0S
SUMMARY:Bluejays vs Owls
DESCRIPTION:Itty Bitty: 3 years old | Soccer\nHelena Family YMCA\n
URL;VALUE=URI:https://ygametime.com/branch/helena/sports/2026-spring-soccer/25311/?utm_medium=calendar&utm_source=team_cal&utm_content=league_url#game-584376
LOCATION:B2 Centennial Field 
BEGIN:VALARM
TRIGGER:-P2H
ACTION:DISPLAY
DESCRIPTION:Bluejays vs Owls
END:VALARM
END:VEVENT
BEGIN:VEVENT
UID:helena-584383@ygametime.com
DTSTAMP:20260509T190000Z
DTSTART;TZID=America/Denver:20260509T130000
DURATION:PT0H60M0S
SUMMARY:Owls vs Robins
DESCRIPTION:Itty Bitty: 3 years old | Soccer\nHelena Family YMCA\n
URL;VALUE=URI:https://ygametime.com/branch/helena/sports/2026-spring-soccer/25311/?utm_medium=calendar&utm_source=team_cal&utm_content=league_url#game-584383
LOCATION:B2 Centennial Field 
BEGIN:VALARM
TRIGGER:-P2H
ACTION:DISPLAY
DESCRIPTION:Owls vs Robins
END:VALARM
END:VEVENT
BEGIN:VEVENT
UID:helena-584385@ygametime.com
DTSTAMP:20260516T170000Z
DTSTART;TZID=America/Denver:20260516T110000
DURATION:PT0H60M0S
SUMMARY:Toucans vs Owls
DESCRIPTION:Itty Bitty: 3 years old | Soccer\nHelena Family YMCA\n
URL;VALUE=URI:https://ygametime.com/branch/helena/sports/2026-spring-soccer/25311/?utm_medium=calendar&utm_source=team_cal&utm_content=league_url#game-584385
LOCATION:B2 Centennial Field 
BEGIN:VALARM
TRIGGER:-P2H
ACTION:DISPLAY
DESCRIPTION:Toucans vs Owls
END:VALARM
END:VEVENT
END:VCALENDAR

