BEGIN:VCALENDAR
VERSION:2.0
PRODID:-//YGAMETIME.com//YGT iCal Creator//EN
METHOD:PUBLISH
X-PUBLISHED-TTL:PT6H
REFRESH-INTERVAL;VALUE=DURATION:PT6H
CALSCALE:GREGORIAN
X-WR-CALNAME:YGAMETIME CALENDAR
BEGIN:VEVENT
UID:helena-584365@ygametime.com
DTSTAMP:20260411T170000Z
DTSTART;TZID=America/Denver:20260411T110000
DURATION:PT0H60M0S
SUMMARY:Robins vs Bluejays
DESCRIPTION:Itty Bitty: 3 years old | Soccer\nHelena Family YMCA\n
URL;VALUE=URI:https://ygametime.com/branch/helena/sports/2026-spring-soccer/25311/?utm_medium=calendar&utm_source=team_cal&utm_content=league_url#game-584365
LOCATION:B2 Centennial Field 
BEGIN:VALARM
TRIGGER:-P2H
ACTION:DISPLAY
DESCRIPTION:Robins vs Bluejays
END:VALARM
END:VEVENT
BEGIN:VEVENT
UID:helena-584371@ygametime.com
DTSTAMP:20260418T190000Z
DTSTART;TZID=America/Denver:20260418T130000
DURATION:PT0H60M0S
SUMMARY:Bluebirds vs Robins
DESCRIPTION:Itty Bitty: 3 years old | Soccer\nHelena Family YMCA\n
URL;VALUE=URI:https://ygametime.com/branch/helena/sports/2026-spring-soccer/25311/?utm_medium=calendar&utm_source=team_cal&utm_content=league_url#game-584371
LOCATION:B2 Centennial Field 
BEGIN:VALARM
TRIGGER:-P2H
ACTION:DISPLAY
DESCRIPTION:Bluebirds vs Robins
END:VALARM
END:VEVENT
BEGIN:VEVENT
UID:helena-584375@ygametime.com
DTSTAMP:20260425T190000Z
DTSTART;TZID=America/Denver:20260425T130000
DURATION:PT0H60M0S
SUMMARY:Toucans vs Robins
DESCRIPTION:Itty Bitty: 3 years old | Soccer\nHelena Family YMCA\n
URL;VALUE=URI:https://ygametime.com/branch/helena/sports/2026-spring-soccer/25311/?utm_medium=calendar&utm_source=team_cal&utm_content=league_url#game-584375
LOCATION:B2 Centennial Field 
BEGIN:VALARM
TRIGGER:-P2H
ACTION:DISPLAY
DESCRIPTION:Toucans vs Robins
END:VALARM
END:VEVENT
BEGIN:VEVENT
UID:helena-584379@ygametime.com
DTSTAMP:20260502T190000Z
DTSTART;TZID=America/Denver:20260502T130000
DURATION:PT0H60M0S
SUMMARY:Robins vs Eagles
DESCRIPTION:Itty Bitty: 3 years old | Soccer\nHelena Family YMCA\n
URL;VALUE=URI:https://ygametime.com/branch/helena/sports/2026-spring-soccer/25311/?utm_medium=calendar&utm_source=team_cal&utm_content=league_url#game-584379
LOCATION:B2 Centennial Field 
BEGIN:VALARM
TRIGGER:-P2H
ACTION:DISPLAY
DESCRIPTION:Robins vs Eagles
END:VALARM
END:VEVENT
BEGIN:VEVENT
UID:helena-584383@ygametime.com
DTSTAMP:20260509T190000Z
DTSTART;TZID=America/Denver:20260509T130000
DURATION:PT0H60M0S
SUMMARY:Owls vs Robins
DESCRIPTION:Itty Bitty: 3 years old | Soccer\nHelena Family YMCA\n
URL;VALUE=URI:https://ygametime.com/branch/helena/sports/2026-spring-soccer/25311/?utm_medium=calendar&utm_source=team_cal&utm_content=league_url#game-584383
LOCATION:B2 Centennial Field 
BEGIN:VALARM
TRIGGER:-P2H
ACTION:DISPLAY
DESCRIPTION:Owls vs Robins
END:VALARM
END:VEVENT
BEGIN:VEVENT
UID:helena-584386@ygametime.com
DTSTAMP:20260516T180000Z
DTSTART;TZID=America/Denver:20260516T120000
DURATION:PT0H60M0S
SUMMARY:Robins vs Sparrows
DESCRIPTION:Itty Bitty: 3 years old | Soccer\nHelena Family YMCA\n
URL;VALUE=URI:https://ygametime.com/branch/helena/sports/2026-spring-soccer/25311/?utm_medium=calendar&utm_source=team_cal&utm_content=league_url#game-584386
LOCATION:B2 Centennial Field 
BEGIN:VALARM
TRIGGER:-P2H
ACTION:DISPLAY
DESCRIPTION:Robins vs Sparrows
END:VALARM
END:VEVENT
END:VCALENDAR

