BEGIN:VCALENDAR
VERSION:2.0
PRODID:-//YGAMETIME.com//YGT iCal Creator//EN
METHOD:PUBLISH
X-PUBLISHED-TTL:PT6H
REFRESH-INTERVAL;VALUE=DURATION:PT6H
CALSCALE:GREGORIAN
X-WR-CALNAME:YGAMETIME CALENDAR
BEGIN:VEVENT
UID:helena-584389@ygametime.com
DTSTAMP:20260411T170000Z
DTSTART;TZID=America/Denver:20260411T110000
DURATION:PT0H60M0S
SUMMARY:Thunder vs Earthquakes
DESCRIPTION:Kindergarten | Soccer\nHelena Family YMCA\n
URL;VALUE=URI:https://ygametime.com/branch/helena/sports/2026-spring-soccer/25312/?utm_medium=calendar&utm_source=team_cal&utm_content=league_url#game-584389
LOCATION:B5 Centennial Field 
BEGIN:VALARM
TRIGGER:-P2H
ACTION:DISPLAY
DESCRIPTION:Thunder vs Earthquakes
END:VALARM
END:VEVENT
BEGIN:VEVENT
UID:helena-584393@ygametime.com
DTSTAMP:20260418T170000Z
DTSTART;TZID=America/Denver:20260418T110000
DURATION:PT0H60M0S
SUMMARY:Earthquakes vs Tsunamis
DESCRIPTION:Kindergarten | Soccer\nHelena Family YMCA\n
URL;VALUE=URI:https://ygametime.com/branch/helena/sports/2026-spring-soccer/25312/?utm_medium=calendar&utm_source=team_cal&utm_content=league_url#game-584393
LOCATION:B5 Centennial Field 
BEGIN:VALARM
TRIGGER:-P2H
ACTION:DISPLAY
DESCRIPTION:Earthquakes vs Tsunamis
END:VALARM
END:VEVENT
BEGIN:VEVENT
UID:helena-584397@ygametime.com
DTSTAMP:20260425T170000Z
DTSTART;TZID=America/Denver:20260425T110000
DURATION:PT0H60M0S
SUMMARY:Fire vs Earthquakes
DESCRIPTION:Kindergarten | Soccer\nHelena Family YMCA\n
URL;VALUE=URI:https://ygametime.com/branch/helena/sports/2026-spring-soccer/25312/?utm_medium=calendar&utm_source=team_cal&utm_content=league_url#game-584397
LOCATION:B5 Centennial Field 
BEGIN:VALARM
TRIGGER:-P2H
ACTION:DISPLAY
DESCRIPTION:Fire vs Earthquakes
END:VALARM
END:VEVENT
BEGIN:VEVENT
UID:helena-584400@ygametime.com
DTSTAMP:20260502T160000Z
DTSTART;TZID=America/Denver:20260502T100000
DURATION:PT0H60M0S
SUMMARY:Earthquakes vs Storm
DESCRIPTION:Kindergarten | Soccer\nHelena Family YMCA\n
URL;VALUE=URI:https://ygametime.com/branch/helena/sports/2026-spring-soccer/25312/?utm_medium=calendar&utm_source=team_cal&utm_content=league_url#game-584400
LOCATION:B5 Centennial Field 
BEGIN:VALARM
TRIGGER:-P2H
ACTION:DISPLAY
DESCRIPTION:Earthquakes vs Storm
END:VALARM
END:VEVENT
BEGIN:VEVENT
UID:helena-584406@ygametime.com
DTSTAMP:20260509T180000Z
DTSTART;TZID=America/Denver:20260509T120000
DURATION:PT0H60M0S
SUMMARY:Tornedoes vs Earthquakes
DESCRIPTION:Kindergarten | Soccer\nHelena Family YMCA\n
URL;VALUE=URI:https://ygametime.com/branch/helena/sports/2026-spring-soccer/25312/?utm_medium=calendar&utm_source=team_cal&utm_content=league_url#game-584406
LOCATION:B5 Centennial Field 
BEGIN:VALARM
TRIGGER:-P2H
ACTION:DISPLAY
DESCRIPTION:Tornedoes vs Earthquakes
END:VALARM
END:VEVENT
BEGIN:VEVENT
UID:helena-584408@ygametime.com
DTSTAMP:20260516T160000Z
DTSTART;TZID=America/Denver:20260516T100000
DURATION:PT0H60M0S
SUMMARY:Earthquakes vs Hurricanes
DESCRIPTION:Kindergarten | Soccer\nHelena Family YMCA\n
URL;VALUE=URI:https://ygametime.com/branch/helena/sports/2026-spring-soccer/25312/?utm_medium=calendar&utm_source=team_cal&utm_content=league_url#game-584408
LOCATION:B5 Centennial Field 
BEGIN:VALARM
TRIGGER:-P2H
ACTION:DISPLAY
DESCRIPTION:Earthquakes vs Hurricanes
END:VALARM
END:VEVENT
END:VCALENDAR

