BEGIN:VCALENDAR
VERSION:2.0
PRODID:-//YGAMETIME.com//YGT iCal Creator//EN
METHOD:PUBLISH
X-PUBLISHED-TTL:PT6H
REFRESH-INTERVAL;VALUE=DURATION:PT6H
CALSCALE:GREGORIAN
X-WR-CALNAME:YGAMETIME CALENDAR
BEGIN:VEVENT
UID:helena-584388@ygametime.com
DTSTAMP:20260411T160000Z
DTSTART;TZID=America/Denver:20260411T100000
DURATION:PT0H60M0S
SUMMARY:Storm vs Blizzards
DESCRIPTION:Kindergarten | Soccer\nHelena Family YMCA\n
URL;VALUE=URI:https://ygametime.com/branch/helena/sports/2026-spring-soccer/25312/?utm_medium=calendar&utm_source=team_cal&utm_content=league_url#game-584388
LOCATION:B5 Centennial Field 
BEGIN:VALARM
TRIGGER:-P2H
ACTION:DISPLAY
DESCRIPTION:Storm vs Blizzards
END:VALARM
END:VEVENT
BEGIN:VEVENT
UID:helena-584392@ygametime.com
DTSTAMP:20260418T160000Z
DTSTART;TZID=America/Denver:20260418T100000
DURATION:PT0H60M0S
SUMMARY:Tornedoes vs Storm
DESCRIPTION:Kindergarten | Soccer\nHelena Family YMCA\n
URL;VALUE=URI:https://ygametime.com/branch/helena/sports/2026-spring-soccer/25312/?utm_medium=calendar&utm_source=team_cal&utm_content=league_url#game-584392
LOCATION:B5 Centennial Field 
BEGIN:VALARM
TRIGGER:-P2H
ACTION:DISPLAY
DESCRIPTION:Tornedoes vs Storm
END:VALARM
END:VEVENT
BEGIN:VEVENT
UID:helena-584396@ygametime.com
DTSTAMP:20260425T160000Z
DTSTART;TZID=America/Denver:20260425T100000
DURATION:PT0H60M0S
SUMMARY:Storm vs Hurricanes
DESCRIPTION:Kindergarten | Soccer\nHelena Family YMCA\n
URL;VALUE=URI:https://ygametime.com/branch/helena/sports/2026-spring-soccer/25312/?utm_medium=calendar&utm_source=team_cal&utm_content=league_url#game-584396
LOCATION:B5 Centennial Field 
BEGIN:VALARM
TRIGGER:-P2H
ACTION:DISPLAY
DESCRIPTION:Storm vs Hurricanes
END:VALARM
END:VEVENT
BEGIN:VEVENT
UID:helena-584400@ygametime.com
DTSTAMP:20260502T160000Z
DTSTART;TZID=America/Denver:20260502T100000
DURATION:PT0H60M0S
SUMMARY:Earthquakes vs Storm
DESCRIPTION:Kindergarten | Soccer\nHelena Family YMCA\n
URL;VALUE=URI:https://ygametime.com/branch/helena/sports/2026-spring-soccer/25312/?utm_medium=calendar&utm_source=team_cal&utm_content=league_url#game-584400
LOCATION:B5 Centennial Field 
BEGIN:VALARM
TRIGGER:-P2H
ACTION:DISPLAY
DESCRIPTION:Earthquakes vs Storm
END:VALARM
END:VEVENT
BEGIN:VEVENT
UID:helena-584407@ygametime.com
DTSTAMP:20260509T190000Z
DTSTART;TZID=America/Denver:20260509T130000
DURATION:PT0H60M0S
SUMMARY:Storm vs Thunder
DESCRIPTION:Kindergarten | Soccer\nHelena Family YMCA\n
URL;VALUE=URI:https://ygametime.com/branch/helena/sports/2026-spring-soccer/25312/?utm_medium=calendar&utm_source=team_cal&utm_content=league_url#game-584407
LOCATION:B5 Centennial Field 
BEGIN:VALARM
TRIGGER:-P2H
ACTION:DISPLAY
DESCRIPTION:Storm vs Thunder
END:VALARM
END:VEVENT
BEGIN:VEVENT
UID:helena-584409@ygametime.com
DTSTAMP:20260516T170000Z
DTSTART;TZID=America/Denver:20260516T110000
DURATION:PT0H60M0S
SUMMARY:Tsunamis vs Storm
DESCRIPTION:Kindergarten | Soccer\nHelena Family YMCA\n
URL;VALUE=URI:https://ygametime.com/branch/helena/sports/2026-spring-soccer/25312/?utm_medium=calendar&utm_source=team_cal&utm_content=league_url#game-584409
LOCATION:B5 Centennial Field 
BEGIN:VALARM
TRIGGER:-P2H
ACTION:DISPLAY
DESCRIPTION:Tsunamis vs Storm
END:VALARM
END:VEVENT
END:VCALENDAR

