BEGIN:VCALENDAR
VERSION:2.0
PRODID:-//YGAMETIME.com//YGT iCal Creator//EN
METHOD:PUBLISH
X-PUBLISHED-TTL:PT6H
REFRESH-INTERVAL;VALUE=DURATION:PT6H
CALSCALE:GREGORIAN
X-WR-CALNAME:YGAMETIME CALENDAR
BEGIN:VEVENT
UID:helena-584389@ygametime.com
DTSTAMP:20260411T170000Z
DTSTART;TZID=America/Denver:20260411T110000
DURATION:PT0H60M0S
SUMMARY:Thunder vs Earthquakes
DESCRIPTION:Kindergarten | Soccer\nHelena Family YMCA\n
URL;VALUE=URI:https://ygametime.com/branch/helena/sports/2026-spring-soccer/25312/?utm_medium=calendar&utm_source=team_cal&utm_content=league_url#game-584389
LOCATION:B5 Centennial Field 
BEGIN:VALARM
TRIGGER:-P2H
ACTION:DISPLAY
DESCRIPTION:Thunder vs Earthquakes
END:VALARM
END:VEVENT
BEGIN:VEVENT
UID:helena-584395@ygametime.com
DTSTAMP:20260418T190000Z
DTSTART;TZID=America/Denver:20260418T130000
DURATION:PT0H60M0S
SUMMARY:Blizzards vs Thunder
DESCRIPTION:Kindergarten | Soccer\nHelena Family YMCA\n
URL;VALUE=URI:https://ygametime.com/branch/helena/sports/2026-spring-soccer/25312/?utm_medium=calendar&utm_source=team_cal&utm_content=league_url#game-584395
LOCATION:B5 Centennial Field 
BEGIN:VALARM
TRIGGER:-P2H
ACTION:DISPLAY
DESCRIPTION:Blizzards vs Thunder
END:VALARM
END:VEVENT
BEGIN:VEVENT
UID:helena-584399@ygametime.com
DTSTAMP:20260425T190000Z
DTSTART;TZID=America/Denver:20260425T130000
DURATION:PT0H60M0S
SUMMARY:Tsunamis vs Thunder
DESCRIPTION:Kindergarten | Soccer\nHelena Family YMCA\n
URL;VALUE=URI:https://ygametime.com/branch/helena/sports/2026-spring-soccer/25312/?utm_medium=calendar&utm_source=team_cal&utm_content=league_url#game-584399
LOCATION:B5 Centennial Field 
BEGIN:VALARM
TRIGGER:-P2H
ACTION:DISPLAY
DESCRIPTION:Tsunamis vs Thunder
END:VALARM
END:VEVENT
BEGIN:VEVENT
UID:helena-584403@ygametime.com
DTSTAMP:20260502T190000Z
DTSTART;TZID=America/Denver:20260502T130000
DURATION:PT0H60M0S
SUMMARY:Thunder vs Fire
DESCRIPTION:Kindergarten | Soccer\nHelena Family YMCA\n
URL;VALUE=URI:https://ygametime.com/branch/helena/sports/2026-spring-soccer/25312/?utm_medium=calendar&utm_source=team_cal&utm_content=league_url#game-584403
LOCATION:B5 Centennial Field 
BEGIN:VALARM
TRIGGER:-P2H
ACTION:DISPLAY
DESCRIPTION:Thunder vs Fire
END:VALARM
END:VEVENT
BEGIN:VEVENT
UID:helena-584407@ygametime.com
DTSTAMP:20260509T190000Z
DTSTART;TZID=America/Denver:20260509T130000
DURATION:PT0H60M0S
SUMMARY:Storm vs Thunder
DESCRIPTION:Kindergarten | Soccer\nHelena Family YMCA\n
URL;VALUE=URI:https://ygametime.com/branch/helena/sports/2026-spring-soccer/25312/?utm_medium=calendar&utm_source=team_cal&utm_content=league_url#game-584407
LOCATION:B5 Centennial Field 
BEGIN:VALARM
TRIGGER:-P2H
ACTION:DISPLAY
DESCRIPTION:Storm vs Thunder
END:VALARM
END:VEVENT
BEGIN:VEVENT
UID:helena-584410@ygametime.com
DTSTAMP:20260516T180000Z
DTSTART;TZID=America/Denver:20260516T120000
DURATION:PT0H60M0S
SUMMARY:Thunder vs Tornedoes
DESCRIPTION:Kindergarten | Soccer\nHelena Family YMCA\n
URL;VALUE=URI:https://ygametime.com/branch/helena/sports/2026-spring-soccer/25312/?utm_medium=calendar&utm_source=team_cal&utm_content=league_url#game-584410
LOCATION:B5 Centennial Field 
BEGIN:VALARM
TRIGGER:-P2H
ACTION:DISPLAY
DESCRIPTION:Thunder vs Tornedoes
END:VALARM
END:VEVENT
END:VCALENDAR

