BEGIN:VCALENDAR
VERSION:2.0
PRODID:-//YGAMETIME.com//YGT iCal Creator//EN
METHOD:PUBLISH
X-PUBLISHED-TTL:PT6H
REFRESH-INTERVAL;VALUE=DURATION:PT6H
CALSCALE:GREGORIAN
X-WR-CALNAME:YGAMETIME CALENDAR
BEGIN:VEVENT
UID:helena-595398@ygametime.com
DTSTAMP:20260612T010000Z
DTSTART;TZID=America/Denver:20260611T190000
DURATION:PT0H60M0S
SUMMARY:Braves vs Giants
DESCRIPTION:3-4 years olds | T- Ball\nHelena Family YMCA\n
URL;VALUE=URI:https://ygametime.com/branch/helena/sports/2026-summer-t-ball/25764/?utm_medium=calendar&utm_source=team_cal&utm_content=league_url#game-595398
LOCATION:B1 Centennial Field
BEGIN:VALARM
TRIGGER:-P2H
ACTION:DISPLAY
DESCRIPTION:Braves vs Giants
END:VALARM
END:VEVENT
BEGIN:VEVENT
UID:helena-595400@ygametime.com
DTSTAMP:20260619T000000Z
DTSTART;TZID=America/Denver:20260618T180000
DURATION:PT0H60M0S
SUMMARY:Dodgers vs Braves
DESCRIPTION:3-4 years olds | T- Ball\nHelena Family YMCA\n
URL;VALUE=URI:https://ygametime.com/branch/helena/sports/2026-summer-t-ball/25764/?utm_medium=calendar&utm_source=team_cal&utm_content=league_url#game-595400
LOCATION:B1 Centennial Field
BEGIN:VALARM
TRIGGER:-P2H
ACTION:DISPLAY
DESCRIPTION:Dodgers vs Braves
END:VALARM
END:VEVENT
BEGIN:VEVENT
UID:helena-595404@ygametime.com
DTSTAMP:20260626T010000Z
DTSTART;TZID=America/Denver:20260625T190000
DURATION:PT0H60M0S
SUMMARY:Braves vs Pirates
DESCRIPTION:3-4 years olds | T- Ball\nHelena Family YMCA\n
URL;VALUE=URI:https://ygametime.com/branch/helena/sports/2026-summer-t-ball/25764/?utm_medium=calendar&utm_source=team_cal&utm_content=league_url#game-595404
LOCATION:B1 Centennial Field
BEGIN:VALARM
TRIGGER:-P2H
ACTION:DISPLAY
DESCRIPTION:Braves vs Pirates
END:VALARM
END:VEVENT
BEGIN:VEVENT
UID:helena-595408@ygametime.com
DTSTAMP:20260709T230000Z
DTSTART;TZID=America/Denver:20260709T170000
DURATION:PT0H60M0S
SUMMARY:Brewers vs Braves
DESCRIPTION:3-4 years olds | T- Ball\nHelena Family YMCA\n
URL;VALUE=URI:https://ygametime.com/branch/helena/sports/2026-summer-t-ball/25764/?utm_medium=calendar&utm_source=team_cal&utm_content=league_url#game-595408
LOCATION:B1 Centennial Field
BEGIN:VALARM
TRIGGER:-P2H
ACTION:DISPLAY
DESCRIPTION:Brewers vs Braves
END:VALARM
END:VEVENT
BEGIN:VEVENT
UID:helena-595411@ygametime.com
DTSTAMP:20260716T230000Z
DTSTART;TZID=America/Denver:20260716T170000
DURATION:PT0H60M0S
SUMMARY:Braves vs Giants
DESCRIPTION:3-4 years olds | T- Ball\nHelena Family YMCA\n
URL;VALUE=URI:https://ygametime.com/branch/helena/sports/2026-summer-t-ball/25764/?utm_medium=calendar&utm_source=team_cal&utm_content=league_url#game-595411
LOCATION:B1 Centennial Field
BEGIN:VALARM
TRIGGER:-P2H
ACTION:DISPLAY
DESCRIPTION:Braves vs Giants
END:VALARM
END:VEVENT
BEGIN:VEVENT
UID:helena-595405@ygametime.com
DTSTAMP:20260723T230000Z
DTSTART;TZID=America/Denver:20260723T170000
DURATION:PT0H60M0S
SUMMARY:Angels vs Braves
DESCRIPTION:3-4 years olds | T- Ball\nHelena Family YMCA\n
URL;VALUE=URI:https://ygametime.com/branch/helena/sports/2026-summer-t-ball/25764/?utm_medium=calendar&utm_source=team_cal&utm_content=league_url#game-595405
LOCATION:B1 Centennial Field
BEGIN:VALARM
TRIGGER:-P2H
ACTION:DISPLAY
DESCRIPTION:Angels vs Braves
END:VALARM
END:VEVENT
END:VCALENDAR

