BEGIN:VCALENDAR
VERSION:2.0
PRODID:-//YGAMETIME.com//YGT iCal Creator//EN
METHOD:PUBLISH
X-PUBLISHED-TTL:PT6H
REFRESH-INTERVAL;VALUE=DURATION:PT6H
CALSCALE:GREGORIAN
X-WR-CALNAME:YGAMETIME CALENDAR
BEGIN:VEVENT
UID:helena-595398@ygametime.com
DTSTAMP:20260612T010000Z
DTSTART;TZID=America/Denver:20260611T190000
DURATION:PT0H60M0S
SUMMARY:Braves vs Giants
DESCRIPTION:3-4 years olds | T- Ball\nHelena Family YMCA\n
URL;VALUE=URI:https://ygametime.com/branch/helena/sports/2026-summer-t-ball/25764/?utm_medium=calendar&utm_source=team_cal&utm_content=league_url#game-595398
LOCATION:B1 Centennial Field
BEGIN:VALARM
TRIGGER:-P2H
ACTION:DISPLAY
DESCRIPTION:Braves vs Giants
END:VALARM
END:VEVENT
BEGIN:VEVENT
UID:helena-595399@ygametime.com
DTSTAMP:20260618T230000Z
DTSTART;TZID=America/Denver:20260618T170000
DURATION:PT0H60M0S
SUMMARY:Giants vs Brewers
DESCRIPTION:3-4 years olds | T- Ball\nHelena Family YMCA\n
URL;VALUE=URI:https://ygametime.com/branch/helena/sports/2026-summer-t-ball/25764/?utm_medium=calendar&utm_source=team_cal&utm_content=league_url#game-595399
LOCATION:B1 Centennial Field
BEGIN:VALARM
TRIGGER:-P2H
ACTION:DISPLAY
DESCRIPTION:Giants vs Brewers
END:VALARM
END:VEVENT
BEGIN:VEVENT
UID:helena-595403@ygametime.com
DTSTAMP:20260626T000000Z
DTSTART;TZID=America/Denver:20260625T180000
DURATION:PT0H60M0S
SUMMARY:Giants vs Angels
DESCRIPTION:3-4 years olds | T- Ball\nHelena Family YMCA\n
URL;VALUE=URI:https://ygametime.com/branch/helena/sports/2026-summer-t-ball/25764/?utm_medium=calendar&utm_source=team_cal&utm_content=league_url#game-595403
LOCATION:B1 Centennial Field
BEGIN:VALARM
TRIGGER:-P2H
ACTION:DISPLAY
DESCRIPTION:Giants vs Angels
END:VALARM
END:VEVENT
BEGIN:VEVENT
UID:helena-595409@ygametime.com
DTSTAMP:20260710T000000Z
DTSTART;TZID=America/Denver:20260709T180000
DURATION:PT0H60M0S
SUMMARY:Giants vs Pirates
DESCRIPTION:3-4 years olds | T- Ball\nHelena Family YMCA\n
URL;VALUE=URI:https://ygametime.com/branch/helena/sports/2026-summer-t-ball/25764/?utm_medium=calendar&utm_source=team_cal&utm_content=league_url#game-595409
LOCATION:B1 Centennial Field
BEGIN:VALARM
TRIGGER:-P2H
ACTION:DISPLAY
DESCRIPTION:Giants vs Pirates
END:VALARM
END:VEVENT
BEGIN:VEVENT
UID:helena-595411@ygametime.com
DTSTAMP:20260716T230000Z
DTSTART;TZID=America/Denver:20260716T170000
DURATION:PT0H60M0S
SUMMARY:Braves vs Giants
DESCRIPTION:3-4 years olds | T- Ball\nHelena Family YMCA\n
URL;VALUE=URI:https://ygametime.com/branch/helena/sports/2026-summer-t-ball/25764/?utm_medium=calendar&utm_source=team_cal&utm_content=league_url#game-595411
LOCATION:B1 Centennial Field
BEGIN:VALARM
TRIGGER:-P2H
ACTION:DISPLAY
DESCRIPTION:Braves vs Giants
END:VALARM
END:VEVENT
BEGIN:VEVENT
UID:helena-595406@ygametime.com
DTSTAMP:20260724T000000Z
DTSTART;TZID=America/Denver:20260723T180000
DURATION:PT0H60M0S
SUMMARY:Dodgers vs Giants
DESCRIPTION:3-4 years olds | T- Ball\nHelena Family YMCA\n
URL;VALUE=URI:https://ygametime.com/branch/helena/sports/2026-summer-t-ball/25764/?utm_medium=calendar&utm_source=team_cal&utm_content=league_url#game-595406
LOCATION:B1 Centennial Field
BEGIN:VALARM
TRIGGER:-P2H
ACTION:DISPLAY
DESCRIPTION:Dodgers vs Giants
END:VALARM
END:VEVENT
END:VCALENDAR

