BEGIN:VCALENDAR
VERSION:2.0
PRODID:-//YGAMETIME.com//YGT iCal Creator//EN
METHOD:PUBLISH
X-PUBLISHED-TTL:PT6H
REFRESH-INTERVAL;VALUE=DURATION:PT6H
CALSCALE:GREGORIAN
X-WR-CALNAME:YGAMETIME CALENDAR
BEGIN:VEVENT
UID:helena-595414@ygametime.com
DTSTAMP:20260611T110000Z
DTSTART;TZID=America/Denver:20260611T050000
DURATION:PT0H60M0S
SUMMARY:Rockies vs Braves
DESCRIPTION:5- 6 years olds | T- Ball\nHelena Family YMCA\n
URL;VALUE=URI:https://ygametime.com/branch/helena/sports/2026-summer-t-ball/25765/?utm_medium=calendar&utm_source=team_cal&utm_content=league_url#game-595414
LOCATION:Field 4- T-ball West of Centennial B
BEGIN:VALARM
TRIGGER:-P2H
ACTION:DISPLAY
DESCRIPTION:Rockies vs Braves
END:VALARM
END:VEVENT
BEGIN:VEVENT
UID:helena-595419@ygametime.com
DTSTAMP:20260618T130000Z
DTSTART;TZID=America/Denver:20260618T070000
DURATION:PT0H60M0S
SUMMARY:Braves vs Royals
DESCRIPTION:5- 6 years olds | T- Ball\nHelena Family YMCA\n
URL;VALUE=URI:https://ygametime.com/branch/helena/sports/2026-summer-t-ball/25765/?utm_medium=calendar&utm_source=team_cal&utm_content=league_url#game-595419
LOCATION:Field 4- T-ball West of Centennial B
BEGIN:VALARM
TRIGGER:-P2H
ACTION:DISPLAY
DESCRIPTION:Braves vs Royals
END:VALARM
END:VEVENT
BEGIN:VEVENT
UID:helena-595421@ygametime.com
DTSTAMP:20260625T120000Z
DTSTART;TZID=America/Denver:20260625T060000
DURATION:PT0H60M0S
SUMMARY:Astros vs Braves
DESCRIPTION:5- 6 years olds | T- Ball\nHelena Family YMCA\n
URL;VALUE=URI:https://ygametime.com/branch/helena/sports/2026-summer-t-ball/25765/?utm_medium=calendar&utm_source=team_cal&utm_content=league_url#game-595421
LOCATION:Field 4- T-ball West of Centennial B
BEGIN:VALARM
TRIGGER:-P2H
ACTION:DISPLAY
DESCRIPTION:Astros vs Braves
END:VALARM
END:VEVENT
BEGIN:VEVENT
UID:helena-595428@ygametime.com
DTSTAMP:20260709T130000Z
DTSTART;TZID=America/Denver:20260709T070000
DURATION:PT0H60M0S
SUMMARY:Cubs vs Braves
DESCRIPTION:5- 6 years olds | T- Ball\nHelena Family YMCA\n
URL;VALUE=URI:https://ygametime.com/branch/helena/sports/2026-summer-t-ball/25765/?utm_medium=calendar&utm_source=team_cal&utm_content=league_url#game-595428
LOCATION:Field 4- T-ball West of Centennial B
BEGIN:VALARM
TRIGGER:-P2H
ACTION:DISPLAY
DESCRIPTION:Cubs vs Braves
END:VALARM
END:VEVENT
BEGIN:VEVENT
UID:helena-595430@ygametime.com
DTSTAMP:20260716T120000Z
DTSTART;TZID=America/Denver:20260716T060000
DURATION:PT0H60M0S
SUMMARY:Rockies vs Braves
DESCRIPTION:5- 6 years olds | T- Ball\nHelena Family YMCA\n
URL;VALUE=URI:https://ygametime.com/branch/helena/sports/2026-summer-t-ball/25765/?utm_medium=calendar&utm_source=team_cal&utm_content=league_url#game-595430
LOCATION:Field 4- T-ball West of Centennial B
BEGIN:VALARM
TRIGGER:-P2H
ACTION:DISPLAY
DESCRIPTION:Rockies vs Braves
END:VALARM
END:VEVENT
BEGIN:VEVENT
UID:helena-595423@ygametime.com
DTSTAMP:20260723T110000Z
DTSTART;TZID=America/Denver:20260723T050000
DURATION:PT0H60M0S
SUMMARY:Braves vs Guardians
DESCRIPTION:5- 6 years olds | T- Ball\nHelena Family YMCA\n
URL;VALUE=URI:https://ygametime.com/branch/helena/sports/2026-summer-t-ball/25765/?utm_medium=calendar&utm_source=team_cal&utm_content=league_url#game-595423
LOCATION:Field 4- T-ball West of Centennial B
BEGIN:VALARM
TRIGGER:-P2H
ACTION:DISPLAY
DESCRIPTION:Braves vs Guardians
END:VALARM
END:VEVENT
END:VCALENDAR

