BEGIN:VCALENDAR
VERSION:2.0
PRODID:-//YGAMETIME.com//YGT iCal Creator//EN
METHOD:PUBLISH
X-PUBLISHED-TTL:PT6H
REFRESH-INTERVAL;VALUE=DURATION:PT6H
CALSCALE:GREGORIAN
X-WR-CALNAME:YGAMETIME CALENDAR
BEGIN:VEVENT
UID:helena-595415@ygametime.com
DTSTAMP:20260611T120000Z
DTSTART;TZID=America/Denver:20260611T060000
DURATION:PT0H60M0S
SUMMARY:Royals vs Cubs
DESCRIPTION:5- 6 years olds | T- Ball\nHelena Family YMCA\n
URL;VALUE=URI:https://ygametime.com/branch/helena/sports/2026-summer-t-ball/25765/?utm_medium=calendar&utm_source=team_cal&utm_content=league_url#game-595415
LOCATION:Field 4- T-ball West of Centennial B
BEGIN:VALARM
TRIGGER:-P2H
ACTION:DISPLAY
DESCRIPTION:Royals vs Cubs
END:VALARM
END:VEVENT
BEGIN:VEVENT
UID:helena-595418@ygametime.com
DTSTAMP:20260618T120000Z
DTSTART;TZID=America/Denver:20260618T060000
DURATION:PT0H60M0S
SUMMARY:Cubs vs Guardians
DESCRIPTION:5- 6 years olds | T- Ball\nHelena Family YMCA\n
URL;VALUE=URI:https://ygametime.com/branch/helena/sports/2026-summer-t-ball/25765/?utm_medium=calendar&utm_source=team_cal&utm_content=league_url#game-595418
LOCATION:Field 4- T-ball West of Centennial B
BEGIN:VALARM
TRIGGER:-P2H
ACTION:DISPLAY
DESCRIPTION:Cubs vs Guardians
END:VALARM
END:VEVENT
BEGIN:VEVENT
UID:helena-595420@ygametime.com
DTSTAMP:20260625T110000Z
DTSTART;TZID=America/Denver:20260625T050000
DURATION:PT0H60M0S
SUMMARY:Rockies vs Cubs
DESCRIPTION:5- 6 years olds | T- Ball\nHelena Family YMCA\n
URL;VALUE=URI:https://ygametime.com/branch/helena/sports/2026-summer-t-ball/25765/?utm_medium=calendar&utm_source=team_cal&utm_content=league_url#game-595420
LOCATION:Field 4- T-ball West of Centennial B
BEGIN:VALARM
TRIGGER:-P2H
ACTION:DISPLAY
DESCRIPTION:Rockies vs Cubs
END:VALARM
END:VEVENT
BEGIN:VEVENT
UID:helena-595428@ygametime.com
DTSTAMP:20260709T130000Z
DTSTART;TZID=America/Denver:20260709T070000
DURATION:PT0H60M0S
SUMMARY:Cubs vs Braves
DESCRIPTION:5- 6 years olds | T- Ball\nHelena Family YMCA\n
URL;VALUE=URI:https://ygametime.com/branch/helena/sports/2026-summer-t-ball/25765/?utm_medium=calendar&utm_source=team_cal&utm_content=league_url#game-595428
LOCATION:Field 4- T-ball West of Centennial B
BEGIN:VALARM
TRIGGER:-P2H
ACTION:DISPLAY
DESCRIPTION:Cubs vs Braves
END:VALARM
END:VEVENT
BEGIN:VEVENT
UID:helena-595431@ygametime.com
DTSTAMP:20260716T130000Z
DTSTART;TZID=America/Denver:20260716T070000
DURATION:PT0H60M0S
SUMMARY:Royals vs Cubs
DESCRIPTION:5- 6 years olds | T- Ball\nHelena Family YMCA\n
URL;VALUE=URI:https://ygametime.com/branch/helena/sports/2026-summer-t-ball/25765/?utm_medium=calendar&utm_source=team_cal&utm_content=league_url#game-595431
LOCATION:Field 4- T-ball West of Centennial B
BEGIN:VALARM
TRIGGER:-P2H
ACTION:DISPLAY
DESCRIPTION:Royals vs Cubs
END:VALARM
END:VEVENT
BEGIN:VEVENT
UID:helena-595424@ygametime.com
DTSTAMP:20260723T120000Z
DTSTART;TZID=America/Denver:20260723T060000
DURATION:PT0H60M0S
SUMMARY:Cubs vs Astros
DESCRIPTION:5- 6 years olds | T- Ball\nHelena Family YMCA\n
URL;VALUE=URI:https://ygametime.com/branch/helena/sports/2026-summer-t-ball/25765/?utm_medium=calendar&utm_source=team_cal&utm_content=league_url#game-595424
LOCATION:Field 4- T-ball West of Centennial B
BEGIN:VALARM
TRIGGER:-P2H
ACTION:DISPLAY
DESCRIPTION:Cubs vs Astros
END:VALARM
END:VEVENT
END:VCALENDAR

