BEGIN:VCALENDAR
VERSION:2.0
PRODID:-//YGAMETIME.com//YGT iCal Creator//EN
METHOD:PUBLISH
X-PUBLISHED-TTL:PT6H
REFRESH-INTERVAL;VALUE=DURATION:PT6H
CALSCALE:GREGORIAN
X-WR-CALNAME:YGAMETIME CALENDAR
BEGIN:VEVENT
UID:helena-595416@ygametime.com
DTSTAMP:20260611T130000Z
DTSTART;TZID=America/Denver:20260611T070000
DURATION:PT0H60M0S
SUMMARY:Guardians vs Astros
DESCRIPTION:5- 6 years olds | T- Ball\nHelena Family YMCA\n
URL;VALUE=URI:https://ygametime.com/branch/helena/sports/2026-summer-t-ball/25765/?utm_medium=calendar&utm_source=team_cal&utm_content=league_url#game-595416
LOCATION:Field 4- T-ball West of Centennial B
BEGIN:VALARM
TRIGGER:-P2H
ACTION:DISPLAY
DESCRIPTION:Guardians vs Astros
END:VALARM
END:VEVENT
BEGIN:VEVENT
UID:helena-595417@ygametime.com
DTSTAMP:20260618T110000Z
DTSTART;TZID=America/Denver:20260618T050000
DURATION:PT0H60M0S
SUMMARY:Astros vs Rockies
DESCRIPTION:5- 6 years olds | T- Ball\nHelena Family YMCA\n
URL;VALUE=URI:https://ygametime.com/branch/helena/sports/2026-summer-t-ball/25765/?utm_medium=calendar&utm_source=team_cal&utm_content=league_url#game-595417
LOCATION:Field 4- T-ball West of Centennial B
BEGIN:VALARM
TRIGGER:-P2H
ACTION:DISPLAY
DESCRIPTION:Astros vs Rockies
END:VALARM
END:VEVENT
BEGIN:VEVENT
UID:helena-595421@ygametime.com
DTSTAMP:20260625T120000Z
DTSTART;TZID=America/Denver:20260625T060000
DURATION:PT0H60M0S
SUMMARY:Astros vs Braves
DESCRIPTION:5- 6 years olds | T- Ball\nHelena Family YMCA\n
URL;VALUE=URI:https://ygametime.com/branch/helena/sports/2026-summer-t-ball/25765/?utm_medium=calendar&utm_source=team_cal&utm_content=league_url#game-595421
LOCATION:Field 4- T-ball West of Centennial B
BEGIN:VALARM
TRIGGER:-P2H
ACTION:DISPLAY
DESCRIPTION:Astros vs Braves
END:VALARM
END:VEVENT
BEGIN:VEVENT
UID:helena-595427@ygametime.com
DTSTAMP:20260709T120000Z
DTSTART;TZID=America/Denver:20260709T060000
DURATION:PT0H60M0S
SUMMARY:Astros vs Royals
DESCRIPTION:5- 6 years olds | T- Ball\nHelena Family YMCA\n
URL;VALUE=URI:https://ygametime.com/branch/helena/sports/2026-summer-t-ball/25765/?utm_medium=calendar&utm_source=team_cal&utm_content=league_url#game-595427
LOCATION:Field 4- T-ball West of Centennial B
BEGIN:VALARM
TRIGGER:-P2H
ACTION:DISPLAY
DESCRIPTION:Astros vs Royals
END:VALARM
END:VEVENT
BEGIN:VEVENT
UID:helena-595429@ygametime.com
DTSTAMP:20260716T110000Z
DTSTART;TZID=America/Denver:20260716T050000
DURATION:PT0H60M0S
SUMMARY:Guardians vs Astros
DESCRIPTION:5- 6 years olds | T- Ball\nHelena Family YMCA\n
URL;VALUE=URI:https://ygametime.com/branch/helena/sports/2026-summer-t-ball/25765/?utm_medium=calendar&utm_source=team_cal&utm_content=league_url#game-595429
LOCATION:Field 4- T-ball West of Centennial B
BEGIN:VALARM
TRIGGER:-P2H
ACTION:DISPLAY
DESCRIPTION:Guardians vs Astros
END:VALARM
END:VEVENT
BEGIN:VEVENT
UID:helena-595424@ygametime.com
DTSTAMP:20260723T120000Z
DTSTART;TZID=America/Denver:20260723T060000
DURATION:PT0H60M0S
SUMMARY:Cubs vs Astros
DESCRIPTION:5- 6 years olds | T- Ball\nHelena Family YMCA\n
URL;VALUE=URI:https://ygametime.com/branch/helena/sports/2026-summer-t-ball/25765/?utm_medium=calendar&utm_source=team_cal&utm_content=league_url#game-595424
LOCATION:Field 4- T-ball West of Centennial B
BEGIN:VALARM
TRIGGER:-P2H
ACTION:DISPLAY
DESCRIPTION:Cubs vs Astros
END:VALARM
END:VEVENT
END:VCALENDAR

