BEGIN:VCALENDAR
VERSION:2.0
PRODID:-//YGAMETIME.com//YGT iCal Creator//EN
METHOD:PUBLISH
X-PUBLISHED-TTL:PT6H
REFRESH-INTERVAL;VALUE=DURATION:PT6H
CALSCALE:GREGORIAN
X-WR-CALNAME:YGAMETIME CALENDAR
BEGIN:VTIMEZONE
TZID:America/Chicago
X-LIC-LOCATION:America/Chicago
BEGIN:DAYLIGHT
TZOFFSETFROM:-0600
TZOFFSETTO:-0500
TZNAME:CDT
DTSTART:19700308T020000
RRULE:FREQ=YEARLY;BYMONTH=3;BYDAY=2SU
END:DAYLIGHT
BEGIN:STANDARD
TZOFFSETFROM:-0500
TZOFFSETTO:-0600
TZNAME:CST
DTSTART:19701101T020000
RRULE:FREQ=YEARLY;BYMONTH=11;BYDAY=1SU
END:STANDARD
END:VTIMEZONE
BEGIN:VEVENT
UID:hutto-593071@ygametime.com
DTSTAMP:20260328T130000Z
DTSTART;TZID=America/Chicago:20260328T080000
DURATION:PT0H60M0S
SUMMARY:BB 8 - Wolves vs BB 5 - Bulls
DESCRIPTION:1st/2nd Grade Coed Basketball | Basketball\nHutto Family YMCA\n
URL;VALUE=URI:https://ygametime.com/branch/hutto/sports/2026-spring-basketball/25659/?utm_medium=calendar&utm_source=team_cal&utm_content=league_url#game-593071
LOCATION:Hutto Family YMCA Gym Court A
BEGIN:VALARM
TRIGGER:-P2H
ACTION:DISPLAY
DESCRIPTION:BB 8 - Wolves vs BB 5 - Bulls
END:VALARM
END:VEVENT
BEGIN:VEVENT
UID:hutto-593076@ygametime.com
DTSTAMP:20260411T140000Z
DTSTART;TZID=America/Chicago:20260411T090000
DURATION:PT0H60M0S
SUMMARY:BB 5 - Bulls vs BB 9 - Titans
DESCRIPTION:1st/2nd Grade Coed Basketball | Basketball\nHutto Family YMCA\n
URL;VALUE=URI:https://ygametime.com/branch/hutto/sports/2026-spring-basketball/25659/?utm_medium=calendar&utm_source=team_cal&utm_content=league_url#game-593076
LOCATION:Hutto Family YMCA Gym Court A
BEGIN:VALARM
TRIGGER:-P2H
ACTION:DISPLAY
DESCRIPTION:BB 5 - Bulls vs BB 9 - Titans
END:VALARM
END:VEVENT
BEGIN:VEVENT
UID:hutto-593078@ygametime.com
DTSTAMP:20260418T130000Z
DTSTART;TZID=America/Chicago:20260418T080000
DURATION:PT0H60M0S
SUMMARY:BB 10 - Mighty Hippos vs BB 5 - Bulls
DESCRIPTION:1st/2nd Grade Coed Basketball | Basketball\nHutto Family YMCA\n
URL;VALUE=URI:https://ygametime.com/branch/hutto/sports/2026-spring-basketball/25659/?utm_medium=calendar&utm_source=team_cal&utm_content=league_url#game-593078
LOCATION:Hutto Family YMCA Gym Court B
BEGIN:VALARM
TRIGGER:-P2H
ACTION:DISPLAY
DESCRIPTION:BB 10 - Mighty Hippos vs BB 5 - Bulls
END:VALARM
END:VEVENT
BEGIN:VEVENT
UID:hutto-593080@ygametime.com
DTSTAMP:20260425T130000Z
DTSTART;TZID=America/Chicago:20260425T080000
DURATION:PT0H60M0S
SUMMARY:BB 5 - Bulls vs BB 7 - Celtics
DESCRIPTION:1st/2nd Grade Coed Basketball | Basketball\nHutto Family YMCA\n
URL;VALUE=URI:https://ygametime.com/branch/hutto/sports/2026-spring-basketball/25659/?utm_medium=calendar&utm_source=team_cal&utm_content=league_url#game-593080
LOCATION:Hutto Family YMCA Gym Court A
BEGIN:VALARM
TRIGGER:-P2H
ACTION:DISPLAY
DESCRIPTION:BB 5 - Bulls vs BB 7 - Celtics
END:VALARM
END:VEVENT
BEGIN:VEVENT
UID:hutto-593085@ygametime.com
DTSTAMP:20260502T140000Z
DTSTART;TZID=America/Chicago:20260502T090000
DURATION:PT0H60M0S
SUMMARY:BB 6 - Galaxy vs BB 5 - Bulls
DESCRIPTION:1st/2nd Grade Coed Basketball | Basketball\nHutto Family YMCA\n
URL;VALUE=URI:https://ygametime.com/branch/hutto/sports/2026-spring-basketball/25659/?utm_medium=calendar&utm_source=team_cal&utm_content=league_url#game-593085
LOCATION:Hutto Family YMCA Gym Court A
BEGIN:VALARM
TRIGGER:-P2H
ACTION:DISPLAY
DESCRIPTION:BB 6 - Galaxy vs BB 5 - Bulls
END:VALARM
END:VEVENT
BEGIN:VEVENT
UID:hutto-593087@ygametime.com
DTSTAMP:20260509T130000Z
DTSTART;TZID=America/Chicago:20260509T080000
DURATION:PT0H60M0S
SUMMARY:BB 8 - Wolves vs BB 5 - Bulls
DESCRIPTION:1st/2nd Grade Coed Basketball | Basketball\nHutto Family YMCA\n
URL;VALUE=URI:https://ygametime.com/branch/hutto/sports/2026-spring-basketball/25659/?utm_medium=calendar&utm_source=team_cal&utm_content=league_url#game-593087
LOCATION:Hutto Family YMCA Gym Court B
BEGIN:VALARM
TRIGGER:-P2H
ACTION:DISPLAY
DESCRIPTION:BB 8 - Wolves vs BB 5 - Bulls
END:VALARM
END:VEVENT
END:VCALENDAR

