BEGIN:VCALENDAR
VERSION:2.0
PRODID:-//YGAMETIME.com//YGT iCal Creator//EN
METHOD:PUBLISH
X-PUBLISHED-TTL:PT6H
REFRESH-INTERVAL;VALUE=DURATION:PT6H
CALSCALE:GREGORIAN
X-WR-CALNAME:YGAMETIME CALENDAR
BEGIN:VTIMEZONE
TZID:America/Chicago
X-LIC-LOCATION:America/Chicago
BEGIN:DAYLIGHT
TZOFFSETFROM:-0600
TZOFFSETTO:-0500
TZNAME:CDT
DTSTART:19700308T020000
RRULE:FREQ=YEARLY;BYMONTH=3;BYDAY=2SU
END:DAYLIGHT
BEGIN:STANDARD
TZOFFSETFROM:-0500
TZOFFSETTO:-0600
TZNAME:CST
DTSTART:19701101T020000
RRULE:FREQ=YEARLY;BYMONTH=11;BYDAY=1SU
END:STANDARD
END:VTIMEZONE
BEGIN:VEVENT
UID:hutto-593737@ygametime.com
DTSTAMP:20260328T150000Z
DTSTART;TZID=America/Chicago:20260328T100000
DURATION:PT0H60M0S
SUMMARY:BB 14 - Bulldogs vs BB 11 - Dragons
DESCRIPTION:3rd/4th Grade Coed Basketball | Basketball\nHutto Family YMCA\n
URL;VALUE=URI:https://ygametime.com/branch/hutto/sports/2026-spring-basketball/25660/?utm_medium=calendar&utm_source=team_cal&utm_content=league_url#game-593737
LOCATION:Hutto Family YMCA Gym Court B
BEGIN:VALARM
TRIGGER:-P2H
ACTION:DISPLAY
DESCRIPTION:BB 14 - Bulldogs vs BB 11 - Dragons
END:VALARM
END:VEVENT
BEGIN:VEVENT
UID:hutto-593742@ygametime.com
DTSTAMP:20260411T150000Z
DTSTART;TZID=America/Chicago:20260411T100000
DURATION:PT0H60M0S
SUMMARY:BB 11 - Dragons vs BB 15 - Lakers
DESCRIPTION:3rd/4th Grade Coed Basketball | Basketball\nHutto Family YMCA\n
URL;VALUE=URI:https://ygametime.com/branch/hutto/sports/2026-spring-basketball/25660/?utm_medium=calendar&utm_source=team_cal&utm_content=league_url#game-593742
LOCATION:Hutto Family YMCA Gym Court A
BEGIN:VALARM
TRIGGER:-P2H
ACTION:DISPLAY
DESCRIPTION:BB 11 - Dragons vs BB 15 - Lakers
END:VALARM
END:VEVENT
BEGIN:VEVENT
UID:hutto-593744@ygametime.com
DTSTAMP:20260418T140000Z
DTSTART;TZID=America/Chicago:20260418T090000
DURATION:PT0H60M0S
SUMMARY:BB 16 - Hutto Hoop Stars vs BB 11 - Dragons
DESCRIPTION:3rd/4th Grade Coed Basketball | Basketball\nHutto Family YMCA\n
URL;VALUE=URI:https://ygametime.com/branch/hutto/sports/2026-spring-basketball/25660/?utm_medium=calendar&utm_source=team_cal&utm_content=league_url#game-593744
LOCATION:Hutto Family YMCA Gym Court B
BEGIN:VALARM
TRIGGER:-P2H
ACTION:DISPLAY
DESCRIPTION:BB 16 - Hutto Hoop Stars vs BB 11 - Dragons
END:VALARM
END:VEVENT
BEGIN:VEVENT
UID:hutto-593746@ygametime.com
DTSTAMP:20260425T150000Z
DTSTART;TZID=America/Chicago:20260425T100000
DURATION:PT0H60M0S
SUMMARY:BB 11 - Dragons vs BB 13 - Green Beans
DESCRIPTION:3rd/4th Grade Coed Basketball | Basketball\nHutto Family YMCA\n
URL;VALUE=URI:https://ygametime.com/branch/hutto/sports/2026-spring-basketball/25660/?utm_medium=calendar&utm_source=team_cal&utm_content=league_url#game-593746
LOCATION:Hutto Family YMCA Gym Court B
BEGIN:VALARM
TRIGGER:-P2H
ACTION:DISPLAY
DESCRIPTION:BB 11 - Dragons vs BB 13 - Green Beans
END:VALARM
END:VEVENT
BEGIN:VEVENT
UID:hutto-593751@ygametime.com
DTSTAMP:20260502T150000Z
DTSTART;TZID=America/Chicago:20260502T100000
DURATION:PT0H60M0S
SUMMARY:BB 12 - Lone Stars vs BB 11 - Dragons
DESCRIPTION:3rd/4th Grade Coed Basketball | Basketball\nHutto Family YMCA\n
URL;VALUE=URI:https://ygametime.com/branch/hutto/sports/2026-spring-basketball/25660/?utm_medium=calendar&utm_source=team_cal&utm_content=league_url#game-593751
LOCATION:Hutto Family YMCA Gym Court A
BEGIN:VALARM
TRIGGER:-P2H
ACTION:DISPLAY
DESCRIPTION:BB 12 - Lone Stars vs BB 11 - Dragons
END:VALARM
END:VEVENT
BEGIN:VEVENT
UID:hutto-593753@ygametime.com
DTSTAMP:20260509T140000Z
DTSTART;TZID=America/Chicago:20260509T090000
DURATION:PT0H60M0S
SUMMARY:BB 14 - Bulldogs vs BB 11 - Dragons
DESCRIPTION:3rd/4th Grade Coed Basketball | Basketball\nHutto Family YMCA\n
URL;VALUE=URI:https://ygametime.com/branch/hutto/sports/2026-spring-basketball/25660/?utm_medium=calendar&utm_source=team_cal&utm_content=league_url#game-593753
LOCATION:Hutto Family YMCA Gym Court B
BEGIN:VALARM
TRIGGER:-P2H
ACTION:DISPLAY
DESCRIPTION:BB 14 - Bulldogs vs BB 11 - Dragons
END:VALARM
END:VEVENT
END:VCALENDAR

