BEGIN:VCALENDAR
VERSION:2.0
PRODID:-//YGAMETIME.com//YGT iCal Creator//EN
METHOD:PUBLISH
X-PUBLISHED-TTL:PT6H
REFRESH-INTERVAL;VALUE=DURATION:PT6H
CALSCALE:GREGORIAN
X-WR-CALNAME:YGAMETIME CALENDAR
BEGIN:VTIMEZONE
TZID:America/Chicago
X-LIC-LOCATION:America/Chicago
BEGIN:DAYLIGHT
TZOFFSETFROM:-0600
TZOFFSETTO:-0500
TZNAME:CDT
DTSTART:19700308T020000
RRULE:FREQ=YEARLY;BYMONTH=3;BYDAY=2SU
END:DAYLIGHT
BEGIN:STANDARD
TZOFFSETFROM:-0500
TZOFFSETTO:-0600
TZNAME:CST
DTSTART:19701101T020000
RRULE:FREQ=YEARLY;BYMONTH=11;BYDAY=1SU
END:STANDARD
END:VTIMEZONE
BEGIN:VEVENT
UID:hutto-593739@ygametime.com
DTSTAMP:20260328T150000Z
DTSTART;TZID=America/Chicago:20260328T100000
DURATION:PT0H60M0S
SUMMARY:BB 13 - Green Beans vs BB 16 - Hutto Hoop Stars
DESCRIPTION:3rd/4th Grade Coed Basketball | Basketball\nHutto Family YMCA\n
URL;VALUE=URI:https://ygametime.com/branch/hutto/sports/2026-spring-basketball/25660/?utm_medium=calendar&utm_source=team_cal&utm_content=league_url#game-593739
LOCATION:Hutto Family YMCA Gym Court A
BEGIN:VALARM
TRIGGER:-P2H
ACTION:DISPLAY
DESCRIPTION:BB 13 - Green Beans vs BB 16 - Hutto Hoop Stars
END:VALARM
END:VEVENT
BEGIN:VEVENT
UID:hutto-593740@ygametime.com
DTSTAMP:20260411T150000Z
DTSTART;TZID=America/Chicago:20260411T100000
DURATION:PT0H60M0S
SUMMARY:BB 16 - Hutto Hoop Stars vs BB 14 - Bulldogs
DESCRIPTION:3rd/4th Grade Coed Basketball | Basketball\nHutto Family YMCA\n
URL;VALUE=URI:https://ygametime.com/branch/hutto/sports/2026-spring-basketball/25660/?utm_medium=calendar&utm_source=team_cal&utm_content=league_url#game-593740
LOCATION:Hutto Family YMCA Gym Court B
BEGIN:VALARM
TRIGGER:-P2H
ACTION:DISPLAY
DESCRIPTION:BB 16 - Hutto Hoop Stars vs BB 14 - Bulldogs
END:VALARM
END:VEVENT
BEGIN:VEVENT
UID:hutto-593744@ygametime.com
DTSTAMP:20260418T140000Z
DTSTART;TZID=America/Chicago:20260418T090000
DURATION:PT0H60M0S
SUMMARY:BB 16 - Hutto Hoop Stars vs BB 11 - Dragons
DESCRIPTION:3rd/4th Grade Coed Basketball | Basketball\nHutto Family YMCA\n
URL;VALUE=URI:https://ygametime.com/branch/hutto/sports/2026-spring-basketball/25660/?utm_medium=calendar&utm_source=team_cal&utm_content=league_url#game-593744
LOCATION:Hutto Family YMCA Gym Court B
BEGIN:VALARM
TRIGGER:-P2H
ACTION:DISPLAY
DESCRIPTION:BB 16 - Hutto Hoop Stars vs BB 11 - Dragons
END:VALARM
END:VEVENT
BEGIN:VEVENT
UID:hutto-593747@ygametime.com
DTSTAMP:20260425T140000Z
DTSTART;TZID=America/Chicago:20260425T090000
DURATION:PT0H60M0S
SUMMARY:BB 12 - Lone Stars vs BB 16 - Hutto Hoop Stars
DESCRIPTION:3rd/4th Grade Coed Basketball | Basketball\nHutto Family YMCA\n
URL;VALUE=URI:https://ygametime.com/branch/hutto/sports/2026-spring-basketball/25660/?utm_medium=calendar&utm_source=team_cal&utm_content=league_url#game-593747
LOCATION:Hutto Family YMCA Gym Court B
BEGIN:VALARM
TRIGGER:-P2H
ACTION:DISPLAY
DESCRIPTION:BB 12 - Lone Stars vs BB 16 - Hutto Hoop Stars
END:VALARM
END:VEVENT
BEGIN:VEVENT
UID:hutto-593750@ygametime.com
DTSTAMP:20260502T140000Z
DTSTART;TZID=America/Chicago:20260502T090000
DURATION:PT0H60M0S
SUMMARY:BB 16 - Hutto Hoop Stars vs BB 15 - Lakers
DESCRIPTION:3rd/4th Grade Coed Basketball | Basketball\nHutto Family YMCA\n
URL;VALUE=URI:https://ygametime.com/branch/hutto/sports/2026-spring-basketball/25660/?utm_medium=calendar&utm_source=team_cal&utm_content=league_url#game-593750
LOCATION:Hutto Family YMCA Gym Court B
BEGIN:VALARM
TRIGGER:-P2H
ACTION:DISPLAY
DESCRIPTION:BB 16 - Hutto Hoop Stars vs BB 15 - Lakers
END:VALARM
END:VEVENT
BEGIN:VEVENT
UID:hutto-593752@ygametime.com
DTSTAMP:20260509T150000Z
DTSTART;TZID=America/Chicago:20260509T100000
DURATION:PT0H60M0S
SUMMARY:BB 13 - Green Beans vs BB 16 - Hutto Hoop Stars
DESCRIPTION:3rd/4th Grade Coed Basketball | Basketball\nHutto Family YMCA\n
URL;VALUE=URI:https://ygametime.com/branch/hutto/sports/2026-spring-basketball/25660/?utm_medium=calendar&utm_source=team_cal&utm_content=league_url#game-593752
LOCATION:Hutto Family YMCA Gym Court B
BEGIN:VALARM
TRIGGER:-P2H
ACTION:DISPLAY
DESCRIPTION:BB 13 - Green Beans vs BB 16 - Hutto Hoop Stars
END:VALARM
END:VEVENT
END:VCALENDAR

