BEGIN:VCALENDAR
VERSION:2.0
PRODID:-//YGAMETIME.com//YGT iCal Creator//EN
METHOD:PUBLISH
X-PUBLISHED-TTL:PT6H
REFRESH-INTERVAL;VALUE=DURATION:PT6H
CALSCALE:GREGORIAN
X-WR-CALNAME:YGAMETIME CALENDAR
BEGIN:VTIMEZONE
TZID:America/Chicago
X-LIC-LOCATION:America/Chicago
BEGIN:DAYLIGHT
TZOFFSETFROM:-0600
TZOFFSETTO:-0500
TZNAME:CDT
DTSTART:19700308T020000
RRULE:FREQ=YEARLY;BYMONTH=3;BYDAY=2SU
END:DAYLIGHT
BEGIN:STANDARD
TZOFFSETFROM:-0500
TZOFFSETTO:-0600
TZNAME:CST
DTSTART:19701101T020000
RRULE:FREQ=YEARLY;BYMONTH=11;BYDAY=1SU
END:STANDARD
END:VTIMEZONE
BEGIN:VEVENT
UID:hutto-594533@ygametime.com
DTSTAMP:20260328T160000Z
DTSTART;TZID=America/Chicago:20260328T110000
DURATION:PT0H60M0S
SUMMARY:BB 20 - Warriors vs BB 18 - Yellowjackets
DESCRIPTION:5th/6th Grade Boys Basketball | Basketball\nHutto Family YMCA\n
URL;VALUE=URI:https://ygametime.com/branch/hutto/sports/2026-spring-basketball/25661/?utm_medium=calendar&utm_source=team_cal&utm_content=league_url#game-594533
LOCATION:Hutto Family YMCA Gym 
BEGIN:VALARM
TRIGGER:-P2H
ACTION:DISPLAY
DESCRIPTION:BB 20 - Warriors vs BB 18 - Yellowjackets
END:VALARM
END:VEVENT
BEGIN:VEVENT
UID:hutto-594534@ygametime.com
DTSTAMP:20260411T170000Z
DTSTART;TZID=America/Chicago:20260411T120000
DURATION:PT0H60M0S
SUMMARY:BB 18 - Yellowjackets vs BB 19 - Texas Tornadoes
DESCRIPTION:5th/6th Grade Boys Basketball | Basketball\nHutto Family YMCA\n
URL;VALUE=URI:https://ygametime.com/branch/hutto/sports/2026-spring-basketball/25661/?utm_medium=calendar&utm_source=team_cal&utm_content=league_url#game-594534
LOCATION:Hutto Family YMCA Gym 
BEGIN:VALARM
TRIGGER:-P2H
ACTION:DISPLAY
DESCRIPTION:BB 18 - Yellowjackets vs BB 19 - Texas Tornadoes
END:VALARM
END:VEVENT
BEGIN:VEVENT
UID:hutto-594536@ygametime.com
DTSTAMP:20260418T170000Z
DTSTART;TZID=America/Chicago:20260418T120000
DURATION:PT0H60M0S
SUMMARY:BB 18 - Yellowjackets vs BB 17 - Thunder 
DESCRIPTION:5th/6th Grade Boys Basketball | Basketball\nHutto Family YMCA\n
URL;VALUE=URI:https://ygametime.com/branch/hutto/sports/2026-spring-basketball/25661/?utm_medium=calendar&utm_source=team_cal&utm_content=league_url#game-594536
LOCATION:Hutto Family YMCA Gym 
BEGIN:VALARM
TRIGGER:-P2H
ACTION:DISPLAY
DESCRIPTION:BB 18 - Yellowjackets vs BB 17 - Thunder 
END:VALARM
END:VEVENT
BEGIN:VEVENT
UID:hutto-594538@ygametime.com
DTSTAMP:20260425T180000Z
DTSTART;TZID=America/Chicago:20260425T130000
DURATION:PT0H60M0S
SUMMARY:BB 20 - Warriors vs BB 18 - Yellowjackets
DESCRIPTION:5th/6th Grade Boys Basketball | Basketball\nHutto Family YMCA\n
URL;VALUE=URI:https://ygametime.com/branch/hutto/sports/2026-spring-basketball/25661/?utm_medium=calendar&utm_source=team_cal&utm_content=league_url#game-594538
LOCATION:Hutto Family YMCA Gym 
BEGIN:VALARM
TRIGGER:-P2H
ACTION:DISPLAY
DESCRIPTION:BB 20 - Warriors vs BB 18 - Yellowjackets
END:VALARM
END:VEVENT
BEGIN:VEVENT
UID:hutto-594541@ygametime.com
DTSTAMP:20260502T180000Z
DTSTART;TZID=America/Chicago:20260502T130000
DURATION:PT0H60M0S
SUMMARY:BB 18 - Yellowjackets vs BB 19 - Texas Tornadoes
DESCRIPTION:5th/6th Grade Boys Basketball | Basketball\nHutto Family YMCA\n
URL;VALUE=URI:https://ygametime.com/branch/hutto/sports/2026-spring-basketball/25661/?utm_medium=calendar&utm_source=team_cal&utm_content=league_url#game-594541
LOCATION:Hutto Family YMCA Gym 
BEGIN:VALARM
TRIGGER:-P2H
ACTION:DISPLAY
DESCRIPTION:BB 18 - Yellowjackets vs BB 19 - Texas Tornadoes
END:VALARM
END:VEVENT
BEGIN:VEVENT
UID:hutto-594543@ygametime.com
DTSTAMP:20260509T160000Z
DTSTART;TZID=America/Chicago:20260509T110000
DURATION:PT0H60M0S
SUMMARY:BB 18 - Yellowjackets vs BB 17 - Thunder 
DESCRIPTION:5th/6th Grade Boys Basketball | Basketball\nHutto Family YMCA\n
URL;VALUE=URI:https://ygametime.com/branch/hutto/sports/2026-spring-basketball/25661/?utm_medium=calendar&utm_source=team_cal&utm_content=league_url#game-594543
LOCATION:Hutto Family YMCA Gym 
BEGIN:VALARM
TRIGGER:-P2H
ACTION:DISPLAY
DESCRIPTION:BB 18 - Yellowjackets vs BB 17 - Thunder 
END:VALARM
END:VEVENT
END:VCALENDAR

