BEGIN:VCALENDAR
VERSION:2.0
PRODID:-//YGAMETIME.com//YGT iCal Creator//EN
METHOD:PUBLISH
X-PUBLISHED-TTL:PT6H
REFRESH-INTERVAL;VALUE=DURATION:PT6H
CALSCALE:GREGORIAN
X-WR-CALNAME:YGAMETIME CALENDAR
BEGIN:VTIMEZONE
TZID:America/Chicago
X-LIC-LOCATION:America/Chicago
BEGIN:DAYLIGHT
TZOFFSETFROM:-0600
TZOFFSETTO:-0500
TZNAME:CDT
DTSTART:19700308T020000
RRULE:FREQ=YEARLY;BYMONTH=3;BYDAY=2SU
END:DAYLIGHT
BEGIN:STANDARD
TZOFFSETFROM:-0500
TZOFFSETTO:-0600
TZNAME:CST
DTSTART:19701101T020000
RRULE:FREQ=YEARLY;BYMONTH=11;BYDAY=1SU
END:STANDARD
END:VTIMEZONE
BEGIN:VEVENT
UID:hutto-594886@ygametime.com
DTSTAMP:20260328T211500Z
DTSTART;TZID=America/Chicago:20260328T161500
DURATION:PT0H60M0S
SUMMARY:CHASCO 20 vs BB 24 - Raptors
DESCRIPTION:7th/8th Grade Coed Basketball | Basketball\nHutto Family YMCA\n
URL;VALUE=URI:https://ygametime.com/branch/hutto/sports/2026-spring-basketball/25663/?utm_medium=calendar&utm_source=team_cal&utm_content=league_url#game-594886
LOCATION:CHASCO Family YMCA Gym
BEGIN:VALARM
TRIGGER:-P2H
ACTION:DISPLAY
DESCRIPTION:CHASCO 20 vs BB 24 - Raptors
END:VALARM
END:VEVENT
BEGIN:VEVENT
UID:hutto-594895@ygametime.com
DTSTAMP:20260411T191500Z
DTSTART;TZID=America/Chicago:20260411T141500
DURATION:PT0H60M0S
SUMMARY:BB 24 - Raptors vs CHASCO 21
DESCRIPTION:7th/8th Grade Coed Basketball | Basketball\nHutto Family YMCA\n
URL;VALUE=URI:https://ygametime.com/branch/hutto/sports/2026-spring-basketball/25663/?utm_medium=calendar&utm_source=team_cal&utm_content=league_url#game-594895
LOCATION:CHASCO Family YMCA Gym
BEGIN:VALARM
TRIGGER:-P2H
ACTION:DISPLAY
DESCRIPTION:BB 24 - Raptors vs CHASCO 21
END:VALARM
END:VEVENT
BEGIN:VEVENT
UID:hutto-594891@ygametime.com
DTSTAMP:20260418T190000Z
DTSTART;TZID=America/Chicago:20260418T140000
DURATION:PT0H60M0S
SUMMARY:BB 26 - Revenant  vs BB 24 - Raptors
DESCRIPTION:7th/8th Grade Coed Basketball | Basketball\nHutto Family YMCA\n
URL;VALUE=URI:https://ygametime.com/branch/hutto/sports/2026-spring-basketball/25663/?utm_medium=calendar&utm_source=team_cal&utm_content=league_url#game-594891
LOCATION:Hutto Family YMCA Gym 
BEGIN:VALARM
TRIGGER:-P2H
ACTION:DISPLAY
DESCRIPTION:BB 26 - Revenant  vs BB 24 - Raptors
END:VALARM
END:VEVENT
BEGIN:VEVENT
UID:hutto-594889@ygametime.com
DTSTAMP:20260425T200000Z
DTSTART;TZID=America/Chicago:20260425T150000
DURATION:PT0H60M0S
SUMMARY:BB 24 - Raptors vs BB 25 - Chefs
DESCRIPTION:7th/8th Grade Coed Basketball | Basketball\nHutto Family YMCA\n
URL;VALUE=URI:https://ygametime.com/branch/hutto/sports/2026-spring-basketball/25663/?utm_medium=calendar&utm_source=team_cal&utm_content=league_url#game-594889
LOCATION:Hutto Family YMCA Gym 
BEGIN:VALARM
TRIGGER:-P2H
ACTION:DISPLAY
DESCRIPTION:BB 24 - Raptors vs BB 25 - Chefs
END:VALARM
END:VEVENT
BEGIN:VEVENT
UID:hutto-594901@ygametime.com
DTSTAMP:20260502T190000Z
DTSTART;TZID=America/Chicago:20260502T140000
DURATION:PT0H60M0S
SUMMARY:BB 26 - Revenant  vs BB 24 - Raptors
DESCRIPTION:7th/8th Grade Coed Basketball | Basketball\nHutto Family YMCA\n
URL;VALUE=URI:https://ygametime.com/branch/hutto/sports/2026-spring-basketball/25663/?utm_medium=calendar&utm_source=team_cal&utm_content=league_url#game-594901
LOCATION:Hutto Family YMCA Gym 
BEGIN:VALARM
TRIGGER:-P2H
ACTION:DISPLAY
DESCRIPTION:BB 26 - Revenant  vs BB 24 - Raptors
END:VALARM
END:VEVENT
BEGIN:VEVENT
UID:hutto-594897@ygametime.com
DTSTAMP:20260509T180000Z
DTSTART;TZID=America/Chicago:20260509T130000
DURATION:PT0H60M0S
SUMMARY:BB 24 - Raptors vs BB 23 - Texans
DESCRIPTION:7th/8th Grade Coed Basketball | Basketball\nHutto Family YMCA\n
URL;VALUE=URI:https://ygametime.com/branch/hutto/sports/2026-spring-basketball/25663/?utm_medium=calendar&utm_source=team_cal&utm_content=league_url#game-594897
LOCATION:Hutto Family YMCA Gym 
BEGIN:VALARM
TRIGGER:-P2H
ACTION:DISPLAY
DESCRIPTION:BB 24 - Raptors vs BB 23 - Texans
END:VALARM
END:VEVENT
END:VCALENDAR

