BEGIN:VCALENDAR
VERSION:2.0
PRODID:-//YGAMETIME.com//YGT iCal Creator//EN
METHOD:PUBLISH
X-PUBLISHED-TTL:PT6H
REFRESH-INTERVAL;VALUE=DURATION:PT6H
CALSCALE:GREGORIAN
X-WR-CALNAME:YGAMETIME CALENDAR
BEGIN:VTIMEZONE
TZID:America/Chicago
X-LIC-LOCATION:America/Chicago
BEGIN:DAYLIGHT
TZOFFSETFROM:-0600
TZOFFSETTO:-0500
TZNAME:CDT
DTSTART:19700308T020000
RRULE:FREQ=YEARLY;BYMONTH=3;BYDAY=2SU
END:DAYLIGHT
BEGIN:STANDARD
TZOFFSETFROM:-0500
TZOFFSETTO:-0600
TZNAME:CST
DTSTART:19701101T020000
RRULE:FREQ=YEARLY;BYMONTH=11;BYDAY=1SU
END:STANDARD
END:VTIMEZONE
BEGIN:VEVENT
UID:hutto-593229@ygametime.com
DTSTAMP:20260327T231500Z
DTSTART;TZID=America/Chicago:20260327T181500
DURATION:PT0H45M0S
SUMMARY:VB 4 - Heat vs VB 2 - Dragons
DESCRIPTION:3rd/4th Grade Coed Volleyball | Volleyball\nHutto Family YMCA\n
URL;VALUE=URI:https://ygametime.com/branch/hutto/sports/2026-spring-volleyball/25671/?utm_medium=calendar&utm_source=team_cal&utm_content=league_url#game-593229
LOCATION:Hutto Family YMCA Gym Court B
BEGIN:VALARM
TRIGGER:-P2H
ACTION:DISPLAY
DESCRIPTION:VB 4 - Heat vs VB 2 - Dragons
END:VALARM
END:VEVENT
BEGIN:VEVENT
UID:hutto-593230@ygametime.com
DTSTAMP:20260410T231500Z
DTSTART;TZID=America/Chicago:20260410T181500
DURATION:PT0H45M0S
SUMMARY:VB 2 - Dragons vs VB 3 - Candy Crushers
DESCRIPTION:3rd/4th Grade Coed Volleyball | Volleyball\nHutto Family YMCA\n
URL;VALUE=URI:https://ygametime.com/branch/hutto/sports/2026-spring-volleyball/25671/?utm_medium=calendar&utm_source=team_cal&utm_content=league_url#game-593230
LOCATION:Hutto Family YMCA Gym Court A
BEGIN:VALARM
TRIGGER:-P2H
ACTION:DISPLAY
DESCRIPTION:VB 2 - Dragons vs VB 3 - Candy Crushers
END:VALARM
END:VEVENT
BEGIN:VEVENT
UID:hutto-593232@ygametime.com
DTSTAMP:20260417T231500Z
DTSTART;TZID=America/Chicago:20260417T181500
DURATION:PT0H45M0S
SUMMARY:VB 2 - Dragons vs VB 1 - Emeralds
DESCRIPTION:3rd/4th Grade Coed Volleyball | Volleyball\nHutto Family YMCA\n
URL;VALUE=URI:https://ygametime.com/branch/hutto/sports/2026-spring-volleyball/25671/?utm_medium=calendar&utm_source=team_cal&utm_content=league_url#game-593232
LOCATION:Hutto Family YMCA Gym Court A
BEGIN:VALARM
TRIGGER:-P2H
ACTION:DISPLAY
DESCRIPTION:VB 2 - Dragons vs VB 1 - Emeralds
END:VALARM
END:VEVENT
BEGIN:VEVENT
UID:hutto-593234@ygametime.com
DTSTAMP:20260424T231500Z
DTSTART;TZID=America/Chicago:20260424T181500
DURATION:PT0H45M0S
SUMMARY:VB 4 - Heat vs VB 2 - Dragons
DESCRIPTION:3rd/4th Grade Coed Volleyball | Volleyball\nHutto Family YMCA\n
URL;VALUE=URI:https://ygametime.com/branch/hutto/sports/2026-spring-volleyball/25671/?utm_medium=calendar&utm_source=team_cal&utm_content=league_url#game-593234
LOCATION:Hutto Family YMCA Gym Court A
BEGIN:VALARM
TRIGGER:-P2H
ACTION:DISPLAY
DESCRIPTION:VB 4 - Heat vs VB 2 - Dragons
END:VALARM
END:VEVENT
BEGIN:VEVENT
UID:hutto-593237@ygametime.com
DTSTAMP:20260501T231500Z
DTSTART;TZID=America/Chicago:20260501T181500
DURATION:PT0H45M0S
SUMMARY:VB 2 - Dragons vs VB 3 - Candy Crushers
DESCRIPTION:3rd/4th Grade Coed Volleyball | Volleyball\nHutto Family YMCA\n
URL;VALUE=URI:https://ygametime.com/branch/hutto/sports/2026-spring-volleyball/25671/?utm_medium=calendar&utm_source=team_cal&utm_content=league_url#game-593237
LOCATION:Hutto Family YMCA Gym Court B
BEGIN:VALARM
TRIGGER:-P2H
ACTION:DISPLAY
DESCRIPTION:VB 2 - Dragons vs VB 3 - Candy Crushers
END:VALARM
END:VEVENT
BEGIN:VEVENT
UID:hutto-593239@ygametime.com
DTSTAMP:20260508T231500Z
DTSTART;TZID=America/Chicago:20260508T181500
DURATION:PT0H45M0S
SUMMARY:VB 2 - Dragons vs VB 1 - Emeralds
DESCRIPTION:3rd/4th Grade Coed Volleyball | Volleyball\nHutto Family YMCA\n
URL;VALUE=URI:https://ygametime.com/branch/hutto/sports/2026-spring-volleyball/25671/?utm_medium=calendar&utm_source=team_cal&utm_content=league_url#game-593239
LOCATION:Hutto Family YMCA Gym Court B
BEGIN:VALARM
TRIGGER:-P2H
ACTION:DISPLAY
DESCRIPTION:VB 2 - Dragons vs VB 1 - Emeralds
END:VALARM
END:VEVENT
END:VCALENDAR

