BEGIN:VCALENDAR
VERSION:2.0
PRODID:-//YGAMETIME.com//YGT iCal Creator//EN
METHOD:PUBLISH
X-PUBLISHED-TTL:PT6H
REFRESH-INTERVAL;VALUE=DURATION:PT6H
CALSCALE:GREGORIAN
X-WR-CALNAME:YGAMETIME CALENDAR
BEGIN:VTIMEZONE
TZID:America/Chicago
X-LIC-LOCATION:America/Chicago
BEGIN:DAYLIGHT
TZOFFSETFROM:-0600
TZOFFSETTO:-0500
TZNAME:CDT
DTSTART:19700308T020000
RRULE:FREQ=YEARLY;BYMONTH=3;BYDAY=2SU
END:DAYLIGHT
BEGIN:STANDARD
TZOFFSETFROM:-0500
TZOFFSETTO:-0600
TZNAME:CST
DTSTART:19701101T020000
RRULE:FREQ=YEARLY;BYMONTH=11;BYDAY=1SU
END:STANDARD
END:VTIMEZONE
BEGIN:VEVENT
UID:hutto-593252@ygametime.com
DTSTAMP:20260328T000000Z
DTSTART;TZID=America/Chicago:20260327T190000
DURATION:PT0H45M0S
SUMMARY:VB 7 - Red Pandas vs VB 5 - Smurfs
DESCRIPTION:5th/6th Grade Coed Volleyball | Volleyball\nHutto Family YMCA\n
URL;VALUE=URI:https://ygametime.com/branch/hutto/sports/2026-spring-volleyball/25672/?utm_medium=calendar&utm_source=team_cal&utm_content=league_url#game-593252
LOCATION:Hutto Family YMCA Gym Court A
BEGIN:VALARM
TRIGGER:-P2H
ACTION:DISPLAY
DESCRIPTION:VB 7 - Red Pandas vs VB 5 - Smurfs
END:VALARM
END:VEVENT
BEGIN:VEVENT
UID:hutto-593254@ygametime.com
DTSTAMP:20260411T000000Z
DTSTART;TZID=America/Chicago:20260410T190000
DURATION:PT0H45M0S
SUMMARY:VB 6 - Sparks vs VB 7 - Red Pandas
DESCRIPTION:5th/6th Grade Coed Volleyball | Volleyball\nHutto Family YMCA\n
URL;VALUE=URI:https://ygametime.com/branch/hutto/sports/2026-spring-volleyball/25672/?utm_medium=calendar&utm_source=team_cal&utm_content=league_url#game-593254
LOCATION:Hutto Family YMCA Gym Court A
BEGIN:VALARM
TRIGGER:-P2H
ACTION:DISPLAY
DESCRIPTION:VB 6 - Sparks vs VB 7 - Red Pandas
END:VALARM
END:VEVENT
BEGIN:VEVENT
UID:hutto-593257@ygametime.com
DTSTAMP:20260418T000000Z
DTSTART;TZID=America/Chicago:20260417T190000
DURATION:PT0H45M0S
SUMMARY:VB 7 - Red Pandas vs VB 8 - Panthers
DESCRIPTION:5th/6th Grade Coed Volleyball | Volleyball\nHutto Family YMCA\n
URL;VALUE=URI:https://ygametime.com/branch/hutto/sports/2026-spring-volleyball/25672/?utm_medium=calendar&utm_source=team_cal&utm_content=league_url#game-593257
LOCATION:Hutto Family YMCA Gym Court B
BEGIN:VALARM
TRIGGER:-P2H
ACTION:DISPLAY
DESCRIPTION:VB 7 - Red Pandas vs VB 8 - Panthers
END:VALARM
END:VEVENT
BEGIN:VEVENT
UID:hutto-593259@ygametime.com
DTSTAMP:20260425T000000Z
DTSTART;TZID=America/Chicago:20260424T190000
DURATION:PT0H45M0S
SUMMARY:VB 7 - Red Pandas vs VB 5 - Smurfs
DESCRIPTION:5th/6th Grade Coed Volleyball | Volleyball\nHutto Family YMCA\n
URL;VALUE=URI:https://ygametime.com/branch/hutto/sports/2026-spring-volleyball/25672/?utm_medium=calendar&utm_source=team_cal&utm_content=league_url#game-593259
LOCATION:Hutto Family YMCA Gym Court B
BEGIN:VALARM
TRIGGER:-P2H
ACTION:DISPLAY
DESCRIPTION:VB 7 - Red Pandas vs VB 5 - Smurfs
END:VALARM
END:VEVENT
BEGIN:VEVENT
UID:hutto-593261@ygametime.com
DTSTAMP:20260502T000000Z
DTSTART;TZID=America/Chicago:20260501T190000
DURATION:PT0H45M0S
SUMMARY:VB 6 - Sparks vs VB 7 - Red Pandas
DESCRIPTION:5th/6th Grade Coed Volleyball | Volleyball\nHutto Family YMCA\n
URL;VALUE=URI:https://ygametime.com/branch/hutto/sports/2026-spring-volleyball/25672/?utm_medium=calendar&utm_source=team_cal&utm_content=league_url#game-593261
LOCATION:Hutto Family YMCA Gym Court B
BEGIN:VALARM
TRIGGER:-P2H
ACTION:DISPLAY
DESCRIPTION:VB 6 - Sparks vs VB 7 - Red Pandas
END:VALARM
END:VEVENT
BEGIN:VEVENT
UID:hutto-593262@ygametime.com
DTSTAMP:20260509T000000Z
DTSTART;TZID=America/Chicago:20260508T190000
DURATION:PT0H45M0S
SUMMARY:VB 7 - Red Pandas vs VB 8 - Panthers
DESCRIPTION:5th/6th Grade Coed Volleyball | Volleyball\nHutto Family YMCA\n
URL;VALUE=URI:https://ygametime.com/branch/hutto/sports/2026-spring-volleyball/25672/?utm_medium=calendar&utm_source=team_cal&utm_content=league_url#game-593262
LOCATION:Hutto Family YMCA Gym Court A
BEGIN:VALARM
TRIGGER:-P2H
ACTION:DISPLAY
DESCRIPTION:VB 7 - Red Pandas vs VB 8 - Panthers
END:VALARM
END:VEVENT
END:VCALENDAR

