BEGIN:VCALENDAR
VERSION:2.0
PRODID:-//YGAMETIME.com//YGT iCal Creator//EN
METHOD:PUBLISH
X-PUBLISHED-TTL:PT6H
REFRESH-INTERVAL;VALUE=DURATION:PT6H
CALSCALE:GREGORIAN
X-WR-CALNAME:YGAMETIME CALENDAR
BEGIN:VTIMEZONE
TZID:America/Chicago
X-LIC-LOCATION:America/Chicago
BEGIN:DAYLIGHT
TZOFFSETFROM:-0600
TZOFFSETTO:-0500
TZNAME:CDT
DTSTART:19700308T020000
RRULE:FREQ=YEARLY;BYMONTH=3;BYDAY=2SU
END:DAYLIGHT
BEGIN:STANDARD
TZOFFSETFROM:-0500
TZOFFSETTO:-0600
TZNAME:CST
DTSTART:19701101T020000
RRULE:FREQ=YEARLY;BYMONTH=11;BYDAY=1SU
END:STANDARD
END:VTIMEZONE
BEGIN:VEVENT
UID:hutto-593240@ygametime.com
DTSTAMP:20260328T004500Z
DTSTART;TZID=America/Chicago:20260327T194500
DURATION:PT0H45M0S
SUMMARY:VB 11 - Starfire vs VB 9 - Vipers
DESCRIPTION:7th/8th Grade Coed Volleyball | Volleyball\nHutto Family YMCA\n
URL;VALUE=URI:https://ygametime.com/branch/hutto/sports/2026-spring-volleyball/25673/?utm_medium=calendar&utm_source=team_cal&utm_content=league_url#game-593240
LOCATION:Hutto Family YMCA Gym Court A
BEGIN:VALARM
TRIGGER:-P2H
ACTION:DISPLAY
DESCRIPTION:VB 11 - Starfire vs VB 9 - Vipers
END:VALARM
END:VEVENT
BEGIN:VEVENT
UID:hutto-593242@ygametime.com
DTSTAMP:20260411T004500Z
DTSTART;TZID=America/Chicago:20260410T194500
DURATION:PT0H45M0S
SUMMARY:VB 10 - Dorys vs VB 11 - Starfire
DESCRIPTION:7th/8th Grade Coed Volleyball | Volleyball\nHutto Family YMCA\n
URL;VALUE=URI:https://ygametime.com/branch/hutto/sports/2026-spring-volleyball/25673/?utm_medium=calendar&utm_source=team_cal&utm_content=league_url#game-593242
LOCATION:Hutto Family YMCA Gym Court A
BEGIN:VALARM
TRIGGER:-P2H
ACTION:DISPLAY
DESCRIPTION:VB 10 - Dorys vs VB 11 - Starfire
END:VALARM
END:VEVENT
BEGIN:VEVENT
UID:hutto-593245@ygametime.com
DTSTAMP:20260418T004500Z
DTSTART;TZID=America/Chicago:20260417T194500
DURATION:PT0H45M0S
SUMMARY:VB 11 - Starfire vs VB 12 - Citric Acid
DESCRIPTION:7th/8th Grade Coed Volleyball | Volleyball\nHutto Family YMCA\n
URL;VALUE=URI:https://ygametime.com/branch/hutto/sports/2026-spring-volleyball/25673/?utm_medium=calendar&utm_source=team_cal&utm_content=league_url#game-593245
LOCATION:Hutto Family YMCA Gym Court B
BEGIN:VALARM
TRIGGER:-P2H
ACTION:DISPLAY
DESCRIPTION:VB 11 - Starfire vs VB 12 - Citric Acid
END:VALARM
END:VEVENT
BEGIN:VEVENT
UID:hutto-593247@ygametime.com
DTSTAMP:20260425T004500Z
DTSTART;TZID=America/Chicago:20260424T194500
DURATION:PT0H45M0S
SUMMARY:VB 11 - Starfire vs VB 9 - Vipers
DESCRIPTION:7th/8th Grade Coed Volleyball | Volleyball\nHutto Family YMCA\n
URL;VALUE=URI:https://ygametime.com/branch/hutto/sports/2026-spring-volleyball/25673/?utm_medium=calendar&utm_source=team_cal&utm_content=league_url#game-593247
LOCATION:Hutto Family YMCA Gym Court B
BEGIN:VALARM
TRIGGER:-P2H
ACTION:DISPLAY
DESCRIPTION:VB 11 - Starfire vs VB 9 - Vipers
END:VALARM
END:VEVENT
BEGIN:VEVENT
UID:hutto-593249@ygametime.com
DTSTAMP:20260502T004500Z
DTSTART;TZID=America/Chicago:20260501T194500
DURATION:PT0H45M0S
SUMMARY:VB 10 - Dorys vs VB 11 - Starfire
DESCRIPTION:7th/8th Grade Coed Volleyball | Volleyball\nHutto Family YMCA\n
URL;VALUE=URI:https://ygametime.com/branch/hutto/sports/2026-spring-volleyball/25673/?utm_medium=calendar&utm_source=team_cal&utm_content=league_url#game-593249
LOCATION:Hutto Family YMCA Gym Court B
BEGIN:VALARM
TRIGGER:-P2H
ACTION:DISPLAY
DESCRIPTION:VB 10 - Dorys vs VB 11 - Starfire
END:VALARM
END:VEVENT
BEGIN:VEVENT
UID:hutto-593250@ygametime.com
DTSTAMP:20260509T004500Z
DTSTART;TZID=America/Chicago:20260508T194500
DURATION:PT0H45M0S
SUMMARY:VB 11 - Starfire vs VB 12 - Citric Acid
DESCRIPTION:7th/8th Grade Coed Volleyball | Volleyball\nHutto Family YMCA\n
URL;VALUE=URI:https://ygametime.com/branch/hutto/sports/2026-spring-volleyball/25673/?utm_medium=calendar&utm_source=team_cal&utm_content=league_url#game-593250
LOCATION:Hutto Family YMCA Gym Court A
BEGIN:VALARM
TRIGGER:-P2H
ACTION:DISPLAY
DESCRIPTION:VB 11 - Starfire vs VB 12 - Citric Acid
END:VALARM
END:VEVENT
END:VCALENDAR

