BEGIN:VCALENDAR
VERSION:2.0
PRODID:-//YGAMETIME.com//YGT iCal Creator//EN
METHOD:PUBLISH
X-PUBLISHED-TTL:PT6H
REFRESH-INTERVAL;VALUE=DURATION:PT6H
CALSCALE:GREGORIAN
X-WR-CALNAME:YGAMETIME CALENDAR
BEGIN:VTIMEZONE
TZID:America/Chicago
X-LIC-LOCATION:America/Chicago
BEGIN:DAYLIGHT
TZOFFSETFROM:-0600
TZOFFSETTO:-0500
TZNAME:CDT
DTSTART:19700308T020000
RRULE:FREQ=YEARLY;BYMONTH=3;BYDAY=2SU
END:DAYLIGHT
BEGIN:STANDARD
TZOFFSETFROM:-0500
TZOFFSETTO:-0600
TZNAME:CST
DTSTART:19701101T020000
RRULE:FREQ=YEARLY;BYMONTH=11;BYDAY=1SU
END:STANDARD
END:VTIMEZONE
BEGIN:VEVENT
UID:hutto-595229@ygametime.com
DTSTAMP:20260328T140000Z
DTSTART;TZID=America/Chicago:20260328T090000
DURATION:PT0H60M0S
SUMMARY:CHASCO 16 vs SC 10 - Sharp Shooters
DESCRIPTION:1st/2nd Grade Coed Soccer | Soccer\nHutto Family YMCA\n
URL;VALUE=URI:https://ygametime.com/branch/hutto/sports/2026-spring-soccer/25676/?utm_medium=calendar&utm_source=team_cal&utm_content=league_url#game-595229
LOCATION:Soccer Field #2B West Boles Family Sports Complex
BEGIN:VALARM
TRIGGER:-P2H
ACTION:DISPLAY
DESCRIPTION:CHASCO 16 vs SC 10 - Sharp Shooters
END:VALARM
END:VEVENT
BEGIN:VEVENT
UID:hutto-595233@ygametime.com
DTSTAMP:20260411T140000Z
DTSTART;TZID=America/Chicago:20260411T090000
DURATION:PT0H60M0S
SUMMARY:SC 10 - Sharp Shooters vs SC 8 - Ramirez
DESCRIPTION:1st/2nd Grade Coed Soccer | Soccer\nHutto Family YMCA\n
URL;VALUE=URI:https://ygametime.com/branch/hutto/sports/2026-spring-soccer/25676/?utm_medium=calendar&utm_source=team_cal&utm_content=league_url#game-595233
LOCATION:Soccer Field #2B West Boles Family Sports Complex
BEGIN:VALARM
TRIGGER:-P2H
ACTION:DISPLAY
DESCRIPTION:SC 10 - Sharp Shooters vs SC 8 - Ramirez
END:VALARM
END:VEVENT
BEGIN:VEVENT
UID:hutto-595235@ygametime.com
DTSTAMP:20260418T130000Z
DTSTART;TZID=America/Chicago:20260418T080000
DURATION:PT0H60M0S
SUMMARY:CHASCO 13 vs SC 10 - Sharp Shooters
DESCRIPTION:1st/2nd Grade Coed Soccer | Soccer\nHutto Family YMCA\n
URL;VALUE=URI:https://ygametime.com/branch/hutto/sports/2026-spring-soccer/25676/?utm_medium=calendar&utm_source=team_cal&utm_content=league_url#game-595235
LOCATION:Soccer Field #2B West Boles Family Sports Complex
BEGIN:VALARM
TRIGGER:-P2H
ACTION:DISPLAY
DESCRIPTION:CHASCO 13 vs SC 10 - Sharp Shooters
END:VALARM
END:VEVENT
BEGIN:VEVENT
UID:hutto-595239@ygametime.com
DTSTAMP:20260425T130000Z
DTSTART;TZID=America/Chicago:20260425T080000
DURATION:PT0H60M0S
SUMMARY:CHASCO 15 vs SC 10 - Sharp Shooters
DESCRIPTION:1st/2nd Grade Coed Soccer | Soccer\nHutto Family YMCA\n
URL;VALUE=URI:https://ygametime.com/branch/hutto/sports/2026-spring-soccer/25676/?utm_medium=calendar&utm_source=team_cal&utm_content=league_url#game-595239
LOCATION:Soccer Field #2B West Boles Family Sports Complex
BEGIN:VALARM
TRIGGER:-P2H
ACTION:DISPLAY
DESCRIPTION:CHASCO 15 vs SC 10 - Sharp Shooters
END:VALARM
END:VEVENT
BEGIN:VEVENT
UID:hutto-595243@ygametime.com
DTSTAMP:20260502T130000Z
DTSTART;TZID=America/Chicago:20260502T080000
DURATION:PT0H60M0S
SUMMARY:SC 10 - Sharp Shooters vs SC 7 - Net Ninjas
DESCRIPTION:1st/2nd Grade Coed Soccer | Soccer\nHutto Family YMCA\n
URL;VALUE=URI:https://ygametime.com/branch/hutto/sports/2026-spring-soccer/25676/?utm_medium=calendar&utm_source=team_cal&utm_content=league_url#game-595243
LOCATION:Soccer Field #2B West Boles Family Sports Complex
BEGIN:VALARM
TRIGGER:-P2H
ACTION:DISPLAY
DESCRIPTION:SC 10 - Sharp Shooters vs SC 7 - Net Ninjas
END:VALARM
END:VEVENT
BEGIN:VEVENT
UID:hutto-595247@ygametime.com
DTSTAMP:20260509T130000Z
DTSTART;TZID=America/Chicago:20260509T080000
DURATION:PT0H60M0S
SUMMARY:SC 9 - Sharks vs SC 10 - Sharp Shooters
DESCRIPTION:1st/2nd Grade Coed Soccer | Soccer\nHutto Family YMCA\n
URL;VALUE=URI:https://ygametime.com/branch/hutto/sports/2026-spring-soccer/25676/?utm_medium=calendar&utm_source=team_cal&utm_content=league_url#game-595247
LOCATION:Soccer Field #2B West Boles Family Sports Complex
BEGIN:VALARM
TRIGGER:-P2H
ACTION:DISPLAY
DESCRIPTION:SC 9 - Sharks vs SC 10 - Sharp Shooters
END:VALARM
END:VEVENT
END:VCALENDAR

