BEGIN:VCALENDAR
VERSION:2.0
PRODID:-//YGAMETIME.com//YGT iCal Creator//EN
METHOD:PUBLISH
X-PUBLISHED-TTL:PT6H
REFRESH-INTERVAL;VALUE=DURATION:PT6H
CALSCALE:GREGORIAN
X-WR-CALNAME:YGAMETIME CALENDAR
BEGIN:VTIMEZONE
TZID:America/Chicago
X-LIC-LOCATION:America/Chicago
BEGIN:DAYLIGHT
TZOFFSETFROM:-0600
TZOFFSETTO:-0500
TZNAME:CDT
DTSTART:19700308T020000
RRULE:FREQ=YEARLY;BYMONTH=3;BYDAY=2SU
END:DAYLIGHT
BEGIN:STANDARD
TZOFFSETFROM:-0500
TZOFFSETTO:-0600
TZNAME:CST
DTSTART:19701101T020000
RRULE:FREQ=YEARLY;BYMONTH=11;BYDAY=1SU
END:STANDARD
END:VTIMEZONE
BEGIN:VEVENT
UID:hutto-599713@ygametime.com
DTSTAMP:20260328T153000Z
DTSTART;TZID=America/Chicago:20260328T103000
DURATION:PT0H75M0S
SUMMARY:TB 5 - Braves vs TB 6 - Black Widows
DESCRIPTION:1st/2nd Grade Coed T-Ball | T-Ball\nHutto Family YMCA\n
URL;VALUE=URI:https://ygametime.com/branch/hutto/sports/2026-spring-t-ball/25736/?utm_medium=calendar&utm_source=team_cal&utm_content=league_url#game-599713
LOCATION:Tball Field #1 East Boles Family Sports Complex
BEGIN:VALARM
TRIGGER:-P2H
ACTION:DISPLAY
DESCRIPTION:TB 5 - Braves vs TB 6 - Black Widows
END:VALARM
END:VEVENT
BEGIN:VEVENT
UID:hutto-599734@ygametime.com
DTSTAMP:20260411T171500Z
DTSTART;TZID=America/Chicago:20260411T121500
DURATION:PT0H75M0S
SUMMARY:Twin Lakes 8 vs TB 6 - Black Widows
DESCRIPTION:1st/2nd Grade Coed T-Ball | T-Ball\nHutto Family YMCA\n
URL;VALUE=URI:https://ygametime.com/branch/hutto/sports/2026-spring-t-ball/25736/?utm_medium=calendar&utm_source=team_cal&utm_content=league_url#game-599734
LOCATION:Twin Lakes CP Field 11
BEGIN:VALARM
TRIGGER:-P2H
ACTION:DISPLAY
DESCRIPTION:Twin Lakes 8 vs TB 6 - Black Widows
END:VALARM
END:VEVENT
BEGIN:VEVENT
UID:hutto-599724@ygametime.com
DTSTAMP:20260418T153000Z
DTSTART;TZID=America/Chicago:20260418T103000
DURATION:PT0H75M0S
SUMMARY:TB 5 - Braves vs TB 6 - Black Widows
DESCRIPTION:1st/2nd Grade Coed T-Ball | T-Ball\nHutto Family YMCA\n
URL;VALUE=URI:https://ygametime.com/branch/hutto/sports/2026-spring-t-ball/25736/?utm_medium=calendar&utm_source=team_cal&utm_content=league_url#game-599724
LOCATION:Tball Field #1 East Boles Family Sports Complex
BEGIN:VALARM
TRIGGER:-P2H
ACTION:DISPLAY
DESCRIPTION:TB 5 - Braves vs TB 6 - Black Widows
END:VALARM
END:VEVENT
BEGIN:VEVENT
UID:hutto-599726@ygametime.com
DTSTAMP:20260425T140000Z
DTSTART;TZID=America/Chicago:20260425T090000
DURATION:PT0H75M0S
SUMMARY:CHASCO 6 vs TB 6 - Black Widows
DESCRIPTION:1st/2nd Grade Coed T-Ball | T-Ball\nHutto Family YMCA\n
URL;VALUE=URI:https://ygametime.com/branch/hutto/sports/2026-spring-t-ball/25736/?utm_medium=calendar&utm_source=team_cal&utm_content=league_url#game-599726
LOCATION:Tball Field #3 East Boles Family Sports Complex
BEGIN:VALARM
TRIGGER:-P2H
ACTION:DISPLAY
DESCRIPTION:CHASCO 6 vs TB 6 - Black Widows
END:VALARM
END:VEVENT
BEGIN:VEVENT
UID:hutto-599728@ygametime.com
DTSTAMP:20260502T140000Z
DTSTART;TZID=America/Chicago:20260502T090000
DURATION:PT0H75M0S
SUMMARY:CHASCO 5 vs TB 6 - Black Widows
DESCRIPTION:1st/2nd Grade Coed T-Ball | T-Ball\nHutto Family YMCA\n
URL;VALUE=URI:https://ygametime.com/branch/hutto/sports/2026-spring-t-ball/25736/?utm_medium=calendar&utm_source=team_cal&utm_content=league_url#game-599728
LOCATION:Tball Field #1 East Boles Family Sports Complex
BEGIN:VALARM
TRIGGER:-P2H
ACTION:DISPLAY
DESCRIPTION:CHASCO 5 vs TB 6 - Black Widows
END:VALARM
END:VEVENT
BEGIN:VEVENT
UID:hutto-599733@ygametime.com
DTSTAMP:20260509T153000Z
DTSTART;TZID=America/Chicago:20260509T103000
DURATION:PT0H75M0S
SUMMARY:CHASCO 7 vs TB 6 - Black Widows
DESCRIPTION:1st/2nd Grade Coed T-Ball | T-Ball\nHutto Family YMCA\n
URL;VALUE=URI:https://ygametime.com/branch/hutto/sports/2026-spring-t-ball/25736/?utm_medium=calendar&utm_source=team_cal&utm_content=league_url#game-599733
LOCATION:Tball Field #1 East Boles Family Sports Complex
BEGIN:VALARM
TRIGGER:-P2H
ACTION:DISPLAY
DESCRIPTION:CHASCO 7 vs TB 6 - Black Widows
END:VALARM
END:VEVENT
END:VCALENDAR

