BEGIN:VCALENDAR
VERSION:2.0
PRODID:-//YGAMETIME.com//YGT iCal Creator//EN
METHOD:PUBLISH
X-PUBLISHED-TTL:PT6H
REFRESH-INTERVAL;VALUE=DURATION:PT6H
CALSCALE:GREGORIAN
X-WR-CALNAME:YGAMETIME CALENDAR
BEGIN:VTIMEZONE
TZID:America/Chicago
X-LIC-LOCATION:America/Chicago
BEGIN:DAYLIGHT
TZOFFSETFROM:-0600
TZOFFSETTO:-0500
TZNAME:CDT
DTSTART:19700308T020000
RRULE:FREQ=YEARLY;BYMONTH=3;BYDAY=2SU
END:DAYLIGHT
BEGIN:STANDARD
TZOFFSETFROM:-0500
TZOFFSETTO:-0600
TZNAME:CST
DTSTART:19701101T020000
RRULE:FREQ=YEARLY;BYMONTH=11;BYDAY=1SU
END:STANDARD
END:VTIMEZONE
BEGIN:VEVENT
UID:hutto-595252@ygametime.com
DTSTAMP:20260328T160000Z
DTSTART;TZID=America/Chicago:20260328T110000
DURATION:PT0H60M0S
SUMMARY:SC 12 - Tigers vs CHASCO 18
DESCRIPTION:3rd/4th Grade Coed Soccer | Soccer\nHutto Family YMCA\n
URL;VALUE=URI:https://ygametime.com/branch/hutto/sports/2026-spring-soccer/25683/?utm_medium=calendar&utm_source=team_cal&utm_content=league_url#game-595252
LOCATION:Soccer Field #1 West Boles Family Sports Complex
BEGIN:VALARM
TRIGGER:-P2H
ACTION:DISPLAY
DESCRIPTION:SC 12 - Tigers vs CHASCO 18
END:VALARM
END:VEVENT
BEGIN:VEVENT
UID:hutto-595255@ygametime.com
DTSTAMP:20260411T160000Z
DTSTART;TZID=America/Chicago:20260411T110000
DURATION:PT0H60M0S
SUMMARY:SC 14 - Cavazos vs SC 12 - Tigers
DESCRIPTION:3rd/4th Grade Coed Soccer | Soccer\nHutto Family YMCA\n
URL;VALUE=URI:https://ygametime.com/branch/hutto/sports/2026-spring-soccer/25683/?utm_medium=calendar&utm_source=team_cal&utm_content=league_url#game-595255
LOCATION:Soccer Field #1 West Boles Family Sports Complex
BEGIN:VALARM
TRIGGER:-P2H
ACTION:DISPLAY
DESCRIPTION:SC 14 - Cavazos vs SC 12 - Tigers
END:VALARM
END:VEVENT
BEGIN:VEVENT
UID:hutto-595258@ygametime.com
DTSTAMP:20260418T160000Z
DTSTART;TZID=America/Chicago:20260418T110000
DURATION:PT0H60M0S
SUMMARY:SC 12 - Tigers vs CHASCO 17
DESCRIPTION:3rd/4th Grade Coed Soccer | Soccer\nHutto Family YMCA\n
URL;VALUE=URI:https://ygametime.com/branch/hutto/sports/2026-spring-soccer/25683/?utm_medium=calendar&utm_source=team_cal&utm_content=league_url#game-595258
LOCATION:Soccer Field #1 West Boles Family Sports Complex
BEGIN:VALARM
TRIGGER:-P2H
ACTION:DISPLAY
DESCRIPTION:SC 12 - Tigers vs CHASCO 17
END:VALARM
END:VEVENT
BEGIN:VEVENT
UID:hutto-595263@ygametime.com
DTSTAMP:20260425T180000Z
DTSTART;TZID=America/Chicago:20260425T130000
DURATION:PT0H60M0S
SUMMARY:SC 13 - Seahawks  vs SC 12 - Tigers
DESCRIPTION:3rd/4th Grade Coed Soccer | Soccer\nHutto Family YMCA\n
URL;VALUE=URI:https://ygametime.com/branch/hutto/sports/2026-spring-soccer/25683/?utm_medium=calendar&utm_source=team_cal&utm_content=league_url#game-595263
LOCATION:Soccer Field #1 West Boles Family Sports Complex
BEGIN:VALARM
TRIGGER:-P2H
ACTION:DISPLAY
DESCRIPTION:SC 13 - Seahawks  vs SC 12 - Tigers
END:VALARM
END:VEVENT
BEGIN:VEVENT
UID:hutto-595264@ygametime.com
DTSTAMP:20260502T160000Z
DTSTART;TZID=America/Chicago:20260502T110000
DURATION:PT0H60M0S
SUMMARY:SC 12 - Tigers vs SC 11 - Strikers 2.0
DESCRIPTION:3rd/4th Grade Coed Soccer | Soccer\nHutto Family YMCA\n
URL;VALUE=URI:https://ygametime.com/branch/hutto/sports/2026-spring-soccer/25683/?utm_medium=calendar&utm_source=team_cal&utm_content=league_url#game-595264
LOCATION:Soccer Field #1 West Boles Family Sports Complex
BEGIN:VALARM
TRIGGER:-P2H
ACTION:DISPLAY
DESCRIPTION:SC 12 - Tigers vs SC 11 - Strikers 2.0
END:VALARM
END:VEVENT
BEGIN:VEVENT
UID:hutto-595268@ygametime.com
DTSTAMP:20260509T170000Z
DTSTART;TZID=America/Chicago:20260509T120000
DURATION:PT0H60M0S
SUMMARY:SC 12 - Tigers vs CHASCO 18
DESCRIPTION:3rd/4th Grade Coed Soccer | Soccer\nHutto Family YMCA\n
URL;VALUE=URI:https://ygametime.com/branch/hutto/sports/2026-spring-soccer/25683/?utm_medium=calendar&utm_source=team_cal&utm_content=league_url#game-595268
LOCATION:Soccer Field #1 West Boles Family Sports Complex
BEGIN:VALARM
TRIGGER:-P2H
ACTION:DISPLAY
DESCRIPTION:SC 12 - Tigers vs CHASCO 18
END:VALARM
END:VEVENT
END:VCALENDAR

