BEGIN:VCALENDAR
VERSION:2.0
PRODID:-//YGAMETIME.com//YGT iCal Creator//EN
METHOD:PUBLISH
X-PUBLISHED-TTL:PT6H
REFRESH-INTERVAL;VALUE=DURATION:PT6H
CALSCALE:GREGORIAN
X-WR-CALNAME:YGAMETIME CALENDAR
BEGIN:VTIMEZONE
TZID:America/Chicago
X-LIC-LOCATION:America/Chicago
BEGIN:DAYLIGHT
TZOFFSETFROM:-0600
TZOFFSETTO:-0500
TZNAME:CDT
DTSTART:19700308T020000
RRULE:FREQ=YEARLY;BYMONTH=3;BYDAY=2SU
END:DAYLIGHT
BEGIN:STANDARD
TZOFFSETFROM:-0500
TZOFFSETTO:-0600
TZNAME:CST
DTSTART:19701101T020000
RRULE:FREQ=YEARLY;BYMONTH=11;BYDAY=1SU
END:STANDARD
END:VTIMEZONE
BEGIN:VEVENT
UID:hutto-595253@ygametime.com
DTSTAMP:20260328T170000Z
DTSTART;TZID=America/Chicago:20260328T120000
DURATION:PT0H60M0S
SUMMARY:SC 13 - Seahawks  vs CHASCO 17
DESCRIPTION:3rd/4th Grade Coed Soccer | Soccer\nHutto Family YMCA\n
URL;VALUE=URI:https://ygametime.com/branch/hutto/sports/2026-spring-soccer/25683/?utm_medium=calendar&utm_source=team_cal&utm_content=league_url#game-595253
LOCATION:Soccer Field #1 West Boles Family Sports Complex
BEGIN:VALARM
TRIGGER:-P2H
ACTION:DISPLAY
DESCRIPTION:SC 13 - Seahawks  vs CHASCO 17
END:VALARM
END:VEVENT
BEGIN:VEVENT
UID:hutto-595257@ygametime.com
DTSTAMP:20260411T180000Z
DTSTART;TZID=America/Chicago:20260411T130000
DURATION:PT0H60M0S
SUMMARY:CHASCO 18 vs SC 13 - Seahawks 
DESCRIPTION:3rd/4th Grade Coed Soccer | Soccer\nHutto Family YMCA\n
URL;VALUE=URI:https://ygametime.com/branch/hutto/sports/2026-spring-soccer/25683/?utm_medium=calendar&utm_source=team_cal&utm_content=league_url#game-595257
LOCATION:Soccer Field #1 West Boles Family Sports Complex
BEGIN:VALARM
TRIGGER:-P2H
ACTION:DISPLAY
DESCRIPTION:CHASCO 18 vs SC 13 - Seahawks 
END:VALARM
END:VEVENT
BEGIN:VEVENT
UID:hutto-595260@ygametime.com
DTSTAMP:20260418T180000Z
DTSTART;TZID=America/Chicago:20260418T130000
DURATION:PT0H60M0S
SUMMARY:SC 11 - Strikers 2.0 vs SC 13 - Seahawks 
DESCRIPTION:3rd/4th Grade Coed Soccer | Soccer\nHutto Family YMCA\n
URL;VALUE=URI:https://ygametime.com/branch/hutto/sports/2026-spring-soccer/25683/?utm_medium=calendar&utm_source=team_cal&utm_content=league_url#game-595260
LOCATION:Soccer Field #1 West Boles Family Sports Complex
BEGIN:VALARM
TRIGGER:-P2H
ACTION:DISPLAY
DESCRIPTION:SC 11 - Strikers 2.0 vs SC 13 - Seahawks 
END:VALARM
END:VEVENT
BEGIN:VEVENT
UID:hutto-595263@ygametime.com
DTSTAMP:20260425T180000Z
DTSTART;TZID=America/Chicago:20260425T130000
DURATION:PT0H60M0S
SUMMARY:SC 13 - Seahawks  vs SC 12 - Tigers
DESCRIPTION:3rd/4th Grade Coed Soccer | Soccer\nHutto Family YMCA\n
URL;VALUE=URI:https://ygametime.com/branch/hutto/sports/2026-spring-soccer/25683/?utm_medium=calendar&utm_source=team_cal&utm_content=league_url#game-595263
LOCATION:Soccer Field #1 West Boles Family Sports Complex
BEGIN:VALARM
TRIGGER:-P2H
ACTION:DISPLAY
DESCRIPTION:SC 13 - Seahawks  vs SC 12 - Tigers
END:VALARM
END:VEVENT
BEGIN:VEVENT
UID:hutto-595265@ygametime.com
DTSTAMP:20260502T170000Z
DTSTART;TZID=America/Chicago:20260502T120000
DURATION:PT0H60M0S
SUMMARY:SC 14 - Cavazos vs SC 13 - Seahawks 
DESCRIPTION:3rd/4th Grade Coed Soccer | Soccer\nHutto Family YMCA\n
URL;VALUE=URI:https://ygametime.com/branch/hutto/sports/2026-spring-soccer/25683/?utm_medium=calendar&utm_source=team_cal&utm_content=league_url#game-595265
LOCATION:Soccer Field #1 West Boles Family Sports Complex
BEGIN:VALARM
TRIGGER:-P2H
ACTION:DISPLAY
DESCRIPTION:SC 14 - Cavazos vs SC 13 - Seahawks 
END:VALARM
END:VEVENT
BEGIN:VEVENT
UID:hutto-595269@ygametime.com
DTSTAMP:20260509T180000Z
DTSTART;TZID=America/Chicago:20260509T130000
DURATION:PT0H60M0S
SUMMARY:SC 13 - Seahawks  vs CHASCO 17
DESCRIPTION:3rd/4th Grade Coed Soccer | Soccer\nHutto Family YMCA\n
URL;VALUE=URI:https://ygametime.com/branch/hutto/sports/2026-spring-soccer/25683/?utm_medium=calendar&utm_source=team_cal&utm_content=league_url#game-595269
LOCATION:Soccer Field #1 West Boles Family Sports Complex
BEGIN:VALARM
TRIGGER:-P2H
ACTION:DISPLAY
DESCRIPTION:SC 13 - Seahawks  vs CHASCO 17
END:VALARM
END:VEVENT
END:VCALENDAR

