BEGIN:VCALENDAR
VERSION:2.0
PRODID:-//YGAMETIME.com//YGT iCal Creator//EN
METHOD:PUBLISH
X-PUBLISHED-TTL:PT6H
REFRESH-INTERVAL;VALUE=DURATION:PT6H
CALSCALE:GREGORIAN
X-WR-CALNAME:YGAMETIME CALENDAR
BEGIN:VTIMEZONE
TZID:America/Chicago
X-LIC-LOCATION:America/Chicago
BEGIN:DAYLIGHT
TZOFFSETFROM:-0600
TZOFFSETTO:-0500
TZNAME:CDT
DTSTART:19700308T020000
RRULE:FREQ=YEARLY;BYMONTH=3;BYDAY=2SU
END:DAYLIGHT
BEGIN:STANDARD
TZOFFSETFROM:-0500
TZOFFSETTO:-0600
TZNAME:CST
DTSTART:19701101T020000
RRULE:FREQ=YEARLY;BYMONTH=11;BYDAY=1SU
END:STANDARD
END:VTIMEZONE
BEGIN:VEVENT
UID:hutto-599721@ygametime.com
DTSTAMP:20260411T160000Z
DTSTART;TZID=America/Chicago:20260411T110000
DURATION:PT0H75M0S
SUMMARY:Twin Lakes 8 vs Twin Lakes 7
DESCRIPTION:1st/2nd Grade Coed T-Ball | T-Ball\nHutto Family YMCA\n
URL;VALUE=URI:https://ygametime.com/branch/hutto/sports/2026-spring-t-ball/25736/?utm_medium=calendar&utm_source=team_cal&utm_content=league_url#game-599721
LOCATION:Twin Lakes CP Field 11
BEGIN:VALARM
TRIGGER:-P2H
ACTION:DISPLAY
DESCRIPTION:Twin Lakes 8 vs Twin Lakes 7
END:VALARM
END:VEVENT
BEGIN:VEVENT
UID:hutto-599734@ygametime.com
DTSTAMP:20260411T171500Z
DTSTART;TZID=America/Chicago:20260411T121500
DURATION:PT0H75M0S
SUMMARY:Twin Lakes 8 vs TB 6 - Black Widows
DESCRIPTION:1st/2nd Grade Coed T-Ball | T-Ball\nHutto Family YMCA\n
URL;VALUE=URI:https://ygametime.com/branch/hutto/sports/2026-spring-t-ball/25736/?utm_medium=calendar&utm_source=team_cal&utm_content=league_url#game-599734
LOCATION:Twin Lakes CP Field 11
BEGIN:VALARM
TRIGGER:-P2H
ACTION:DISPLAY
DESCRIPTION:Twin Lakes 8 vs TB 6 - Black Widows
END:VALARM
END:VEVENT
BEGIN:VEVENT
UID:hutto-599722@ygametime.com
DTSTAMP:20260418T160000Z
DTSTART;TZID=America/Chicago:20260418T110000
DURATION:PT0H75M0S
SUMMARY:Twin Lakes 8 vs CHASCO 7
DESCRIPTION:1st/2nd Grade Coed T-Ball | T-Ball\nHutto Family YMCA\n
URL;VALUE=URI:https://ygametime.com/branch/hutto/sports/2026-spring-t-ball/25736/?utm_medium=calendar&utm_source=team_cal&utm_content=league_url#game-599722
LOCATION:Twin Lakes CP Field 11
BEGIN:VALARM
TRIGGER:-P2H
ACTION:DISPLAY
DESCRIPTION:Twin Lakes 8 vs CHASCO 7
END:VALARM
END:VEVENT
BEGIN:VEVENT
UID:hutto-599725@ygametime.com
DTSTAMP:20260425T140000Z
DTSTART;TZID=America/Chicago:20260425T090000
DURATION:PT0H75M0S
SUMMARY:Twin Lakes 8 vs TB 5 - Braves
DESCRIPTION:1st/2nd Grade Coed T-Ball | T-Ball\nHutto Family YMCA\n
URL;VALUE=URI:https://ygametime.com/branch/hutto/sports/2026-spring-t-ball/25736/?utm_medium=calendar&utm_source=team_cal&utm_content=league_url#game-599725
LOCATION:Tball Field #1 East Boles Family Sports Complex
BEGIN:VALARM
TRIGGER:-P2H
ACTION:DISPLAY
DESCRIPTION:Twin Lakes 8 vs TB 5 - Braves
END:VALARM
END:VEVENT
BEGIN:VEVENT
UID:hutto-599730@ygametime.com
DTSTAMP:20260502T171500Z
DTSTART;TZID=America/Chicago:20260502T121500
DURATION:PT0H75M0S
SUMMARY:TB 5 - Braves vs Twin Lakes 8
DESCRIPTION:1st/2nd Grade Coed T-Ball | T-Ball\nHutto Family YMCA\n
URL;VALUE=URI:https://ygametime.com/branch/hutto/sports/2026-spring-t-ball/25736/?utm_medium=calendar&utm_source=team_cal&utm_content=league_url#game-599730
LOCATION:Twin Lakes CP Field 11
BEGIN:VALARM
TRIGGER:-P2H
ACTION:DISPLAY
DESCRIPTION:TB 5 - Braves vs Twin Lakes 8
END:VALARM
END:VEVENT
BEGIN:VEVENT
UID:hutto-599736@ygametime.com
DTSTAMP:20260509T160000Z
DTSTART;TZID=America/Chicago:20260509T110000
DURATION:PT0H75M0S
SUMMARY:Twin Lakes 7 vs Twin Lakes 8
DESCRIPTION:1st/2nd Grade Coed T-Ball | T-Ball\nHutto Family YMCA\n
URL;VALUE=URI:https://ygametime.com/branch/hutto/sports/2026-spring-t-ball/25736/?utm_medium=calendar&utm_source=team_cal&utm_content=league_url#game-599736
LOCATION:Twin Lakes CP Field 11
BEGIN:VALARM
TRIGGER:-P2H
ACTION:DISPLAY
DESCRIPTION:Twin Lakes 7 vs Twin Lakes 8
END:VALARM
END:VEVENT
END:VCALENDAR

