BEGIN:VCALENDAR
VERSION:2.0
PRODID:-//YGAMETIME.com//YGT iCal Creator//EN
METHOD:PUBLISH
X-PUBLISHED-TTL:PT6H
REFRESH-INTERVAL;VALUE=DURATION:PT6H
CALSCALE:GREGORIAN
X-WR-CALNAME:YGAMETIME CALENDAR
BEGIN:VTIMEZONE
TZID:America/Chicago
X-LIC-LOCATION:America/Chicago
BEGIN:DAYLIGHT
TZOFFSETFROM:-0600
TZOFFSETTO:-0500
TZNAME:CDT
DTSTART:19700308T020000
RRULE:FREQ=YEARLY;BYMONTH=3;BYDAY=2SU
END:DAYLIGHT
BEGIN:STANDARD
TZOFFSETFROM:-0500
TZOFFSETTO:-0600
TZNAME:CST
DTSTART:19701101T020000
RRULE:FREQ=YEARLY;BYMONTH=11;BYDAY=1SU
END:STANDARD
END:VTIMEZONE
BEGIN:VEVENT
UID:hutto-599715@ygametime.com
DTSTAMP:20260328T140000Z
DTSTART;TZID=America/Chicago:20260328T090000
DURATION:PT0H75M0S
SUMMARY:CHASCO 6 vs CHASCO 7
DESCRIPTION:1st/2nd Grade Coed T-Ball | T-Ball\nHutto Family YMCA\n
URL;VALUE=URI:https://ygametime.com/branch/hutto/sports/2026-spring-t-ball/25736/?utm_medium=calendar&utm_source=team_cal&utm_content=league_url#game-599715
LOCATION:Tball Field #1 East Boles Family Sports Complex
BEGIN:VALARM
TRIGGER:-P2H
ACTION:DISPLAY
DESCRIPTION:CHASCO 6 vs CHASCO 7
END:VALARM
END:VEVENT
BEGIN:VEVENT
UID:hutto-599720@ygametime.com
DTSTAMP:20260411T140000Z
DTSTART;TZID=America/Chicago:20260411T090000
DURATION:PT0H75M0S
SUMMARY:CHASCO 7 vs TB 5 - Braves
DESCRIPTION:1st/2nd Grade Coed T-Ball | T-Ball\nHutto Family YMCA\n
URL;VALUE=URI:https://ygametime.com/branch/hutto/sports/2026-spring-t-ball/25736/?utm_medium=calendar&utm_source=team_cal&utm_content=league_url#game-599720
LOCATION:Tball Field #1 East Boles Family Sports Complex
BEGIN:VALARM
TRIGGER:-P2H
ACTION:DISPLAY
DESCRIPTION:CHASCO 7 vs TB 5 - Braves
END:VALARM
END:VEVENT
BEGIN:VEVENT
UID:hutto-599722@ygametime.com
DTSTAMP:20260418T160000Z
DTSTART;TZID=America/Chicago:20260418T110000
DURATION:PT0H75M0S
SUMMARY:Twin Lakes 8 vs CHASCO 7
DESCRIPTION:1st/2nd Grade Coed T-Ball | T-Ball\nHutto Family YMCA\n
URL;VALUE=URI:https://ygametime.com/branch/hutto/sports/2026-spring-t-ball/25736/?utm_medium=calendar&utm_source=team_cal&utm_content=league_url#game-599722
LOCATION:Twin Lakes CP Field 11
BEGIN:VALARM
TRIGGER:-P2H
ACTION:DISPLAY
DESCRIPTION:Twin Lakes 8 vs CHASCO 7
END:VALARM
END:VEVENT
BEGIN:VEVENT
UID:hutto-599735@ygametime.com
DTSTAMP:20260425T171500Z
DTSTART;TZID=America/Chicago:20260425T121500
DURATION:PT0H75M0S
SUMMARY:CHASCO 7 vs Twin Lakes 7
DESCRIPTION:1st/2nd Grade Coed T-Ball | T-Ball\nHutto Family YMCA\n
URL;VALUE=URI:https://ygametime.com/branch/hutto/sports/2026-spring-t-ball/25736/?utm_medium=calendar&utm_source=team_cal&utm_content=league_url#game-599735
LOCATION:Twin Lakes CP Field 11
BEGIN:VALARM
TRIGGER:-P2H
ACTION:DISPLAY
DESCRIPTION:CHASCO 7 vs Twin Lakes 7
END:VALARM
END:VEVENT
BEGIN:VEVENT
UID:hutto-599732@ygametime.com
DTSTAMP:20260509T140000Z
DTSTART;TZID=America/Chicago:20260509T090000
DURATION:PT0H75M0S
SUMMARY:CHASCO 6 vs CHASCO 7
DESCRIPTION:1st/2nd Grade Coed T-Ball | T-Ball\nHutto Family YMCA\n
URL;VALUE=URI:https://ygametime.com/branch/hutto/sports/2026-spring-t-ball/25736/?utm_medium=calendar&utm_source=team_cal&utm_content=league_url#game-599732
LOCATION:Tball Field #1 East Boles Family Sports Complex
BEGIN:VALARM
TRIGGER:-P2H
ACTION:DISPLAY
DESCRIPTION:CHASCO 6 vs CHASCO 7
END:VALARM
END:VEVENT
BEGIN:VEVENT
UID:hutto-599733@ygametime.com
DTSTAMP:20260509T153000Z
DTSTART;TZID=America/Chicago:20260509T103000
DURATION:PT0H75M0S
SUMMARY:CHASCO 7 vs TB 6 - Black Widows
DESCRIPTION:1st/2nd Grade Coed T-Ball | T-Ball\nHutto Family YMCA\n
URL;VALUE=URI:https://ygametime.com/branch/hutto/sports/2026-spring-t-ball/25736/?utm_medium=calendar&utm_source=team_cal&utm_content=league_url#game-599733
LOCATION:Tball Field #1 East Boles Family Sports Complex
BEGIN:VALARM
TRIGGER:-P2H
ACTION:DISPLAY
DESCRIPTION:CHASCO 7 vs TB 6 - Black Widows
END:VALARM
END:VEVENT
END:VCALENDAR

