BEGIN:VCALENDAR
VERSION:2.0
PRODID:-//YGAMETIME.com//YGT iCal Creator//EN
METHOD:PUBLISH
X-PUBLISHED-TTL:PT6H
REFRESH-INTERVAL;VALUE=DURATION:PT6H
CALSCALE:GREGORIAN
X-WR-CALNAME:YGAMETIME CALENDAR
BEGIN:VTIMEZONE
TZID:America/Chicago
X-LIC-LOCATION:America/Chicago
BEGIN:DAYLIGHT
TZOFFSETFROM:-0600
TZOFFSETTO:-0500
TZNAME:CDT
DTSTART:19700308T020000
RRULE:FREQ=YEARLY;BYMONTH=3;BYDAY=2SU
END:DAYLIGHT
BEGIN:STANDARD
TZOFFSETFROM:-0500
TZOFFSETTO:-0600
TZNAME:CST
DTSTART:19701101T020000
RRULE:FREQ=YEARLY;BYMONTH=11;BYDAY=1SU
END:STANDARD
END:VTIMEZONE
BEGIN:VEVENT
UID:hutto-594726@ygametime.com
DTSTAMP:20260328T161500Z
DTSTART;TZID=America/Chicago:20260328T111500
DURATION:PT0H60M0S
SUMMARY:Twin Lakes 21 vs BB 22 - Queens of the Court
DESCRIPTION:5th/6th Grade Girls Basketball | Basketball\nHutto Family YMCA\n
URL;VALUE=URI:https://ygametime.com/branch/hutto/sports/2026-spring-basketball/25662/?utm_medium=calendar&utm_source=team_cal&utm_content=league_url#game-594726
LOCATION:Twin Lakes Family YMCA Gym
BEGIN:VALARM
TRIGGER:-P2H
ACTION:DISPLAY
DESCRIPTION:Twin Lakes 21 vs BB 22 - Queens of the Court
END:VALARM
END:VEVENT
BEGIN:VEVENT
UID:hutto-594732@ygametime.com
DTSTAMP:20260411T161500Z
DTSTART;TZID=America/Chicago:20260411T111500
DURATION:PT0H60M0S
SUMMARY:Twin Lakes 21 vs BB 21 - Fever
DESCRIPTION:5th/6th Grade Girls Basketball | Basketball\nHutto Family YMCA\n
URL;VALUE=URI:https://ygametime.com/branch/hutto/sports/2026-spring-basketball/25662/?utm_medium=calendar&utm_source=team_cal&utm_content=league_url#game-594732
LOCATION:Twin Lakes Family YMCA Gym
BEGIN:VALARM
TRIGGER:-P2H
ACTION:DISPLAY
DESCRIPTION:Twin Lakes 21 vs BB 21 - Fever
END:VALARM
END:VEVENT
BEGIN:VEVENT
UID:hutto-594730@ygametime.com
DTSTAMP:20260418T161500Z
DTSTART;TZID=America/Chicago:20260418T111500
DURATION:PT0H60M0S
SUMMARY:Twin Lakes 21 vs Twin Lakes 20
DESCRIPTION:5th/6th Grade Girls Basketball | Basketball\nHutto Family YMCA\n
URL;VALUE=URI:https://ygametime.com/branch/hutto/sports/2026-spring-basketball/25662/?utm_medium=calendar&utm_source=team_cal&utm_content=league_url#game-594730
LOCATION:Twin Lakes Family YMCA Gym
BEGIN:VALARM
TRIGGER:-P2H
ACTION:DISPLAY
DESCRIPTION:Twin Lakes 21 vs Twin Lakes 20
END:VALARM
END:VEVENT
BEGIN:VEVENT
UID:hutto-594742@ygametime.com
DTSTAMP:20260425T170000Z
DTSTART;TZID=America/Chicago:20260425T120000
DURATION:PT0H60M0S
SUMMARY:BB 21 - Fever vs Twin Lakes 21
DESCRIPTION:5th/6th Grade Girls Basketball | Basketball\nHutto Family YMCA\n
URL;VALUE=URI:https://ygametime.com/branch/hutto/sports/2026-spring-basketball/25662/?utm_medium=calendar&utm_source=team_cal&utm_content=league_url#game-594742
LOCATION:Hutto Family YMCA Gym 
BEGIN:VALARM
TRIGGER:-P2H
ACTION:DISPLAY
DESCRIPTION:BB 21 - Fever vs Twin Lakes 21
END:VALARM
END:VEVENT
BEGIN:VEVENT
UID:hutto-594734@ygametime.com
DTSTAMP:20260502T171500Z
DTSTART;TZID=America/Chicago:20260502T121500
DURATION:PT0H60M0S
SUMMARY:CHASCO 15 vs Twin Lakes 21
DESCRIPTION:5th/6th Grade Girls Basketball | Basketball\nHutto Family YMCA\n
URL;VALUE=URI:https://ygametime.com/branch/hutto/sports/2026-spring-basketball/25662/?utm_medium=calendar&utm_source=team_cal&utm_content=league_url#game-594734
LOCATION:CHASCO Family YMCA Gym
BEGIN:VALARM
TRIGGER:-P2H
ACTION:DISPLAY
DESCRIPTION:CHASCO 15 vs Twin Lakes 21
END:VALARM
END:VEVENT
BEGIN:VEVENT
UID:hutto-594735@ygametime.com
DTSTAMP:20260509T161500Z
DTSTART;TZID=America/Chicago:20260509T111500
DURATION:PT0H60M0S
SUMMARY:Twin Lakes 20 vs Twin Lakes 21
DESCRIPTION:5th/6th Grade Girls Basketball | Basketball\nHutto Family YMCA\n
URL;VALUE=URI:https://ygametime.com/branch/hutto/sports/2026-spring-basketball/25662/?utm_medium=calendar&utm_source=team_cal&utm_content=league_url#game-594735
LOCATION:Twin Lakes Family YMCA Gym
BEGIN:VALARM
TRIGGER:-P2H
ACTION:DISPLAY
DESCRIPTION:Twin Lakes 20 vs Twin Lakes 21
END:VALARM
END:VEVENT
END:VCALENDAR

