BEGIN:VCALENDAR
VERSION:2.0
PRODID:-//YGAMETIME.com//YGT iCal Creator//EN
METHOD:PUBLISH
X-PUBLISHED-TTL:PT6H
REFRESH-INTERVAL;VALUE=DURATION:PT6H
CALSCALE:GREGORIAN
X-WR-CALNAME:YGAMETIME CALENDAR
BEGIN:VTIMEZONE
TZID:America/Chicago
X-LIC-LOCATION:America/Chicago
BEGIN:DAYLIGHT
TZOFFSETFROM:-0600
TZOFFSETTO:-0500
TZNAME:CDT
DTSTART:19700308T020000
RRULE:FREQ=YEARLY;BYMONTH=3;BYDAY=2SU
END:DAYLIGHT
BEGIN:STANDARD
TZOFFSETFROM:-0500
TZOFFSETTO:-0600
TZNAME:CST
DTSTART:19701101T020000
RRULE:FREQ=YEARLY;BYMONTH=11;BYDAY=1SU
END:STANDARD
END:VTIMEZONE
BEGIN:VEVENT
UID:hutto-597751@ygametime.com
DTSTAMP:20260328T203000Z
DTSTART;TZID=America/Chicago:20260328T153000
DURATION:PT0H60M0S
SUMMARY:FF 3 - Neon Rush vs Twin Lakes 4 - Cheetos
DESCRIPTION:3rd/4th Grade Coed Flag Football | Flag Football\nHutto Family YMCA\n
URL;VALUE=URI:https://ygametime.com/branch/hutto/sports/2026-spring-flag-football/25738/?utm_medium=calendar&utm_source=team_cal&utm_content=league_url#game-597751
LOCATION:Twin Lakes Kaboom #9
BEGIN:VALARM
TRIGGER:-P2H
ACTION:DISPLAY
DESCRIPTION:FF 3 - Neon Rush vs Twin Lakes 4 - Cheetos
END:VALARM
END:VEVENT
BEGIN:VEVENT
UID:hutto-597752@ygametime.com
DTSTAMP:20260328T213000Z
DTSTART;TZID=America/Chicago:20260328T163000
DURATION:PT0H60M0S
SUMMARY:FF 4 - Raptors vs Twin Lakes 4 - Cheetos
DESCRIPTION:3rd/4th Grade Coed Flag Football | Flag Football\nHutto Family YMCA\n
URL;VALUE=URI:https://ygametime.com/branch/hutto/sports/2026-spring-flag-football/25738/?utm_medium=calendar&utm_source=team_cal&utm_content=league_url#game-597752
LOCATION:Twin Lakes Kaboom #9
BEGIN:VALARM
TRIGGER:-P2H
ACTION:DISPLAY
DESCRIPTION:FF 4 - Raptors vs Twin Lakes 4 - Cheetos
END:VALARM
END:VEVENT
BEGIN:VEVENT
UID:hutto-597753@ygametime.com
DTSTAMP:20260411T183000Z
DTSTART;TZID=America/Chicago:20260411T133000
DURATION:PT0H60M0S
SUMMARY:FF 3 - Neon Rush vs Twin Lakes 4 - Cheetos
DESCRIPTION:3rd/4th Grade Coed Flag Football | Flag Football\nHutto Family YMCA\n
URL;VALUE=URI:https://ygametime.com/branch/hutto/sports/2026-spring-flag-football/25738/?utm_medium=calendar&utm_source=team_cal&utm_content=league_url#game-597753
LOCATION:Twin Lakes Field #4
BEGIN:VALARM
TRIGGER:-P2H
ACTION:DISPLAY
DESCRIPTION:FF 3 - Neon Rush vs Twin Lakes 4 - Cheetos
END:VALARM
END:VEVENT
BEGIN:VEVENT
UID:hutto-597755@ygametime.com
DTSTAMP:20260418T173000Z
DTSTART;TZID=America/Chicago:20260418T123000
DURATION:PT0H60M0S
SUMMARY:FF 4 - Raptors vs Twin Lakes 4 - Cheetos
DESCRIPTION:3rd/4th Grade Coed Flag Football | Flag Football\nHutto Family YMCA\n
URL;VALUE=URI:https://ygametime.com/branch/hutto/sports/2026-spring-flag-football/25738/?utm_medium=calendar&utm_source=team_cal&utm_content=league_url#game-597755
LOCATION:Twin Lakes Field #4
BEGIN:VALARM
TRIGGER:-P2H
ACTION:DISPLAY
DESCRIPTION:FF 4 - Raptors vs Twin Lakes 4 - Cheetos
END:VALARM
END:VEVENT
BEGIN:VEVENT
UID:hutto-597759@ygametime.com
DTSTAMP:20260502T183000Z
DTSTART;TZID=America/Chicago:20260502T133000
DURATION:PT0H60M0S
SUMMARY:Twin Lakes 4 - Cheetos vs FF 3 - Neon Rush
DESCRIPTION:3rd/4th Grade Coed Flag Football | Flag Football\nHutto Family YMCA\n
URL;VALUE=URI:https://ygametime.com/branch/hutto/sports/2026-spring-flag-football/25738/?utm_medium=calendar&utm_source=team_cal&utm_content=league_url#game-597759
LOCATION:Twin Lakes Field #4
BEGIN:VALARM
TRIGGER:-P2H
ACTION:DISPLAY
DESCRIPTION:Twin Lakes 4 - Cheetos vs FF 3 - Neon Rush
END:VALARM
END:VEVENT
BEGIN:VEVENT
UID:hutto-597761@ygametime.com
DTSTAMP:20260509T173000Z
DTSTART;TZID=America/Chicago:20260509T123000
DURATION:PT0H60M0S
SUMMARY:Twin Lakes 4 - Cheetos vs FF 4 - Raptors
DESCRIPTION:3rd/4th Grade Coed Flag Football | Flag Football\nHutto Family YMCA\n
URL;VALUE=URI:https://ygametime.com/branch/hutto/sports/2026-spring-flag-football/25738/?utm_medium=calendar&utm_source=team_cal&utm_content=league_url#game-597761
LOCATION:Twin Lakes Field #4
BEGIN:VALARM
TRIGGER:-P2H
ACTION:DISPLAY
DESCRIPTION:Twin Lakes 4 - Cheetos vs FF 4 - Raptors
END:VALARM
END:VEVENT
END:VCALENDAR

