BEGIN:VCALENDAR
VERSION:2.0
PRODID:-//YGAMETIME.com//YGT iCal Creator//EN
METHOD:PUBLISH
X-PUBLISHED-TTL:PT6H
REFRESH-INTERVAL;VALUE=DURATION:PT6H
CALSCALE:GREGORIAN
X-WR-CALNAME:YGAMETIME CALENDAR
BEGIN:VTIMEZONE
TZID:America/New_York
X-LIC-LOCATION:America/New_York
BEGIN:DAYLIGHT
TZOFFSETFROM:-0500
TZOFFSETTO:-0400
TZNAME:EDT
DTSTART:19700308T020000
RRULE:FREQ=YEARLY;BYMONTH=3;BYDAY=2SU
END:DAYLIGHT
BEGIN:STANDARD
TZOFFSETFROM:-0400
TZOFFSETTO:-0500
TZNAME:EST
DTSTART:19701101T020000
RRULE:FREQ=YEARLY;BYMONTH=11;BYDAY=1SU
END:STANDARD
END:VTIMEZONE
BEGIN:VEVENT
UID:indianland-591291@ygametime.com
DTSTAMP:20260314T123000Z
DTSTART;TZID=America/New_York:20260314T083000
DURATION:PT0H60M0S
SUMMARY:Tigers vs Fireants
DESCRIPTION:3-4 | Soccer\nIndian Land YMCA\n
URL;VALUE=URI:https://ygametime.com/branch/indianland/sports/2026-spring-soccer/25525/?utm_medium=calendar&utm_source=team_cal&utm_content=league_url#game-591291
LOCATION:Field 4A
BEGIN:VALARM
TRIGGER:-P2H
ACTION:DISPLAY
DESCRIPTION:Tigers vs Fireants
END:VALARM
END:VEVENT
BEGIN:VEVENT
UID:indianland-591296@ygametime.com
DTSTAMP:20260321T133000Z
DTSTART;TZID=America/New_York:20260321T093000
DURATION:PT0H60M0S
SUMMARY:Fireants vs Lions
DESCRIPTION:3-4 | Soccer\nIndian Land YMCA\n
URL;VALUE=URI:https://ygametime.com/branch/indianland/sports/2026-spring-soccer/25525/?utm_medium=calendar&utm_source=team_cal&utm_content=league_url#game-591296
LOCATION:Field 4A
BEGIN:VALARM
TRIGGER:-P2H
ACTION:DISPLAY
DESCRIPTION:Fireants vs Lions
END:VALARM
END:VEVENT
BEGIN:VEVENT
UID:indianland-591298@ygametime.com
DTSTAMP:20260328T123000Z
DTSTART;TZID=America/New_York:20260328T083000
DURATION:PT0H60M0S
SUMMARY:Flames vs Fireants
DESCRIPTION:3-4 | Soccer\nIndian Land YMCA\n
URL;VALUE=URI:https://ygametime.com/branch/indianland/sports/2026-spring-soccer/25525/?utm_medium=calendar&utm_source=team_cal&utm_content=league_url#game-591298
LOCATION:Field 4A
BEGIN:VALARM
TRIGGER:-P2H
ACTION:DISPLAY
DESCRIPTION:Flames vs Fireants
END:VALARM
END:VEVENT
BEGIN:VEVENT
UID:indianland-591300@ygametime.com
DTSTAMP:20260404T123000Z
DTSTART;TZID=America/New_York:20260404T083000
DURATION:PT0H60M0S
SUMMARY:Fireants vs Bees
DESCRIPTION:3-4 | Soccer\nIndian Land YMCA\n
URL;VALUE=URI:https://ygametime.com/branch/indianland/sports/2026-spring-soccer/25525/?utm_medium=calendar&utm_source=team_cal&utm_content=league_url#game-591300
LOCATION:Field 4A
BEGIN:VALARM
TRIGGER:-P2H
ACTION:DISPLAY
DESCRIPTION:Fireants vs Bees
END:VALARM
END:VEVENT
BEGIN:VEVENT
UID:indianland-591307@ygametime.com
DTSTAMP:20260418T123000Z
DTSTART;TZID=America/New_York:20260418T083000
DURATION:PT0H60M0S
SUMMARY:Tigers vs Fireants
DESCRIPTION:3-4 | Soccer\nIndian Land YMCA\n
URL;VALUE=URI:https://ygametime.com/branch/indianland/sports/2026-spring-soccer/25525/?utm_medium=calendar&utm_source=team_cal&utm_content=league_url#game-591307
LOCATION:Field 4A
BEGIN:VALARM
TRIGGER:-P2H
ACTION:DISPLAY
DESCRIPTION:Tigers vs Fireants
END:VALARM
END:VEVENT
BEGIN:VEVENT
UID:indianland-591309@ygametime.com
DTSTAMP:20260425T123000Z
DTSTART;TZID=America/New_York:20260425T083000
DURATION:PT0H60M0S
SUMMARY:Fireants vs Lions
DESCRIPTION:3-4 | Soccer\nIndian Land YMCA\n
URL;VALUE=URI:https://ygametime.com/branch/indianland/sports/2026-spring-soccer/25525/?utm_medium=calendar&utm_source=team_cal&utm_content=league_url#game-591309
LOCATION:Field 4B
BEGIN:VALARM
TRIGGER:-P2H
ACTION:DISPLAY
DESCRIPTION:Fireants vs Lions
END:VALARM
END:VEVENT
BEGIN:VEVENT
UID:indianland-591314@ygametime.com
DTSTAMP:20260502T133000Z
DTSTART;TZID=America/New_York:20260502T093000
DURATION:PT0H60M0S
SUMMARY:Flames vs Fireants
DESCRIPTION:3-4 | Soccer\nIndian Land YMCA\n
URL;VALUE=URI:https://ygametime.com/branch/indianland/sports/2026-spring-soccer/25525/?utm_medium=calendar&utm_source=team_cal&utm_content=league_url#game-591314
LOCATION:Field 4A
BEGIN:VALARM
TRIGGER:-P2H
ACTION:DISPLAY
DESCRIPTION:Flames vs Fireants
END:VALARM
END:VEVENT
END:VCALENDAR

