BEGIN:VCALENDAR
VERSION:2.0
PRODID:-//YGAMETIME.com//YGT iCal Creator//EN
METHOD:PUBLISH
X-PUBLISHED-TTL:PT6H
REFRESH-INTERVAL;VALUE=DURATION:PT6H
CALSCALE:GREGORIAN
X-WR-CALNAME:YGAMETIME CALENDAR
BEGIN:VTIMEZONE
TZID:America/New_York
X-LIC-LOCATION:America/New_York
BEGIN:DAYLIGHT
TZOFFSETFROM:-0500
TZOFFSETTO:-0400
TZNAME:EDT
DTSTART:19700308T020000
RRULE:FREQ=YEARLY;BYMONTH=3;BYDAY=2SU
END:DAYLIGHT
BEGIN:STANDARD
TZOFFSETFROM:-0400
TZOFFSETTO:-0500
TZNAME:EST
DTSTART:19701101T020000
RRULE:FREQ=YEARLY;BYMONTH=11;BYDAY=1SU
END:STANDARD
END:VTIMEZONE
BEGIN:VEVENT
UID:indianland-591316@ygametime.com
DTSTAMP:20260314T140000Z
DTSTART;TZID=America/New_York:20260314T100000
DURATION:PT0H60M0S
SUMMARY:Gators vs Strikers
DESCRIPTION:5-6 | Soccer\nIndian Land YMCA\n
URL;VALUE=URI:https://ygametime.com/branch/indianland/sports/2026-spring-soccer/25526/?utm_medium=calendar&utm_source=team_cal&utm_content=league_url#game-591316
LOCATION:Field 3
BEGIN:VALARM
TRIGGER:-P2H
ACTION:DISPLAY
DESCRIPTION:Gators vs Strikers
END:VALARM
END:VEVENT
BEGIN:VEVENT
UID:indianland-591319@ygametime.com
DTSTAMP:20260321T140000Z
DTSTART;TZID=America/New_York:20260321T100000
DURATION:PT0H60M0S
SUMMARY:Strikers vs Swift Kicks
DESCRIPTION:5-6 | Soccer\nIndian Land YMCA\n
URL;VALUE=URI:https://ygametime.com/branch/indianland/sports/2026-spring-soccer/25526/?utm_medium=calendar&utm_source=team_cal&utm_content=league_url#game-591319
LOCATION:Field 3
BEGIN:VALARM
TRIGGER:-P2H
ACTION:DISPLAY
DESCRIPTION:Strikers vs Swift Kicks
END:VALARM
END:VEVENT
BEGIN:VEVENT
UID:indianland-591321@ygametime.com
DTSTAMP:20260328T130000Z
DTSTART;TZID=America/New_York:20260328T090000
DURATION:PT0H60M0S
SUMMARY:Wolves vs Strikers
DESCRIPTION:5-6 | Soccer\nIndian Land YMCA\n
URL;VALUE=URI:https://ygametime.com/branch/indianland/sports/2026-spring-soccer/25526/?utm_medium=calendar&utm_source=team_cal&utm_content=league_url#game-591321
LOCATION:Field 3
BEGIN:VALARM
TRIGGER:-P2H
ACTION:DISPLAY
DESCRIPTION:Wolves vs Strikers
END:VALARM
END:VEVENT
BEGIN:VEVENT
UID:indianland-591325@ygametime.com
DTSTAMP:20260404T140000Z
DTSTART;TZID=America/New_York:20260404T100000
DURATION:PT0H60M0S
SUMMARY:Strikers vs Bulls
DESCRIPTION:5-6 | Soccer\nIndian Land YMCA\n
URL;VALUE=URI:https://ygametime.com/branch/indianland/sports/2026-spring-soccer/25526/?utm_medium=calendar&utm_source=team_cal&utm_content=league_url#game-591325
LOCATION:Field 3
BEGIN:VALARM
TRIGGER:-P2H
ACTION:DISPLAY
DESCRIPTION:Strikers vs Bulls
END:VALARM
END:VEVENT
BEGIN:VEVENT
UID:indianland-591330@ygametime.com
DTSTAMP:20260418T130000Z
DTSTART;TZID=America/New_York:20260418T090000
DURATION:PT0H60M0S
SUMMARY:Gators vs Strikers
DESCRIPTION:5-6 | Soccer\nIndian Land YMCA\n
URL;VALUE=URI:https://ygametime.com/branch/indianland/sports/2026-spring-soccer/25526/?utm_medium=calendar&utm_source=team_cal&utm_content=league_url#game-591330
LOCATION:Field 3
BEGIN:VALARM
TRIGGER:-P2H
ACTION:DISPLAY
DESCRIPTION:Gators vs Strikers
END:VALARM
END:VEVENT
BEGIN:VEVENT
UID:indianland-591335@ygametime.com
DTSTAMP:20260425T150000Z
DTSTART;TZID=America/New_York:20260425T110000
DURATION:PT0H60M0S
SUMMARY:Strikers vs Swift Kicks
DESCRIPTION:5-6 | Soccer\nIndian Land YMCA\n
URL;VALUE=URI:https://ygametime.com/branch/indianland/sports/2026-spring-soccer/25526/?utm_medium=calendar&utm_source=team_cal&utm_content=league_url#game-591335
LOCATION:Field 3
BEGIN:VALARM
TRIGGER:-P2H
ACTION:DISPLAY
DESCRIPTION:Strikers vs Swift Kicks
END:VALARM
END:VEVENT
BEGIN:VEVENT
UID:indianland-591336@ygametime.com
DTSTAMP:20260502T130000Z
DTSTART;TZID=America/New_York:20260502T090000
DURATION:PT0H60M0S
SUMMARY:Wolves vs Strikers
DESCRIPTION:5-6 | Soccer\nIndian Land YMCA\n
URL;VALUE=URI:https://ygametime.com/branch/indianland/sports/2026-spring-soccer/25526/?utm_medium=calendar&utm_source=team_cal&utm_content=league_url#game-591336
LOCATION:Field 3
BEGIN:VALARM
TRIGGER:-P2H
ACTION:DISPLAY
DESCRIPTION:Wolves vs Strikers
END:VALARM
END:VEVENT
END:VCALENDAR

