BEGIN:VCALENDAR
VERSION:2.0
PRODID:-//YGAMETIME.com//YGT iCal Creator//EN
METHOD:PUBLISH
X-PUBLISHED-TTL:PT6H
REFRESH-INTERVAL;VALUE=DURATION:PT6H
CALSCALE:GREGORIAN
X-WR-CALNAME:YGAMETIME CALENDAR
BEGIN:VTIMEZONE
TZID:America/New_York
X-LIC-LOCATION:America/New_York
BEGIN:DAYLIGHT
TZOFFSETFROM:-0500
TZOFFSETTO:-0400
TZNAME:EDT
DTSTART:19700308T020000
RRULE:FREQ=YEARLY;BYMONTH=3;BYDAY=2SU
END:DAYLIGHT
BEGIN:STANDARD
TZOFFSETFROM:-0400
TZOFFSETTO:-0500
TZNAME:EST
DTSTART:19701101T020000
RRULE:FREQ=YEARLY;BYMONTH=11;BYDAY=1SU
END:STANDARD
END:VTIMEZONE
BEGIN:VEVENT
UID:indianland-591317@ygametime.com
DTSTAMP:20260314T150000Z
DTSTART;TZID=America/New_York:20260314T110000
DURATION:PT0H60M0S
SUMMARY:Swift Kicks vs Bulls
DESCRIPTION:5-6 | Soccer\nIndian Land YMCA\n
URL;VALUE=URI:https://ygametime.com/branch/indianland/sports/2026-spring-soccer/25526/?utm_medium=calendar&utm_source=team_cal&utm_content=league_url#game-591317
LOCATION:Field 3
BEGIN:VALARM
TRIGGER:-P2H
ACTION:DISPLAY
DESCRIPTION:Swift Kicks vs Bulls
END:VALARM
END:VEVENT
BEGIN:VEVENT
UID:indianland-591320@ygametime.com
DTSTAMP:20260321T150000Z
DTSTART;TZID=America/New_York:20260321T110000
DURATION:PT0H60M0S
SUMMARY:Bulls vs Wolves
DESCRIPTION:5-6 | Soccer\nIndian Land YMCA\n
URL;VALUE=URI:https://ygametime.com/branch/indianland/sports/2026-spring-soccer/25526/?utm_medium=calendar&utm_source=team_cal&utm_content=league_url#game-591320
LOCATION:Field 3
BEGIN:VALARM
TRIGGER:-P2H
ACTION:DISPLAY
DESCRIPTION:Bulls vs Wolves
END:VALARM
END:VEVENT
BEGIN:VEVENT
UID:indianland-591322@ygametime.com
DTSTAMP:20260328T140000Z
DTSTART;TZID=America/New_York:20260328T100000
DURATION:PT0H60M0S
SUMMARY:Bulls vs Eagles
DESCRIPTION:5-6 | Soccer\nIndian Land YMCA\n
URL;VALUE=URI:https://ygametime.com/branch/indianland/sports/2026-spring-soccer/25526/?utm_medium=calendar&utm_source=team_cal&utm_content=league_url#game-591322
LOCATION:Field 3
BEGIN:VALARM
TRIGGER:-P2H
ACTION:DISPLAY
DESCRIPTION:Bulls vs Eagles
END:VALARM
END:VEVENT
BEGIN:VEVENT
UID:indianland-591325@ygametime.com
DTSTAMP:20260404T140000Z
DTSTART;TZID=America/New_York:20260404T100000
DURATION:PT0H60M0S
SUMMARY:Strikers vs Bulls
DESCRIPTION:5-6 | Soccer\nIndian Land YMCA\n
URL;VALUE=URI:https://ygametime.com/branch/indianland/sports/2026-spring-soccer/25526/?utm_medium=calendar&utm_source=team_cal&utm_content=league_url#game-591325
LOCATION:Field 3
BEGIN:VALARM
TRIGGER:-P2H
ACTION:DISPLAY
DESCRIPTION:Strikers vs Bulls
END:VALARM
END:VEVENT
BEGIN:VEVENT
UID:indianland-591332@ygametime.com
DTSTAMP:20260418T150000Z
DTSTART;TZID=America/New_York:20260418T110000
DURATION:PT0H60M0S
SUMMARY:Swift Kicks vs Bulls
DESCRIPTION:5-6 | Soccer\nIndian Land YMCA\n
URL;VALUE=URI:https://ygametime.com/branch/indianland/sports/2026-spring-soccer/25526/?utm_medium=calendar&utm_source=team_cal&utm_content=league_url#game-591332
LOCATION:Field 3
BEGIN:VALARM
TRIGGER:-P2H
ACTION:DISPLAY
DESCRIPTION:Swift Kicks vs Bulls
END:VALARM
END:VEVENT
BEGIN:VEVENT
UID:indianland-591334@ygametime.com
DTSTAMP:20260425T140000Z
DTSTART;TZID=America/New_York:20260425T100000
DURATION:PT0H60M0S
SUMMARY:Bulls vs Wolves
DESCRIPTION:5-6 | Soccer\nIndian Land YMCA\n
URL;VALUE=URI:https://ygametime.com/branch/indianland/sports/2026-spring-soccer/25526/?utm_medium=calendar&utm_source=team_cal&utm_content=league_url#game-591334
LOCATION:Field 3
BEGIN:VALARM
TRIGGER:-P2H
ACTION:DISPLAY
DESCRIPTION:Bulls vs Wolves
END:VALARM
END:VEVENT
BEGIN:VEVENT
UID:indianland-591338@ygametime.com
DTSTAMP:20260502T150000Z
DTSTART;TZID=America/New_York:20260502T110000
DURATION:PT0H60M0S
SUMMARY:Bulls vs Eagles
DESCRIPTION:5-6 | Soccer\nIndian Land YMCA\n
URL;VALUE=URI:https://ygametime.com/branch/indianland/sports/2026-spring-soccer/25526/?utm_medium=calendar&utm_source=team_cal&utm_content=league_url#game-591338
LOCATION:Field 3
BEGIN:VALARM
TRIGGER:-P2H
ACTION:DISPLAY
DESCRIPTION:Bulls vs Eagles
END:VALARM
END:VEVENT
END:VCALENDAR

