BEGIN:VCALENDAR
VERSION:2.0
PRODID:-//YGAMETIME.com//YGT iCal Creator//EN
METHOD:PUBLISH
X-PUBLISHED-TTL:PT6H
REFRESH-INTERVAL;VALUE=DURATION:PT6H
CALSCALE:GREGORIAN
X-WR-CALNAME:YGAMETIME CALENDAR
BEGIN:VTIMEZONE
TZID:America/New_York
X-LIC-LOCATION:America/New_York
BEGIN:DAYLIGHT
TZOFFSETFROM:-0500
TZOFFSETTO:-0400
TZNAME:EDT
DTSTART:19700308T020000
RRULE:FREQ=YEARLY;BYMONTH=3;BYDAY=2SU
END:DAYLIGHT
BEGIN:STANDARD
TZOFFSETFROM:-0400
TZOFFSETTO:-0500
TZNAME:EST
DTSTART:19701101T020000
RRULE:FREQ=YEARLY;BYMONTH=11;BYDAY=1SU
END:STANDARD
END:VTIMEZONE
BEGIN:VEVENT
UID:indianland-591383@ygametime.com
DTSTAMP:20260314T133000Z
DTSTART;TZID=America/New_York:20260314T093000
DURATION:PT0H60M0S
SUMMARY:United vs Hotspurs
DESCRIPTION:9-10 | Soccer\nIndian Land YMCA\n
URL;VALUE=URI:https://ygametime.com/branch/indianland/sports/2026-spring-soccer/25528/?utm_medium=calendar&utm_source=team_cal&utm_content=league_url#game-591383
LOCATION:Field 2
BEGIN:VALARM
TRIGGER:-P2H
ACTION:DISPLAY
DESCRIPTION:United vs Hotspurs
END:VALARM
END:VEVENT
BEGIN:VEVENT
UID:indianland-591388@ygametime.com
DTSTAMP:20260321T153000Z
DTSTART;TZID=America/New_York:20260321T113000
DURATION:PT0H60M0S
SUMMARY:NY Red Bulls vs United
DESCRIPTION:9-10 | Soccer\nIndian Land YMCA\n
URL;VALUE=URI:https://ygametime.com/branch/indianland/sports/2026-spring-soccer/25528/?utm_medium=calendar&utm_source=team_cal&utm_content=league_url#game-591388
LOCATION:Field 2
BEGIN:VALARM
TRIGGER:-P2H
ACTION:DISPLAY
DESCRIPTION:NY Red Bulls vs United
END:VALARM
END:VEVENT
BEGIN:VEVENT
UID:indianland-591389@ygametime.com
DTSTAMP:20260328T133000Z
DTSTART;TZID=America/New_York:20260328T093000
DURATION:PT0H60M0S
SUMMARY:United vs The Crew
DESCRIPTION:9-10 | Soccer\nIndian Land YMCA\n
URL;VALUE=URI:https://ygametime.com/branch/indianland/sports/2026-spring-soccer/25528/?utm_medium=calendar&utm_source=team_cal&utm_content=league_url#game-591389
LOCATION:Field 2
BEGIN:VALARM
TRIGGER:-P2H
ACTION:DISPLAY
DESCRIPTION:United vs The Crew
END:VALARM
END:VEVENT
BEGIN:VEVENT
UID:indianland-591394@ygametime.com
DTSTAMP:20260404T153000Z
DTSTART;TZID=America/New_York:20260404T113000
DURATION:PT0H60M0S
SUMMARY:Hornets vs United
DESCRIPTION:9-10 | Soccer\nIndian Land YMCA\n
URL;VALUE=URI:https://ygametime.com/branch/indianland/sports/2026-spring-soccer/25528/?utm_medium=calendar&utm_source=team_cal&utm_content=league_url#game-591394
LOCATION:Field 2
BEGIN:VALARM
TRIGGER:-P2H
ACTION:DISPLAY
DESCRIPTION:Hornets vs United
END:VALARM
END:VEVENT
BEGIN:VEVENT
UID:indianland-591399@ygametime.com
DTSTAMP:20260418T143000Z
DTSTART;TZID=America/New_York:20260418T103000
DURATION:PT0H60M0S
SUMMARY:United vs Steelers 
DESCRIPTION:9-10 | Soccer\nIndian Land YMCA\n
URL;VALUE=URI:https://ygametime.com/branch/indianland/sports/2026-spring-soccer/25528/?utm_medium=calendar&utm_source=team_cal&utm_content=league_url#game-591399
LOCATION:Field 2
BEGIN:VALARM
TRIGGER:-P2H
ACTION:DISPLAY
DESCRIPTION:United vs Steelers 
END:VALARM
END:VEVENT
BEGIN:VEVENT
UID:indianland-591401@ygametime.com
DTSTAMP:20260425T133000Z
DTSTART;TZID=America/New_York:20260425T093000
DURATION:PT0H60M0S
SUMMARY:United vs Steelers 
DESCRIPTION:9-10 | Soccer\nIndian Land YMCA\n1v4
URL;VALUE=URI:https://ygametime.com/branch/indianland/sports/2026-spring-soccer/25528/?utm_medium=calendar&utm_source=team_cal&utm_content=league_url#game-591401
LOCATION:Field 2
BEGIN:VALARM
TRIGGER:-P2H
ACTION:DISPLAY
DESCRIPTION:United vs Steelers 
END:VALARM
END:VEVENT
END:VCALENDAR

