BEGIN:VCALENDAR
VERSION:2.0
PRODID:-//YGAMETIME.com//YGT iCal Creator//EN
METHOD:PUBLISH
X-PUBLISHED-TTL:PT6H
REFRESH-INTERVAL;VALUE=DURATION:PT6H
CALSCALE:GREGORIAN
X-WR-CALNAME:YGAMETIME CALENDAR
BEGIN:VTIMEZONE
TZID:America/New_York
X-LIC-LOCATION:America/New_York
BEGIN:DAYLIGHT
TZOFFSETFROM:-0500
TZOFFSETTO:-0400
TZNAME:EDT
DTSTART:19700308T020000
RRULE:FREQ=YEARLY;BYMONTH=3;BYDAY=2SU
END:DAYLIGHT
BEGIN:STANDARD
TZOFFSETFROM:-0400
TZOFFSETTO:-0500
TZNAME:EST
DTSTART:19701101T020000
RRULE:FREQ=YEARLY;BYMONTH=11;BYDAY=1SU
END:STANDARD
END:VTIMEZONE
BEGIN:VEVENT
UID:indianland-591385@ygametime.com
DTSTAMP:20260314T153000Z
DTSTART;TZID=America/New_York:20260314T113000
DURATION:PT0H60M0S
SUMMARY:Steelers  vs NY Red Bulls
DESCRIPTION:9-10 | Soccer\nIndian Land YMCA\n
URL;VALUE=URI:https://ygametime.com/branch/indianland/sports/2026-spring-soccer/25528/?utm_medium=calendar&utm_source=team_cal&utm_content=league_url#game-591385
LOCATION:Field 2
BEGIN:VALARM
TRIGGER:-P2H
ACTION:DISPLAY
DESCRIPTION:Steelers  vs NY Red Bulls
END:VALARM
END:VEVENT
BEGIN:VEVENT
UID:indianland-591388@ygametime.com
DTSTAMP:20260321T153000Z
DTSTART;TZID=America/New_York:20260321T113000
DURATION:PT0H60M0S
SUMMARY:NY Red Bulls vs United
DESCRIPTION:9-10 | Soccer\nIndian Land YMCA\n
URL;VALUE=URI:https://ygametime.com/branch/indianland/sports/2026-spring-soccer/25528/?utm_medium=calendar&utm_source=team_cal&utm_content=league_url#game-591388
LOCATION:Field 2
BEGIN:VALARM
TRIGGER:-P2H
ACTION:DISPLAY
DESCRIPTION:NY Red Bulls vs United
END:VALARM
END:VEVENT
BEGIN:VEVENT
UID:indianland-591390@ygametime.com
DTSTAMP:20260328T143000Z
DTSTART;TZID=America/New_York:20260328T103000
DURATION:PT0H60M0S
SUMMARY:NY Red Bulls vs Hotspurs
DESCRIPTION:9-10 | Soccer\nIndian Land YMCA\n
URL;VALUE=URI:https://ygametime.com/branch/indianland/sports/2026-spring-soccer/25528/?utm_medium=calendar&utm_source=team_cal&utm_content=league_url#game-591390
LOCATION:Field 2
BEGIN:VALARM
TRIGGER:-P2H
ACTION:DISPLAY
DESCRIPTION:NY Red Bulls vs Hotspurs
END:VALARM
END:VEVENT
BEGIN:VEVENT
UID:indianland-591393@ygametime.com
DTSTAMP:20260404T143000Z
DTSTART;TZID=America/New_York:20260404T103000
DURATION:PT0H60M0S
SUMMARY:The Crew vs NY Red Bulls
DESCRIPTION:9-10 | Soccer\nIndian Land YMCA\n
URL;VALUE=URI:https://ygametime.com/branch/indianland/sports/2026-spring-soccer/25528/?utm_medium=calendar&utm_source=team_cal&utm_content=league_url#game-591393
LOCATION:Field 2
BEGIN:VALARM
TRIGGER:-P2H
ACTION:DISPLAY
DESCRIPTION:The Crew vs NY Red Bulls
END:VALARM
END:VEVENT
BEGIN:VEVENT
UID:indianland-591398@ygametime.com
DTSTAMP:20260418T133000Z
DTSTART;TZID=America/New_York:20260418T093000
DURATION:PT0H60M0S
SUMMARY:Hornets vs NY Red Bulls
DESCRIPTION:9-10 | Soccer\nIndian Land YMCA\n
URL;VALUE=URI:https://ygametime.com/branch/indianland/sports/2026-spring-soccer/25528/?utm_medium=calendar&utm_source=team_cal&utm_content=league_url#game-591398
LOCATION:Field 2
BEGIN:VALARM
TRIGGER:-P2H
ACTION:DISPLAY
DESCRIPTION:Hornets vs NY Red Bulls
END:VALARM
END:VEVENT
BEGIN:VEVENT
UID:indianland-591403@ygametime.com
DTSTAMP:20260425T153000Z
DTSTART;TZID=America/New_York:20260425T113000
DURATION:PT0H60M0S
SUMMARY:NY Red Bulls vs Hornets
DESCRIPTION:9-10 | Soccer\nIndian Land YMCA\nconsolation
URL;VALUE=URI:https://ygametime.com/branch/indianland/sports/2026-spring-soccer/25528/?utm_medium=calendar&utm_source=team_cal&utm_content=league_url#game-591403
LOCATION:Field 2
BEGIN:VALARM
TRIGGER:-P2H
ACTION:DISPLAY
DESCRIPTION:NY Red Bulls vs Hornets
END:VALARM
END:VEVENT
END:VCALENDAR

